{"text_format":"1","workbook":"xlsx","n_sheets":15,"sheets":["Data","2 samples t test","XLSTAT_20230912_163446_1_HID2","XLSTAT_20230912_163446_1_HID1","XLSTAT_20230912_163446_1_HID","Test t et z (2 échant.)_HID","Test t et z (2 échant.)_HID1","2 samples t test_HID","2 samples t test_HID1","Prueba t (2 muestras)_HID","Prueba t (2 muestras)_HID1","2 samples t test1_HID","2 samples t test1_HID1","2 samples t test1_HID2","2 samples t test1_HID3"],"not_rendered":{"charts":6,"images":5,"macros":1,"external_links":2,"defined_names":20,"comments":0,"pivot_tables":0},"unopened":[],"bounds":{"document_bytes":16777216,"sheet_cells":100000,"rows_first":2000,"rows_last":500,"rows_between":2000,"halvings":0,"cell_chars":16384,"cell_head_chars":4096},"cells_cut":0,"cells_raw":0,"read":"whole","date_system":"1900"}

{"sheet":"Data","index":0,"n_rows":25,"n_cols":3,"rows_kept":25,"cut":false,"hidden":false,"merged":[]}
[null,"dv0","dv6"]
["Patient 1",296,175]
["Patient 2",376,329]
["Patient 3",309,238]
["Patient 4",222,60]
["Patient 5",150,271]
["Patient 6",316,291]
["Patient 7",321,364]
["Patient 8",447,402]
["Patient 9",220,70]
["Patient 10",375,335]
["Patient 11",310,300]
["Patient 12",310,245]
["Patient 13",282,186]
["Patient 14",317,31]
["Patient 15",362,104]
["Patient 16",338,132]
["Patient 17",263,94]
["Patient 18",138,38]
["Patient 19",329,62]
["Patient 20",292,139]
["Patient 21",275,94]
["Patient 22",150,48]
["Patient 23",319,68]
["Patient 24",300,138]

{"sheet":"2 samples t test","index":1,"n_rows":196,"n_cols":9,"rows_kept":196,"cut":false,"hidden":false,"merged":[[27,1,28,9],[40,1,41,9],[60,1,61,9]]}
[null,"XLSTAT 2023.2.0.1411 - Two-sample t-test and z-test - Start time: 12/09/2023 at 16:34:48 / End time: 12/09/2023 at 16:34:50 / Microsoft Excel 16.016731"]
[null,"Sample 1: Workbook = demoPairedt_EN.xls / Sheet = Data / Range = 'Data'!$B:$B / 24 rows and 1 column"]
[null,"Sample 2: Workbook = demoPairedt_EN.xls / Sheet = Data / Range = 'Data'!$C:$C / 24 rows and 1 column"]
[null,"Hypothesized difference (D): 0"]
[null,"Significance level (%): 5"]
[]
[]
[]
[]
[null,"Summary statistics:"]
[]
[null,"Variable","Observations","Obs. with missing data","Obs. without missing data","Minimum","Maximum","Mean","Std. deviation"]
[null,"dv0",24,0,24,138,447,292.375,73.867573929707945]
[null,"dv6",24,0,24,31,402,175.58333333333334,116.21266737310101]
[]
[]
[null,"Normality test:"]
[]
[null,"Shapiro-Wilk test (dv0):"]
[]
[null,"W",0.9238299175630218]
[null,"p-value (Two-tailed)",7.1018805556201992E-2]
[null,"alpha",0.05]
[]
[null,"Test interpretation:"]
[null,"H0: The residuals follow a Normal distribution."]
[null,"Ha: The residuals do not follow a Normal distribution."]
[null,"As the computed p-value is greater than the significance level alpha=0,05, one cannot reject the null hypothesis H0."]
[]
[]
[]
[null,"Shapiro-Wilk test (dv6):"]
[]
[null,"W",0.91281799185358137]
[null,"p-value (Two-tailed)",4.0617443007624709E-2]
[null,"alpha",0.05]
[]
[null,"Test interpretation:"]
[null,"H0: The residuals follow a Normal distribution."]
[null,"Ha: The residuals do not follow a Normal distribution."]
[null,"As the computed p-value is lower than the significance level alpha=0,05, one should reject the null hypothesis H0, and accept the alternative hypothesis Ha."]
[]
[]
[]
[null,"t-test for two paired samples / Two-tailed test:"]
[]
[null,"95% confidence interval on the difference between the means:"]
[null,74.198497248930082,159.38483608440328]
[]
[null,"Difference",116.79166666666667]
[null,"t (Observed value)",5.6723172605456593]
[null,"|t| (Critical value)",2.0686576102995882]
[null,"DF",23]
[null,"p-value (Two-tailed)",8.9452457212590986E-6]
[null,"alpha",0.05]
[null,"The number of degrees of freedom is approximated by the Welch-Satterthwaite formula"]
[]
[null,"Test interpretation:"]
[null,"H0: The difference between the means is equal to 0."]
[null,"Ha: The difference between the means is different from 0."]
[null,"As the computed p-value is lower than the significance level alpha=0,05, one should reject the null hypothesis H0, and accept the alternative hypothesis Ha."]
[]
[]
[]
[]
[]
[]
[]
[]
[]
[]
[]
[]
[]
[]
[]
[]
[]
[]
[]
[]
[]
[]
[null,null,null,null,null,null," "]
[]
[]
[null,"Dominance diagram(dv0):"]
[]
[]
[]
[]
[]
[]
[]
[]
[]
[]
[]
[]
[]
[]
[]
[]
[]
[]
[]
[]
[null,null,null,null,null,null," "]
[]
[]
[]
[]
[]
[]
[]
[]
[]
[]
[]
[]
[]
[]
[]
[]
[]
[]
[]
[]
[]
[null,null,null,null,null,null," "]
[]
[]
[]
[]
[]
[]
[]
[]
[]
[]
[]
[]
[]
[]
[]
[]
[]
[]
[]
[]
[]
[null,null,null,null,null,null," "]
[]
[]
[]
[]
[]
[]
[]
[]
[]
[]
[]
[]
[]
[]
[]
[]
[]
[]
[]
[]
[]
[null,null,null,null,null,null," "]
[]
[]
[]
[]
[]
[]
[]
[]
[]
[]
[]
[]
[]
[]
[]
[]
[]
[]
[]
[]
[]
[null,null,null,null,null,null," "]

{"sheet":"XLSTAT_20230912_163446_1_HID2","index":2,"n_rows":48,"n_cols":4,"rows_kept":48,"cut":false,"hidden":true,"merged":[]}
[0.85,138,1.85,31]
[1.1499999999999999,138,2.15,31]
[0.85,150,1.85,38]
[1.1499999999999999,150,2.15,38]
[0.85,150,1.85,48]
[1.1499999999999999,150,2.15,48]
[0.85,220,1.85,60]
[1.1499999999999999,220,2.15,60]
[0.85,222,1.85,62]
[1.1499999999999999,222,2.15,62]
[0.85,263,1.85,68]
[1.1499999999999999,263,2.15,68]
[0.85,275,1.85,70]
[1.1499999999999999,275,2.15,70]
[0.85,282,1.85,94]
[1.1499999999999999,282,2.15,94]
[0.85,292,1.85,94]
[1.1499999999999999,292,2.15,94]
[0.85,296,1.85,104]
[1.1499999999999999,296,2.15,104]
[0.85,300,1.85,132]
[1.1499999999999999,300,2.15,132]
[0.85,309,1.85,138]
[1.1499999999999999,309,2.15,138]
[0.85,310,1.85,139]
[1.1499999999999999,310,2.15,139]
[0.85,310,1.85,175]
[1.1499999999999999,310,2.15,175]
[0.85,316,1.85,186]
[1.1499999999999999,316,2.15,186]
[0.85,317,1.85,238]
[1.1499999999999999,317,2.15,238]
[0.85,319,1.85,245]
[1.1499999999999999,319,2.15,245]
[0.85,321,1.85,271]
[1.1499999999999999,321,2.15,271]
[0.85,329,1.85,291]
[1.1499999999999999,329,2.15,291]
[0.85,338,1.85,300]
[1.1499999999999999,338,2.15,300]
[0.85,362,1.85,329]
[1.1499999999999999,362,2.15,329]
[0.85,375,1.85,335]
[1.1499999999999999,375,2.15,335]
[0.85,376,1.85,364]
[1.1499999999999999,376,2.15,364]
[0.85,447,1.85,402]
[1.1499999999999999,447,2.15,402]

{"sheet":"XLSTAT_20230912_163446_1_HID1","index":3,"n_rows":24,"n_cols":4,"rows_kept":24,"cut":false,"hidden":true,"merged":[]}
[1,138,2,31]
[0.94,150,1.8,38]
[1.06,150,2.2000000000000002,48]
[1.04,220,1.8666666666666667,60]
[0.96,222,2.1333333333333333,62]
[1.08,263,1.9333333333333333,68]
[0.92,275,2.0666666666666669,70]
[1.0266666666666666,282,2,94]
[0.97333333333333338,292,1.9142857142857144,94]
[1.2,296,2.0857142857142859,104]
[0.8,300,2,132]
[1.1555555555555557,309,1.9142857142857144,138]
[0.84444444444444444,310,2.0857142857142859,139]
[1.1111111111111112,310,2.0571428571428569,175]
[0.88888888888888884,316,1.9428571428571428,186]
[1.0666666666666667,317,2.0571428571428569,238]
[0.93333333333333335,319,1.9428571428571428,245]
[1.0222222222222221,321,2,271]
[0.97777777777777775,329,1.9142857142857144,291]
[1.04,338,2.0857142857142859,300]
[0.96,362,2.0571428571428569,329]
[1.04,375,1.9428571428571428,335]
[0.96,376,2.0571428571428569,364]
[1,447,1.9428571428571428,402]

{"sheet":"XLSTAT_20230912_163446_1_HID","index":4,"n_rows":576,"n_cols":16,"rows_kept":576,"cut":false,"hidden":true,"merged":[]}
[1,{"$f":"IF(-1^(INT(A1/2)+2)>0,2.0686576103+2*INT(A1/2-1/2)*0.0046930942,51)","v":2.0686576102999998},{"$f":"2.0686576103+2*INT(A1/2-1/2)*0.0046930942","v":2.0686576102999998},{"$f":"[2]!XLSTAT_PDFStudent(B1,23)","v":5.0923455034241401E-2},1,{"$f":"IF(-1^(INT(E1/2)+2)>0,-4.4152046947+2*INT(E1/2-1/2)*0.0046930942,51)","v":-4.4152046946999999},{"$f":"-4.4152046947+2*INT(E1/2-1/2)*0.0046930942","v":-4.4152046946999999},{"$f":"[2]!XLSTAT_PDFStudent(F1,23)","v":2.494535229177588E-4},1,null,{"$f":"-4.4152046947+(I1-1)*0.0176962112","v":-4.4152046946999999},{"$f":"[2]!XLSTAT_PDFStudent(K1,23)","v":2.494535229177588E-4},1,null,{"$f":"M1-24*INT((-1/2+M1)/24)","v":1},{"$f":"1+INT((M1-1/2)/24)","v":1}]
[2,51,2.0686576102999998,{"$f":"[2]!XLSTAT_PDFStudent(B2,23)","v":8.1163173797967258E-26},2,51,-4.4152046946999999,{"$f":"[2]!XLSTAT_PDFStudent(F2,23)","v":8.1163173797967258E-26},2,null,-4.3975084835000002,{"$f":"[2]!XLSTAT_PDFStudent(K2,23)","v":2.607059680844278E-4},2,null,2,1]
[3,51,2.0780437987,{"$f":"[2]!XLSTAT_PDFStudent(B3,23)","v":8.1163173797967258E-26},3,51,-4.4058185063000002,{"$f":"[2]!XLSTAT_PDFStudent(F3,23)","v":8.1163173797967258E-26},3,null,-4.3798122722999997,{"$f":"[2]!XLSTAT_PDFStudent(K3,23)","v":2.7246180930731641E-4},3,null,3,1]
[4,2.0780437987,2.0780437987,{"$f":"[2]!XLSTAT_PDFStudent(B4,23)","v":5.005960639144335E-2},4,-4.4058185063000002,-4.4058185063000002,{"$f":"[2]!XLSTAT_PDFStudent(F4,23)","v":2.5536051753137701E-4},4,null,-4.3621160611000001,{"$f":"[2]!XLSTAT_PDFStudent(K4,23)","v":2.8474315767749829E-4},4,null,4,1]
[5,2.0874299870999997,2.0874299870999997,{"$f":"[2]!XLSTAT_PDFStudent(B5,23)","v":4.9207807159813391E-2},5,-4.3964323178999996,-4.3964323178999996,{"$f":"[2]!XLSTAT_PDFStudent(F5,23)","v":2.6140628544746872E-4},5,null,-4.3444198498999995,{"$f":"[2]!XLSTAT_PDFStudent(K5,23)","v":2.9757306445688474E-4},5,null,5,1]
[6,51,2.0874299870999997,{"$f":"[2]!XLSTAT_PDFStudent(B6,23)","v":8.1163173797967258E-26},6,51,-4.3964323178999996,{"$f":"[2]!XLSTAT_PDFStudent(F6,23)","v":8.1163173797967258E-26},6,null,-4.3267236386999999,{"$f":"[2]!XLSTAT_PDFStudent(K6,23)","v":3.1097555893252896E-4},6,null,6,1]
[7,51,2.0968161754999999,{"$f":"[2]!XLSTAT_PDFStudent(B7,23)","v":8.1163173797967258E-26},7,51,-4.3870461294999998,{"$f":"[2]!XLSTAT_PDFStudent(F7,23)","v":8.1163173797967258E-26},7,null,-4.3090274275000002,{"$f":"[2]!XLSTAT_PDFStudent(K7,23)","v":3.2497568765746534E-4},7,null,7,1]
[8,2.0968161754999999,2.0968161754999999,{"$f":"[2]!XLSTAT_PDFStudent(B8,23)","v":4.8367954366809345E-2},8,-4.3870461294999998,-4.3870461294999998,{"$f":"[2]!XLSTAT_PDFStudent(F8,23)","v":2.6759403006664314E-4},8,null,-4.2913312162999997,{"$f":"[2]!XLSTAT_PDFStudent(K8,23)","v":3.3959955512015606E-4},8,null,8,1]
[9,2.1062023639,2.1062023639,{"$f":"[2]!XLSTAT_PDFStudent(B9,23)","v":4.7539944260008418E-2},9,-4.3776599411000001,-4.3776599411000001,{"$f":"[2]!XLSTAT_PDFStudent(F9,23)","v":2.7392702647222028E-4},9,null,-4.2736350051000001,{"$f":"[2]!XLSTAT_PDFStudent(K9,23)","v":3.5487436588532375E-4},9,null,9,1]
[10,51,2.1062023639,{"$f":"[2]!XLSTAT_PDFStudent(B10,23)","v":8.1163173797967258E-26},10,51,-4.3776599411000001,{"$f":"[2]!XLSTAT_PDFStudent(F10,23)","v":8.1163173797967258E-26},10,null,-4.2559387938999995,{"$f":"[2]!XLSTAT_PDFStudent(K10,23)","v":3.7082846824965852E-4},10,null,10,1]
[11,51,2.1155885522999998,{"$f":"[2]!XLSTAT_PDFStudent(B11,23)","v":8.1163173797967258E-26},11,51,-4.3682737526999995,{"$f":"[2]!XLSTAT_PDFStudent(F11,23)","v":8.1163173797967258E-26},11,null,-4.2382425826999999,{"$f":"[2]!XLSTAT_PDFStudent(K11,23)","v":3.874913994565103E-4},11,null,11,1]
[12,2.1155885522999998,2.1155885522999998,{"$f":"[2]!XLSTAT_PDFStudent(B12,23)","v":4.6723672360449636E-2},12,-4.3682737526999995,-4.3682737526999995,{"$f":"[2]!XLSTAT_PDFStudent(F12,23)","v":2.8040862295298266E-4},12,null,-4.2205463715000002,{"$f":"[2]!XLSTAT_PDFStudent(K12,23)","v":4.0489393251434192E-4},12,null,12,1]
[13,2.1249747406999999,2.1249747406999999,{"$f":"[2]!XLSTAT_PDFStudent(B13,23)","v":4.5919033515012517E-2},13,-4.3588875642999998,-4.3588875642999998,{"$f":"[2]!XLSTAT_PDFStudent(F13,23)","v":2.8704224255551034E-4},13,null,-4.2028501602999997,{"$f":"[2]!XLSTAT_PDFStudent(K13,23)","v":4.2306812466425355E-4},13,null,13,1]
[14,51,2.1249747406999999,{"$f":"[2]!XLSTAT_PDFStudent(B14,23)","v":8.1163173797967258E-26},14,51,-4.3588875642999998,{"$f":"[2]!XLSTAT_PDFStudent(F14,23)","v":8.1163173797967258E-26},14,null,-4.1851539491,{"$f":"[2]!XLSTAT_PDFStudent(K14,23)","v":4.4204736754245127E-4},14,null,14,1]
[15,51,2.1343609290999996,{"$f":"[2]!XLSTAT_PDFStudent(B15,23)","v":8.1163173797967258E-26},15,51,-4.3495013759000001,{"$f":"[2]!XLSTAT_PDFStudent(F15,23)","v":8.1163173797967258E-26},15,null,-4.1674577378999995,{"$f":"[2]!XLSTAT_PDFStudent(K15,23)","v":4.618664390840474E-4},15,null,15,1]
[16,2.1343609290999996,2.1343609290999996,{"$f":"[2]!XLSTAT_PDFStudent(B16,23)","v":4.5125921947827149E-2},16,-4.3495013759000001,-4.3495013759000001,{"$f":"[2]!XLSTAT_PDFStudent(F16,23)","v":2.9383138466657793E-4},16,null,-4.1497615266999999,{"$f":"[2]!XLSTAT_PDFStudent(K16,23)","v":4.8256155721492145E-4},16,null,16,1]
[17,2.1437471174999998,2.1437471174999998,{"$f":"[2]!XLSTAT_PDFStudent(B17,23)","v":4.4344231310712877E-2},17,-4.3401151874999995,-4.3401151874999995,{"$f":"[2]!XLSTAT_PDFStudent(F17,23)","v":3.0077962662610136E-4},17,null,-4.1320653155000002,{"$f":"[2]!XLSTAT_PDFStudent(K17,23)","v":5.0417043537887777E-4},17,null,17,1]
[18,51,2.1437471174999998,{"$f":"[2]!XLSTAT_PDFStudent(B18,23)","v":8.1163173797967258E-26},18,51,-4.3401151874999995,{"$f":"[2]!XLSTAT_PDFStudent(F18,23)","v":8.1163173797967258E-26},18,null,-4.1143691042999997,{"$f":"[2]!XLSTAT_PDFStudent(K18,23)","v":5.267323399475004E-4},18,null,18,1]
[19,51,2.1531333059,{"$f":"[2]!XLSTAT_PDFStudent(B19,23)","v":8.1163173797967258E-26},19,51,-4.3307289990999998,{"$f":"[2]!XLSTAT_PDFStudent(F19,23)","v":8.1163173797967258E-26},19,null,-4.0966728931,{"$f":"[2]!XLSTAT_PDFStudent(K19,23)","v":5.5028814956045605E-4},19,null,19,1]
[20,2.1531333059,2.1531333059,{"$f":"[2]!XLSTAT_PDFStudent(B20,23)","v":4.3573854732642366E-2},20,-4.3307289990999998,-4.3307289990999998,{"$f":"[2]!XLSTAT_PDFStudent(F20,23)","v":3.0789062537111379E-4},20,null,-4.0789766818999995,{"$f":"[2]!XLSTAT_PDFStudent(K20,23)","v":5.7488041644412208E-4},20,null,20,1]
[21,2.1625194942999997,2.1625194942999997,{"$f":"[2]!XLSTAT_PDFStudent(B21,23)","v":4.2814684868229501E-2},21,-4.3213428107,-4.3213428107,{"$f":"[2]!XLSTAT_PDFStudent(F21,23)","v":3.1516811911129787E-4},21,null,-4.0612804706999999,{"$f":"[2]!XLSTAT_PDFStudent(K21,23)","v":6.005534297564175E-4},21,null,21,1]
[22,51,2.1625194942999997,{"$f":"[2]!XLSTAT_PDFStudent(B22,23)","v":8.1163173797967258E-26},22,51,-4.3213428107,{"$f":"[2]!XLSTAT_PDFStudent(F22,23)","v":8.1163173797967258E-26},22,null,-4.0435842595000002,{"$f":"[2]!XLSTAT_PDFStudent(K22,23)","v":6.2735328100585572E-4},22,null,22,1]
[23,51,2.1719056826999998,{"$f":"[2]!XLSTAT_PDFStudent(B23,23)","v":8.1163173797967258E-26},23,51,-4.3119566223000003,{"$f":"[2]!XLSTAT_PDFStudent(F23,23)","v":8.1163173797967258E-26},23,null,-4.0258880482999997,{"$f":"[2]!XLSTAT_PDFStudent(K23,23)","v":6.5532793159254793E-4},23,null,23,1]
[24,2.1719056826999998,2.1719056826999998,{"$f":"[2]!XLSTAT_PDFStudent(B24,23)","v":4.2066613945238591E-2},24,-4.3119566223000003,-4.3119566223000003,{"$f":"[2]!XLSTAT_PDFStudent(F24,23)","v":3.2261592903653482E-4},24,null,-4.0081918371,{"$f":"[2]!XLSTAT_PDFStudent(K24,23)","v":6.8452728251879936E-4},24,null,24,1]
[25,2.1812918711,2.1812918711,{"$f":"[2]!XLSTAT_PDFStudent(B25,23)","v":4.1329533811116217E-2},25,-4.3025704338999997,-4.3025704338999997,{"$f":"[2]!XLSTAT_PDFStudent(F25,23)","v":3.3023796105701445E-4},25,null,-3.9904956259,{"$f":"[2]!XLSTAT_PDFStudent(K25,23)","v":7.1500324631655317E-4},25,null,1,2]
[26,51,2.1812918711,{"$f":"[2]!XLSTAT_PDFStudent(B26,23)","v":8.1163173797967258E-26},26,51,-4.3025704338999997,{"$f":"[2]!XLSTAT_PDFStudent(F26,23)","v":8.1163173797967258E-26},26,null,-3.9727994146999999,{"$f":"[2]!XLSTAT_PDFStudent(K26,23)","v":7.4680982123848626E-4},26,null,2,2]
[27,51,2.1906780594999997,{"$f":"[2]!XLSTAT_PDFStudent(B27,23)","v":8.1163173797967258E-26},27,51,-4.2931842455,{"$f":"[2]!XLSTAT_PDFStudent(F27,23)","v":8.1163173797967258E-26},27,null,-3.9551032034999998,{"$f":"[2]!XLSTAT_PDFStudent(K27,23)","v":7.8000316775896159E-4},27,null,3,2]
[28,2.1906780594999997,2.1906780594999997,{"$f":"[2]!XLSTAT_PDFStudent(B28,23)","v":4.0603335978543785E-2},28,-4.2931842455,-4.2931842455,{"$f":"[2]!XLSTAT_PDFStudent(F28,23)","v":3.3803820757638087E-4},28,null,-3.9374069922999997,{"$f":"[2]!XLSTAT_PDFStudent(K28,23)","v":8.1464168743038275E-4},28,null,4,2]
[29,2.2000642478999999,2.2000642478999999,{"$f":"[2]!XLSTAT_PDFStudent(B29,23)","v":3.9887911670012113E-2},29,-4.2837980571000003,-4.2837980571000003,{"$f":"[2]!XLSTAT_PDFStudent(F29,23)","v":3.4602074929846144E-4},29,null,-3.9197107811,{"$f":"[2]!XLSTAT_PDFStudent(K29,23)","v":8.5078610413952217E-4},29,null,5,2]
[30,51,2.2000642478999999,{"$f":"[2]!XLSTAT_PDFStudent(B30,23)","v":8.1163173797967258E-26},30,51,-4.2837980571000003,{"$f":"[2]!XLSTAT_PDFStudent(F30,23)","v":8.1163173797967258E-26},30,null,-3.9020145699,{"$f":"[2]!XLSTAT_PDFStudent(K30,23)","v":8.8849954780748346E-4},30,null,6,2]
[31,51,2.2094504363,{"$f":"[2]!XLSTAT_PDFStudent(B31,23)","v":8.1163173797967258E-26},31,51,-4.2744118686999997,{"$f":"[2]!XLSTAT_PDFStudent(F31,23)","v":8.1163173797967258E-26},31,null,-3.8843183586999999,{"$f":"[2]!XLSTAT_PDFStudent(K31,23)","v":9.2784764057562009E-4},31,null,7,2]
[32,2.2094504363,2.2094504363,{"$f":"[2]!XLSTAT_PDFStudent(B32,23)","v":3.9183151861420351E-2},32,-4.2744118686999997,-4.2744118686999997,{"$f":"[2]!XLSTAT_PDFStudent(F32,23)","v":3.5418975706807271E-4},32,null,-3.8666221474999998,{"$f":"[2]!XLSTAT_PDFStudent(K32,23)","v":9.6889858551852358E-4},32,null,8,2]
[33,2.2188366246999998,2.2188366246999998,{"$f":"[2]!XLSTAT_PDFStudent(B33,23)","v":3.8488947324699298E-2},33,-4.2650256803,-4.2650256803,{"$f":"[2]!XLSTAT_PDFStudent(F33,23)","v":3.625494937464305E-4},33,null,-3.8489259362999997,{"$f":"[2]!XLSTAT_PDFStudent(K33,23)","v":1.0117232579234703E-3},33,null,9,2]
[34,51,2.2188366246999998,{"$f":"[2]!XLSTAT_PDFStudent(B34,23)","v":8.1163173797967258E-26},34,51,-4.2650256803,{"$f":"[2]!XLSTAT_PDFStudent(F34,23)","v":8.1163173797967258E-26},34,null,-3.8312297251,{"$f":"[2]!XLSTAT_PDFStudent(K34,23)","v":1.0563952991740394E-3},34,null,10,2]
[35,51,2.2282228130999999,{"$f":"[2]!XLSTAT_PDFStudent(B35,23)","v":8.1163173797967258E-26},35,51,-4.2556394919000002,{"$f":"[2]!XLSTAT_PDFStudent(F35,23)","v":8.1163173797967258E-26},35,null,-3.8135335138999999,{"$f":"[2]!XLSTAT_PDFStudent(K35,23)","v":1.1029912132736333E-3},35,null,11,2]
[36,2.2282228130999999,2.2282228130999999,{"$f":"[2]!XLSTAT_PDFStudent(B36,23)","v":3.7805188669462871E-2},36,-4.2556394919000002,-4.2556394919000002,{"$f":"[2]!XLSTAT_PDFStudent(F36,23)","v":3.7110431612170198E-4},36,null,-3.7958373026999999,{"$f":"[2]!XLSTAT_PDFStudent(K36,23)","v":1.1515904660423792E-3},36,null,12,2]
[37,2.2376090014999996,2.2376090014999996,{"$f":"[2]!XLSTAT_PDFStudent(B37,23)","v":3.7131766383690673E-2},37,-4.2462533034999996,-4.2462533034999996,{"$f":"[2]!XLSTAT_PDFStudent(F37,23)","v":3.7985867685521598E-4},37,null,-3.7781410914999998,{"$f":"[2]!XLSTAT_PDFStudent(K37,23)","v":1.2022755870185315E-3},37,null,13,2]
[38,51,2.2376090014999996,{"$f":"[2]!XLSTAT_PDFStudent(B38,23)","v":8.1163173797967258E-26},38,51,-4.2462533034999996,{"$f":"[2]!XLSTAT_PDFStudent(F38,23)","v":8.1163173797967258E-26},38,null,-3.7604448802999997,{"$f":"[2]!XLSTAT_PDFStudent(K38,23)","v":1.2551322740927023E-3},38,null,14,2]
[39,51,2.2469951898999998,{"$f":"[2]!XLSTAT_PDFStudent(B39,23)","v":8.1163173797967258E-26},39,51,-4.2368671150999999,{"$f":"[2]!XLSTAT_PDFStudent(F39,23)","v":8.1163173797967258E-26},39,null,-3.7427486691,{"$f":"[2]!XLSTAT_PDFStudent(K39,23)","v":1.3102495009004317E-3},39,null,15,2]
[40,2.2469951898999998,2.2469951898999998,{"$f":"[2]!XLSTAT_PDFStudent(B40,23)","v":3.6468570873444225E-2},40,-4.2368671150999999,-4.2368671150999999,{"$f":"[2]!XLSTAT_PDFStudent(F40,23)","v":3.888171264638714E-4},40,null,-3.7250524578999999,{"$f":"[2]!XLSTAT_PDFStudent(K40,23)","v":1.3677196269952718E-3},40,null,16,2]
[41,2.2563813783,2.2563813783,{"$f":"[2]!XLSTAT_PDFStudent(B41,23)","v":3.5815492501622408E-2},41,-4.2274809267000002,-4.2274809267000002,{"$f":"[2]!XLSTAT_PDFStudent(F41,23)","v":3.9798431533928305E-4},41,null,-3.7073562466999999,{"$f":"[2]!XLSTAT_PDFStudent(K41,23)","v":1.4276385108211143E-3},41,null,17,2]
[42,51,2.2563813783,{"$f":"[2]!XLSTAT_PDFStudent(B42,23)","v":8.1163173797967258E-26},42,51,-4.2274809267000002,{"$f":"[2]!XLSTAT_PDFStudent(F42,23)","v":8.1163173797967258E-26},42,null,-3.6896600354999998,{"$f":"[2]!XLSTAT_PDFStudent(K42,23)","v":1.4901056254986655E-3},42,null,18,2]
[43,51,2.2657675666999997,{"$f":"[2]!XLSTAT_PDFStudent(B43,23)","v":8.1163173797967258E-26},43,51,-4.2180947382999996,{"$f":"[2]!XLSTAT_PDFStudent(F43,23)","v":8.1163173797967258E-26},43,null,-3.6719638242999997,{"$f":"[2]!XLSTAT_PDFStudent(K43,23)","v":1.5552241774368545E-3},43,null,19,2]
[44,2.2657675666999997,2.2657675666999997,{"$f":"[2]!XLSTAT_PDFStudent(B44,23)","v":3.5172421625760113E-2},44,-4.2180947382999996,-4.2180947382999996,{"$f":"[2]!XLSTAT_PDFStudent(F44,23)","v":4.0736499580419752E-4},44,null,-3.6542676131,{"$f":"[2]!XLSTAT_PDFStudent(K44,23)","v":1.6231012277754776E-3},44,null,20,2]
[45,2.2751537550999998,2.2751537550999998,{"$f":"[2]!XLSTAT_PDFStudent(B45,23)","v":3.4539248634874342E-2},45,-4.2087085498999999,-4.2087085498999999,{"$f":"[2]!XLSTAT_PDFStudent(F45,23)","v":4.1696402420672931E-4},45,null,-3.6365714018999999,{"$f":"[2]!XLSTAT_PDFStudent(K45,23)","v":1.6938478166606461E-3},45,null,21,2]
[46,51,2.2751537550999998,{"$f":"[2]!XLSTAT_PDFStudent(B46,23)","v":8.1163173797967258E-26},46,51,-4.2087085498999999,{"$f":"[2]!XLSTAT_PDFStudent(F46,23)","v":8.1163173797967258E-26},46,null,-3.6188751906999999,{"$f":"[2]!XLSTAT_PDFStudent(K46,23)","v":1.7675790903493602E-3},46,null,22,2]
[47,51,2.2845399435,{"$f":"[2]!XLSTAT_PDFStudent(B47,23)","v":8.1163173797967258E-26},47,51,-4.1993223615000002,{"$f":"[2]!XLSTAT_PDFStudent(F47,23)","v":8.1163173797967258E-26},47,null,-3.6011789794999998,{"$f":"[2]!XLSTAT_PDFStudent(K47,23)","v":1.8444144311340897E-3},47,null,23,2]
[48,2.2845399435,2.2845399435,{"$f":"[2]!XLSTAT_PDFStudent(B48,23)","v":3.3915863985365335E-2},48,-4.1993223615000002,-4.1993223615000002,{"$f":"[2]!XLSTAT_PDFStudent(F48,23)","v":4.2678636305296607E-4},48,null,-3.5834827682999997,{"$f":"[2]!XLSTAT_PDFStudent(K48,23)","v":1.9244775900722835E-3},48,null,24,2]
[49,2.2939261318999997,2.2939261318999997,{"$f":"[2]!XLSTAT_PDFStudent(B49,23)","v":3.3302158235976771E-2},49,-4.1899361730999996,-4.1899361730999996,{"$f":"[2]!XLSTAT_PDFStudent(F49,23)","v":4.3683708317848941E-4},49,null,-3.5657865571,{"$f":"[2]!XLSTAT_PDFStudent(K49,23)","v":2.0078968224993615E-3},49,null,1,3]
[50,51,2.2939261318999997,{"$f":"[2]!XLSTAT_PDFStudent(B50,23)","v":8.1163173797967258E-26},50,51,-4.1899361730999996,{"$f":"[2]!XLSTAT_PDFStudent(F50,23)","v":8.1163173797967258E-26},50,null,-3.5480903458999999,{"$f":"[2]!XLSTAT_PDFStudent(K50,23)","v":2.0948050262971822E-3},50,null,2,3]
[51,51,2.3033123202999999,{"$f":"[2]!XLSTAT_PDFStudent(B51,23)","v":8.1163173797967258E-26},51,51,-4.1805499846999998,{"$f":"[2]!XLSTAT_PDFStudent(F51,23)","v":8.1163173797967258E-26},51,null,-3.5303941346999999,{"$f":"[2]!XLSTAT_PDFStudent(K51,23)","v":2.1853398828824994E-3},51,null,3,3]
[52,2.3033123202999999,2.3033123202999999,{"$f":"[2]!XLSTAT_PDFStudent(B52,23)","v":3.2698022081822556E-2},52,-4.1805499846999998,-4.1805499846999998,{"$f":"[2]!XLSTAT_PDFStudent(F52,23)","v":4.4712136595934776E-4},52,null,-3.5126979234999998,{"$f":"[2]!XLSTAT_PDFStudent(K52,23)","v":2.2796440008726981E-3},52,null,4,3]
[53,2.3126985087,2.3126985087,{"$f":"[2]!XLSTAT_PDFStudent(B53,23)","v":3.2103346387487429E-2},53,-4.1711637963000001,-4.1711637963000001,{"$f":"[2]!XLSTAT_PDFStudent(F53,23)","v":4.5764450556307578E-4},53,null,-3.4950017122999997,{"$f":"[2]!XLSTAT_PDFStudent(K53,23)","v":2.3778650623776515E-3},53,null,5,3]
[54,51,2.3126985087,{"$f":"[2]!XLSTAT_PDFStudent(B54,23)","v":8.1163173797967258E-26},54,51,-4.1711637963000001,{"$f":"[2]!XLSTAT_PDFStudent(F54,23)","v":8.1163173797967258E-26},54,null,-3.4773055011,{"$f":"[2]!XLSTAT_PDFStudent(K54,23)","v":2.4801559718582574E-3},54,null,6,3]
[55,51,2.3220846970999998,{"$f":"[2]!XLSTAT_PDFStudent(B55,23)","v":8.1163173797967258E-26},55,51,-4.1617776078999995,{"$f":"[2]!XLSTAT_PDFStudent(F55,23)","v":8.1163173797967258E-26},55,null,-3.4596092898999999,{"$f":"[2]!XLSTAT_PDFStudent(K55,23)","v":2.5866750074829974E-3},55,null,7,3]
[56,2.3220846970999998,2.3220846970999998,{"$f":"[2]!XLSTAT_PDFStudent(B56,23)","v":3.1518022219207957E-2},56,-4.1617776078999995,-4.1617776078999995,{"$f":"[2]!XLSTAT_PDFStudent(F56,23)","v":4.6841191124027905E-4},56,null,-3.4419130786999999,{"$f":"[2]!XLSTAT_PDFStudent(K56,23)","v":2.6975859749044529E-3},56,null,8,3]
[57,2.3314708854999999,2.3314708854999999,{"$f":"[2]!XLSTAT_PDFStudent(B57,23)","v":3.0941940876141095E-2},57,-4.1523914194999998,-4.1523914194999998,{"$f":"[2]!XLSTAT_PDFStudent(F57,23)","v":4.7942910965734806E-4},57,null,-3.4242168675000002,{"$f":"[2]!XLSTAT_PDFStudent(K57,23)","v":2.8130583633674952E-3},57,null,9,3]
[58,51,2.3314708854999999,{"$f":"[2]!XLSTAT_PDFStudent(B58,23)","v":8.1163173797967258E-26},58,51,-4.1523914194999998,{"$f":"[2]!XLSTAT_PDFStudent(F58,23)","v":8.1163173797967258E-26},58,null,-3.4065206562999997,{"$f":"[2]!XLSTAT_PDFStudent(K58,23)","v":2.9332675040504275E-3},58,null,10,3]
[59,51,2.3408570738999996,{"$f":"[2]!XLSTAT_PDFStudent(B59,23)","v":8.1163173797967258E-26},59,51,-4.1430052311000001,{"$f":"[2]!XLSTAT_PDFStudent(F59,23)","v":8.1163173797967258E-26},59,null,-3.3888244451,{"$f":"[2]!XLSTAT_PDFStudent(K59,23)","v":3.0583947305290733E-3},59,null,11,3]
[60,2.3408570738999996,2.3408570738999996,{"$f":"[2]!XLSTAT_PDFStudent(B60,23)","v":3.0374993920730911E-2},60,-4.1430052311000001,-4.1430052311000001,{"$f":"[2]!XLSTAT_PDFStudent(F60,23)","v":4.9070174727089454E-4},60,null,-3.3711282338999999,{"$f":"[2]!XLSTAT_PDFStudent(K60,23)","v":3.1886275412423264E-3},60,null,12,3]
[61,2.3502432622999998,2.3502432622999998,{"$f":"[2]!XLSTAT_PDFStudent(B61,23)","v":2.9817073208178356E-2},61,-4.1336190426999995,-4.1336190426999995,{"$f":"[2]!XLSTAT_PDFStudent(F61,23)","v":5.0223559274442989E-4},61,null,-3.3534320226999998,{"$f":"[2]!XLSTAT_PDFStudent(K61,23)","v":3.3241597638251075E-3},61,null,13,3]
[62,51,2.3502432622999998,{"$f":"[2]!XLSTAT_PDFStudent(B62,23)","v":8.1163173797967258E-26},62,51,-4.1336190426999995,{"$f":"[2]!XLSTAT_PDFStudent(F62,23)","v":8.1163173797967258E-26},62,null,-3.3357358115000002,{"$f":"[2]!XLSTAT_PDFStudent(K62,23)","v":3.4651917211621307E-3},62,null,14,3]
[63,51,2.3596294507,{"$f":"[2]!XLSTAT_PDFStudent(B63,23)","v":8.1163173797967258E-26},63,51,-4.1242328542999998,{"$f":"[2]!XLSTAT_PDFStudent(F63,23)","v":8.1163173797967258E-26},63,null,-3.3180396002999997,{"$f":"[2]!XLSTAT_PDFStudent(K63,23)","v":3.6119303990023903E-3},63,null,15,3]
[64,2.3596294507,2.3596294507,{"$f":"[2]!XLSTAT_PDFStudent(B64,23)","v":2.9268070915025677E-2},64,-4.1242328542999998,-4.1242328542999998,{"$f":"[2]!XLSTAT_PDFStudent(F64,23)","v":5.1403653940787508E-4},64,null,-3.3003433891,{"$f":"[2]!XLSTAT_PDFStudent(K64,23)","v":3.7645896149601336E-3},64,null,16,3]
[65,{"$f":"IF(-1^(INT(A65/2)+2)>0,2.0686576103+2*INT(A65/2-1/2)*0.0046930942,51)","v":2.3690156390999997},{"$f":"2.0686576103+2*INT(A65/2-1/2)*0.0046930942","v":2.3690156390999997},{"$f":"[2]!XLSTAT_PDFStudent(B65,23)","v":2.8727879566863325E-2},65,{"$f":"IF(-1^(INT(E65/2)+2)>0,-4.4152046947+2*INT(E65/2-1/2)*0.0046930942,51)","v":-4.1148466659},{"$f":"-4.4152046947+2*INT(E65/2-1/2)*0.0046930942","v":-4.1148466659},{"$f":"[2]!XLSTAT_PDFStudent(F65,23)","v":5.2611060776046575E-4},65,null,{"$f":"-4.4152046947+(I65-1)*0.0176962112","v":-3.2826471778999999},{"$f":"[2]!XLSTAT_PDFStudent(K65,23)","v":3.9233901887137752E-3},65,null,{"$f":"M65-24*INT((-1/2+M65)/24)","v":17},{"$f":"1+INT((M65-1/2)/24)","v":3}]
[66,51,2.3690156390999997,{"$f":"[2]!XLSTAT_PDFStudent(B66,23)","v":8.1163173797967258E-26},66,51,-4.1148466659,{"$f":"[2]!XLSTAT_PDFStudent(F66,23)","v":8.1163173797967258E-26},66,null,-3.2649509666999998,{"$f":"[2]!XLSTAT_PDFStudent(K66,23)","v":4.0885601131985501E-3},66,null,18,3]
[67,51,2.3784018274999998,{"$f":"[2]!XLSTAT_PDFStudent(B67,23)","v":8.1163173797967258E-26},67,51,-4.1054604774999994,{"$f":"[2]!XLSTAT_PDFStudent(F67,23)","v":8.1163173797967258E-26},67,null,-3.2472547555000002,{"$f":"[2]!XLSTAT_PDFStudent(K67,23)","v":4.2603347265735194E-3},67,null,19,3]
[68,2.3784018274999998,2.3784018274999998,{"$f":"[2]!XLSTAT_PDFStudent(B68,23)","v":2.8196392065168534E-2},68,-4.1054604774999994,-4.1054604774999994,{"$f":"[2]!XLSTAT_PDFStudent(F68,23)","v":5.3846394801760462E-4},68,null,-3.2295585442999997,{"$f":"[2]!XLSTAT_PDFStudent(K68,23)","v":4.4389568847264908E-3},68,null,20,3]
[69,2.3877880159,2.3877880159,{"$f":"[2]!XLSTAT_PDFStudent(B69,23)","v":2.7673501713285972E-2},69,-4.0960742890999997,-4.0960742890999997,{"$f":"[2]!XLSTAT_PDFStudent(F69,23)","v":5.5110284270224277E-4},69,null,-3.2118623331,{"$f":"[2]!XLSTAT_PDFStudent(K69,23)","v":4.6246771340637347E-3},69,null,21,3]
[70,51,2.3877880159,{"$f":"[2]!XLSTAT_PDFStudent(B70,23)","v":8.1163173797967258E-26},70,51,-4.0960742890999997,{"$f":"[2]!XLSTAT_PDFStudent(F70,23)","v":8.1163173797967258E-26},70,null,-3.1941661218999999,{"$f":"[2]!XLSTAT_PDFStudent(K70,23)","v":4.817753884313861E-3},70,null,22,3]
[71,51,2.3971742042999997,{"$f":"[2]!XLSTAT_PDFStudent(B71,23)","v":8.1163173797967258E-26},71,51,-4.0866881007,{"$f":"[2]!XLSTAT_PDFStudent(F71,23)","v":8.1163173797967258E-26},71,null,-3.1764699106999998,{"$f":"[2]!XLSTAT_PDFStudent(K71,23)","v":5.018453581056407E-3},71,null,23,3]
[72,2.3971742042999997,2.3971742042999997,{"$f":"[2]!XLSTAT_PDFStudent(B72,23)","v":2.7159102241559464E-2},72,-4.0866881007,-4.0866881007,{"$f":"[2]!XLSTAT_PDFStudent(F72,23)","v":5.6403370928134961E-4},72,null,-3.1587736995000002,{"$f":"[2]!XLSTAT_PDFStudent(K72,23)","v":5.2270508776676768E-3},72,null,24,3]
[73,2.4065603926999999,2.4065603926999999,{"$f":"[2]!XLSTAT_PDFStudent(B73,23)","v":2.6653087831626204E-2},73,-4.0773019123000003,-4.0773019123000003,{"$f":"[2]!XLSTAT_PDFStudent(F73,23)","v":5.7726310284803527E-4},73,null,-3.1410774882999997,{"$f":"[2]!XLSTAT_PDFStudent(K73,23)","v":5.4438288063561836E-3},73,null,1,4]
[74,51,2.4065603926999999,{"$f":"[2]!XLSTAT_PDFStudent(B74,23)","v":8.1163173797967258E-26},74,51,-4.0773019123000003,{"$f":"[2]!XLSTAT_PDFStudent(F74,23)","v":8.1163173797967258E-26},74,null,-3.1233812771,{"$f":"[2]!XLSTAT_PDFStudent(K74,23)","v":5.6690789479403366E-3},74,null,2,4]
[75,51,2.4159465811,{"$f":"[2]!XLSTAT_PDFStudent(B75,23)","v":8.1163173797967258E-26},75,51,-4.0679157238999997,{"$f":"[2]!XLSTAT_PDFStudent(F75,23)","v":8.1163173797967258E-26},75,null,-3.1056850658999999,{"$f":"[2]!XLSTAT_PDFStudent(K75,23)","v":5.9031016000008641E-3},75,null,3,4]
[76,2.4159465811,2.4159465811,{"$f":"[2]!XLSTAT_PDFStudent(B76,23)","v":2.6155353139882327E-2},76,-4.0679157238999997,-4.0679157238999997,{"$f":"[2]!XLSTAT_PDFStudent(F76,23)","v":5.9079771884989248E-4},76,null,-3.0879888546999998,{"$f":"[2]!XLSTAT_PDFStudent(K76,23)","v":6.1462059430182686E-3},76,null,4,4]
[77,2.4253327694999998,2.4253327694999998,{"$f":"[2]!XLSTAT_PDFStudent(B77,23)","v":2.5665793320131986E-2},77,-4.0585295355,-4.0585295355,{"$f":"[2]!XLSTAT_PDFStudent(F77,23)","v":6.0464439586412836E-4},77,null,-3.0702926435000002,{"$f":"[2]!XLSTAT_PDFStudent(K77,23)","v":6.3987102040851717E-3},77,null,5,4]
[78,51,2.4253327694999998,{"$f":"[2]!XLSTAT_PDFStudent(B78,23)","v":8.1163173797967258E-26},78,51,-4.0585295355,{"$f":"[2]!XLSTAT_PDFStudent(F78,23)","v":8.1163173797967258E-26},78,null,-3.0525964322999997,{"$f":"[2]!XLSTAT_PDFStudent(K78,23)","v":6.6609418177604358E-3},78,null,6,4]
[79,51,2.4347189578999999,{"$f":"[2]!XLSTAT_PDFStudent(B79,23)","v":8.1163173797967258E-26},79,51,-4.0491433471000002,{"$f":"[2]!XLSTAT_PDFStudent(F79,23)","v":8.1163173797967258E-26},79,null,-3.0349002211,{"$f":"[2]!XLSTAT_PDFStudent(K79,23)","v":6.9332375836095219E-3},79,null,7,4]
[80,2.4347189578999999,2.4347189578999999,{"$f":"[2]!XLSTAT_PDFStudent(B80,23)","v":2.5184304045429259E-2},80,-4.0491433471000002,-4.0491433471000002,{"$f":"[2]!XLSTAT_PDFStudent(F80,23)","v":6.1881011842005232E-4},80,null,-3.0172040098999999,{"$f":"[2]!XLSTAT_PDFStudent(K80,23)","v":7.2159438199525658E-3},80,null,8,4]
[81,2.4441051463000001,2.4441051463000001,{"$f":"[2]!XLSTAT_PDFStudent(B81,23)","v":2.4710781529125397E-2},81,-4.0397571586999996,-4.0397571586999996,{"$f":"[2]!XLSTAT_PDFStudent(F81,23)","v":6.3330201986946976E-4},81,null,-2.9995077986999998,{"$f":"[2]!XLSTAT_PDFStudent(K81,23)","v":7.5094165133178679E-3},81,null,9,4]
[82,51,2.4441051463000001,{"$f":"[2]!XLSTAT_PDFStudent(B82,23)","v":8.1163173797967258E-26},82,51,-4.0397571586999996,{"$f":"[2]!XLSTAT_PDFStudent(F82,23)","v":8.1163173797967258E-26},82,null,-2.9818115875000002,{"$f":"[2]!XLSTAT_PDFStudent(K82,23)","v":7.8140214630750791E-3},82,null,10,4]
[83,51,2.4534913346999998,{"$f":"[2]!XLSTAT_PDFStudent(B83,23)","v":8.1163173797967258E-26},83,51,-4.0303709702999999,{"$f":"[2]!XLSTAT_PDFStudent(F83,23)","v":8.1163173797967258E-26},83,null,-2.9641153762999997,{"$f":"[2]!XLSTAT_PDFStudent(K83,23)","v":8.1301344206973093E-3},83,null,11,4]
[84,2.4534913346999998,2.4534913346999998,{"$f":"[2]!XLSTAT_PDFStudent(B84,23)","v":2.4245122545131451E-2},84,-4.0303709702999999,-4.0303709702999999,{"$f":"[2]!XLSTAT_PDFStudent(F84,23)","v":6.4812738530554265E-4},84,null,-2.9464191651,{"$f":"[2]!XLSTAT_PDFStudent(K84,23)","v":8.458141223077734E-3},84,null,12,4]
[85,2.4628775231,2.4628775231,{"$f":"[2]!XLSTAT_PDFStudent(B85,23)","v":2.3787224447408443E-2},85,-4.0209847819000002,-4.0209847819000002,{"$f":"[2]!XLSTAT_PDFStudent(F85,23)","v":6.6329365453071036E-4},85,null,-2.9287229538999999,{"$f":"[2]!XLSTAT_PDFStudent(K85,23)","v":8.7984379193010477E-3},85,null,13,4]
[86,51,2.4628775231,{"$f":"[2]!XLSTAT_PDFStudent(B86,23)","v":8.1163173797967258E-26},86,51,-4.0209847819000002,{"$f":"[2]!XLSTAT_PDFStudent(F86,23)","v":8.1163173797967258E-26},86,null,-2.9110267426999998,{"$f":"[2]!XLSTAT_PDFStudent(K86,23)","v":9.151430890244729E-3},86,null,14,4]
[87,51,2.4722637114999997,{"$f":"[2]!XLSTAT_PDFStudent(B87,23)","v":8.1163173797967258E-26},87,51,-4.0115985934999996,{"$f":"[2]!XLSTAT_PDFStudent(F87,23)","v":8.1163173797967258E-26},87,null,-2.8933305315000002,{"$f":"[2]!XLSTAT_PDFStudent(K87,23)","v":9.5175369603611275E-3},87,null,15,4]
[88,2.4722637114999997,2.4722637114999997,{"$f":"[2]!XLSTAT_PDFStudent(B88,23)","v":2.3336985188696011E-2},88,-4.0115985934999996,-4.0115985934999996,{"$f":"[2]!XLSTAT_PDFStudent(F88,23)","v":6.7880842507417414E-4},88,null,-2.8756343202999997,{"$f":"[2]!XLSTAT_PDFStudent(K88,23)","v":9.8971835009648342E-3},88,null,16,4]
[89,2.4816498998999998,2.4816498998999998,{"$f":"[2]!XLSTAT_PDFStudent(B89,23)","v":2.2894303338491261E-2},89,-4.0022124050999999,-4.0022124050999999,{"$f":"[2]!XLSTAT_PDFStudent(F89,23)","v":6.9467945525953051E-4},89,null,-2.8579381091,{"$f":"[2]!XLSTAT_PDFStudent(K89,23)","v":1.0290808524325703E-2},89,null,17,4]
[90,51,2.4816498998999998,{"$f":"[2]!XLSTAT_PDFStudent(B90,23)","v":8.1163173797967258E-26},90,51,-4.0022124050999999,{"$f":"[2]!XLSTAT_PDFStudent(F90,23)","v":8.1163173797967258E-26},90,null,-2.8402418978999999,{"$f":"[2]!XLSTAT_PDFStudent(K90,23)","v":1.0698860767842135E-2},90,null,18,4]
[91,51,2.4910360883,{"$f":"[2]!XLSTAT_PDFStudent(B91,23)","v":8.1163173797967258E-26},91,51,-3.9928262166999997,{"$f":"[2]!XLSTAT_PDFStudent(F91,23)","v":8.1163173797967258E-26},91,null,-2.8225456866999998,{"$f":"[2]!XLSTAT_PDFStudent(K91,23)","v":1.1121799767544594E-2},91,null,19,4]
[92,2.4910360883,2.4910360883,{"$f":"[2]!XLSTAT_PDFStudent(B92,23)","v":2.245907810029044E-2},92,-3.9928262166999997,-3.9928262166999997,{"$f":"[2]!XLSTAT_PDFStudent(F92,23)","v":7.1091466732311505E-4},92,null,-2.8048494755000002,{"$f":"[2]!XLSTAT_PDFStudent(K92,23)","v":1.1560095920154733E-2},92,null,20,4]
[93,2.5004222766999997,2.5004222766999997,{"$f":"[2]!XLSTAT_PDFStudent(B93,23)","v":2.203120932810395E-2},93,-3.9834400283,-3.9834400283,{"$f":"[2]!XLSTAT_PDFStudent(F93,23)","v":7.2752215058355428E-4},93,null,-2.7871532642999997,{"$f":"[2]!XLSTAT_PDFStudent(K93,23)","v":1.2014230532900594E-2},93,null,21,4]
[94,51,2.5004222766999997,{"$f":"[2]!XLSTAT_PDFStudent(B94,23)","v":8.1163173797967258E-26},94,51,-3.9834400283,{"$f":"[2]!XLSTAT_PDFStudent(F94,23)","v":8.1163173797967258E-26},94,null,-2.7694570531,{"$f":"[2]!XLSTAT_PDFStudent(K94,23)","v":1.2484695860264931E-2},94,null,22,4]
[95,51,2.5098084650999999,{"$f":"[2]!XLSTAT_PDFStudent(B95,23)","v":8.1163173797967258E-26},95,51,-3.9740538398999998,{"$f":"[2]!XLSTAT_PDFStudent(F95,23)","v":8.1163173797967258E-26},95,null,-2.7517608418999999,{"$f":"[2]!XLSTAT_PDFStudent(K95,23)","v":1.2971995126820677E-2},95,null,23,4]
[96,2.5098084650999999,2.5098084650999999,{"$f":"[2]!XLSTAT_PDFStudent(B96,23)","v":2.1610597542257765E-2},96,-3.9740538398999998,-3.9740538398999998,{"$f":"[2]!XLSTAT_PDFStudent(F96,23)","v":7.4451016466313012E-4},96,null,-2.7340646306999998,{"$f":"[2]!XLSTAT_PDFStudent(K96,23)","v":1.3476642535283018E-2},96,null,24,4]
[97,2.5191946534999996,2.5191946534999996,{"$f":"[2]!XLSTAT_PDFStudent(B97,23)","v":2.1197143944492892E-2},97,-3.9646676515000001,-3.9646676515000001,{"$f":"[2]!XLSTAT_PDFStudent(F97,23)","v":7.6188714276143618E-4},97,null,-2.7163684195000002,{"$f":"[2]!XLSTAT_PDFStudent(K97,23)","v":1.3999163258887996E-2},97,null,1,5]
[98,51,2.5191946534999996,{"$f":"[2]!XLSTAT_PDFStudent(B98,23)","v":8.1163173797967258E-26},98,51,-3.9646676515000001,{"$f":"[2]!XLSTAT_PDFStudent(F98,23)","v":8.1163173797967258E-26},98,null,-2.6986722082999997,{"$f":"[2]!XLSTAT_PDFStudent(K98,23)","v":1.4540093417184782E-2},98,null,2,5]
[99,51,2.5285808418999998,{"$f":"[2]!XLSTAT_PDFStudent(B99,23)","v":8.1163173797967258E-26},99,51,-3.9552814631,{"$f":"[2]!XLSTAT_PDFStudent(F99,23)","v":8.1163173797967258E-26},99,null,-2.6809759971,{"$f":"[2]!XLSTAT_PDFStudent(K99,23)","v":1.5099980034308425E-2},99,null,3,5]
[100,2.5285808418999998,2.5285808418999998,{"$f":"[2]!XLSTAT_PDFStudent(B100,23)","v":2.0790750432375125E-2},100,-3.9552814631,-3.9552814631,{"$f":"[2]!XLSTAT_PDFStudent(F100,23)","v":7.7966169498189665E-4},100,null,-2.6632797858999999,{"$f":"[2]!XLSTAT_PDFStudent(K100,23)","v":1.5679380978782478E-2},100,null,4,5]
[101,2.5379670302999999,2.5379670302999999,{"$f":"[2]!XLSTAT_PDFStudent(B101,23)","v":2.0391319613027162E-2},101,-3.9458952746999998,-3.9458952746999998,{"$f":"[2]!XLSTAT_PDFStudent(F101,23)","v":7.9784261171165799E-4},101,null,-2.6455835746999998,{"$f":"[2]!XLSTAT_PDFStudent(K101,23)","v":1.6278864883881153E-2},101,null,5,5]
[102,51,2.5379670302999999,{"$f":"[2]!XLSTAT_PDFStudent(B102,23)","v":8.1163173797967258E-26},102,51,-3.9458952746999998,{"$f":"[2]!XLSTAT_PDFStudent(F102,23)","v":8.1163173797967258E-26},102,null,-2.6278873635000002,{"$f":"[2]!XLSTAT_PDFStudent(K102,23)","v":1.6899011047565686E-2},102,null,6,5]
[103,51,2.5473532186999996,{"$f":"[2]!XLSTAT_PDFStudent(B103,23)","v":8.1163173797967258E-26},103,51,-3.9365090863000001,{"$f":"[2]!XLSTAT_PDFStudent(F103,23)","v":8.1163173797967258E-26},103,null,-2.6101911522999997,{"$f":"[2]!XLSTAT_PDFStudent(K103,23)","v":1.7540409310994563E-2},103,null,7,5]
[104,2.5473532186999996,2.5473532186999996,{"$f":"[2]!XLSTAT_PDFStudent(B104,23)","v":1.99987548161959E-2},104,-3.9365090863000001,-3.9365090863000001,{"$f":"[2]!XLSTAT_PDFStudent(F104,23)","v":8.1643886705536225E-4},104,null,-2.5924949411,{"$f":"[2]!XLSTAT_PDFStudent(K104,23)","v":1.8203659914592996E-2},104,null,8,5]
[105,2.5567394070999998,2.5567394070999998,{"$f":"[2]!XLSTAT_PDFStudent(B105,23)","v":1.9612960106666071E-2},105,-3.9271228978999999,-3.9271228978999999,{"$f":"[2]!XLSTAT_PDFStudent(F105,23)","v":8.3545962232334974E-4},105,null,-2.5747987298999999,{"$f":"[2]!XLSTAT_PDFStudent(K105,23)","v":1.8889373330657998E-2},105,null,9,5]
[106,51,2.5567394070999998,{"$f":"[2]!XLSTAT_PDFStudent(B106,23)","v":8.1163173797967258E-26},106,51,-3.9271228978999999,{"$f":"[2]!XLSTAT_PDFStudent(F106,23)","v":8.1163173797967258E-26},106,null,-2.5571025186999998,{"$f":"[2]!XLSTAT_PDFStudent(K106,23)","v":1.9598170071463458E-2},106,null,10,5]
[107,51,2.5661255955,{"$f":"[2]!XLSTAT_PDFStudent(B107,23)","v":8.1163173797967258E-26},107,51,-3.9177367094999997,{"$f":"[2]!XLSTAT_PDFStudent(F107,23)","v":8.1163173797967258E-26},107,null,-2.5394063075000002,{"$f":"[2]!XLSTAT_PDFStudent(K107,23)","v":2.0330680471825204E-2},107,null,11,5]
[108,2.5661255955,2.5661255955,{"$f":"[2]!XLSTAT_PDFStudent(B108,23)","v":1.9233840296034213E-2},108,-3.9177367094999997,-3.9177367094999997,{"$f":"[2]!XLSTAT_PDFStudent(F108,23)","v":8.5491422957475224E-4},108,null,-2.5217100962999996,{"$f":"[2]!XLSTAT_PDFStudent(K108,23)","v":2.1087544445079192E-2},108,null,12,5]
[109,2.5755117838999997,2.5755117838999997,{"$f":"[2]!XLSTAT_PDFStudent(B109,23)","v":1.8861300953853587E-2},109,-3.9083505211,-3.9083505211,{"$f":"[2]!XLSTAT_PDFStudent(F109,23)","v":8.748122352159899E-4},109,null,-2.5040138851,{"$f":"[2]!XLSTAT_PDFStudent(K109,23)","v":2.1869411211424879E-2},109,null,13,5]
[110,51,2.5755117838999997,{"$f":"[2]!XLSTAT_PDFStudent(B110,23)","v":8.1163173797967258E-26},110,51,-3.9083505211,{"$f":"[2]!XLSTAT_PDFStudent(F110,23)","v":8.1163173797967258E-26},110,null,-2.4863176738999999,{"$f":"[2]!XLSTAT_PDFStudent(K110,23)","v":2.2676938997587055E-2},110,null,14,5]
[111,51,2.5848979722999998,{"$f":"[2]!XLSTAT_PDFStudent(B111,23)","v":8.1163173797967258E-26},111,51,-3.8989643326999999,{"$f":"[2]!XLSTAT_PDFStudent(F111,23)","v":8.1163173797967258E-26},111,null,-2.4686214626999998,{"$f":"[2]!XLSTAT_PDFStudent(K111,23)","v":2.3510794706750007E-2},111,null,15,5]
[112,2.5848979722999998,2.5848979722999998,{"$f":"[2]!XLSTAT_PDFStudent(B112,23)","v":1.8495248418164034E-2},112,-3.8989643326999999,-3.8989643326999999,{"$f":"[2]!XLSTAT_PDFStudent(F112,23)","v":8.9516338365518784E-4},112,null,-2.4509252515000002,{"$f":"[2]!XLSTAT_PDFStudent(K112,23)","v":2.437165355772802E-2},112,null,16,5]
[113,2.5942841607,2.5942841607,{"$f":"[2]!XLSTAT_PDFStudent(B113,23)","v":1.8135589805417816E-2},113,-3.8895781442999997,-3.8895781442999997,{"$f":"[2]!XLSTAT_PDFStudent(F113,23)","v":9.1597762101295016E-4},113,null,-2.4332290403000001,{"$f":"[2]!XLSTAT_PDFStudent(K113,23)","v":2.5260198692343382E-2},113,null,17,5]
[114,51,2.5942841607,{"$f":"[2]!XLSTAT_PDFStudent(B114,23)","v":8.1163173797967258E-26},114,51,-3.8895781442999997,{"$f":"[2]!XLSTAT_PDFStudent(F114,23)","v":8.1163173797967258E-26},114,null,-2.4155328291,{"$f":"[2]!XLSTAT_PDFStudent(K114,23)","v":2.6177120749996528E-2},114,null,18,5]
[115,51,2.6036703490999997,{"$f":"[2]!XLSTAT_PDFStudent(B115,23)","v":8.1163173797967258E-26},115,51,-3.8801919559,{"$f":"[2]!XLSTAT_PDFStudent(F115,23)","v":8.1163173797967258E-26},115,null,-2.3978366178999999,{"$f":"[2]!XLSTAT_PDFStudent(K115,23)","v":2.7123117408430836E-2},115,null,19,5]
[116,2.6036703490999997,2.6036703490999997,{"$f":"[2]!XLSTAT_PDFStudent(B116,23)","v":1.7782233019814745E-2},116,-3.8801919559,-3.8801919559,{"$f":"[2]!XLSTAT_PDFStudent(F116,23)","v":9.3726509888996735E-4},116,null,-2.3801404066999998,{"$f":"[2]!XLSTAT_PDFStudent(K116,23)","v":2.8098892889713206E-2},116,null,20,5]
[117,2.6130565374999999,2.6130565374999999,{"$f":"[2]!XLSTAT_PDFStudent(B117,23)","v":1.7435086762058578E-2},117,-3.8708057674999998,-3.8708057674999998,{"$f":"[2]!XLSTAT_PDFStudent(F117,23)","v":9.5903617819195742E-4},117,null,-2.3624441955000002,{"$f":"[2]!XLSTAT_PDFStudent(K117,23)","v":2.9105157430478184E-2},117,null,21,5]
[118,51,2.6130565374999999,{"$f":"[2]!XLSTAT_PDFStudent(B118,23)","v":8.1163173797967258E-26},118,51,-3.8708057674999998,{"$f":"[2]!XLSTAT_PDFStudent(F118,23)","v":8.1163173797967258E-26},118,null,-2.3447479843000001,{"$f":"[2]!XLSTAT_PDFStudent(K118,23)","v":3.0142626715510022E-2},118,null,22,5]
[119,51,2.6224427259,{"$f":"[2]!XLSTAT_PDFStudent(B119,23)","v":8.1163173797967258E-26},119,51,-3.8614195790999997,{"$f":"[2]!XLSTAT_PDFStudent(F119,23)","v":8.1163173797967258E-26},119,null,-2.3270517731,{"$f":"[2]!XLSTAT_PDFStudent(K119,23)","v":3.121202127377078E-2},119,null,23,5]
[120,2.6224427259,2.6224427259,{"$f":"[2]!XLSTAT_PDFStudent(B120,23)","v":1.7094060537546921E-2},120,-3.8614195790999997,-3.8614195790999997,{"$f":"[2]!XLSTAT_PDFStudent(F120,23)","v":9.8130143301231824E-4},120,null,-2.3093555618999999,{"$f":"[2]!XLSTAT_PDFStudent(K120,23)","v":3.2314065836020263E-2},120,null,24,5]
[121,2.6318289142999998,2.6318289142999998,{"$f":"[2]!XLSTAT_PDFStudent(B121,23)","v":1.675906466400752E-2},121,-3.8520333906999999,-3.8520333906999999,{"$f":"[2]!XLSTAT_PDFStudent(F121,23)","v":1.0040716545729944E-3},121,null,-2.2916593506999998,{"$f":"[2]!XLSTAT_PDFStudent(K121,23)","v":3.3449488653215023E-2},121,null,1,6]
[122,51,2.6318289142999998,{"$f":"[2]!XLSTAT_PDFStudent(B122,23)","v":8.1163173797967258E-26},122,51,-3.8520333906999999,{"$f":"[2]!XLSTAT_PDFStudent(F122,23)","v":8.1163173797967258E-26},122,null,-2.2739631395000002,{"$f":"[2]!XLSTAT_PDFStudent(K122,23)","v":3.4619020774920913E-2},122,null,2,6]
[123,51,2.6412151026999999,{"$f":"[2]!XLSTAT_PDFStudent(B123,23)","v":8.1163173797967258E-26},123,51,-3.8426472022999998,{"$f":"[2]!XLSTAT_PDFStudent(F123,23)","v":8.1163173797967258E-26},123,null,-2.2562669283000001,{"$f":"[2]!XLSTAT_PDFStudent(K123,23)","v":3.5823395287024724E-2},123,null,3,6]
[124,2.6412151026999999,2.6412151026999999,{"$f":"[2]!XLSTAT_PDFStudent(B124,23)","v":1.6430010278592155E-2},124,-3.8426472022999998,-3.8426472022999998,{"$f":"[2]!XLSTAT_PDFStudent(F124,23)","v":1.0273578552239303E-3},124,null,-2.2385707171,{"$f":"[2]!XLSTAT_PDFStudent(K124,23)","v":3.70633465080882E-2},124,null,4,6]
[125,2.6506012911000001,2.6506012911000001,{"$f":"[2]!XLSTAT_PDFStudent(B125,23)","v":1.6106809344441701E-2},125,-3.8332610138999996,-3.8332610138999996,{"$f":"[2]!XLSTAT_PDFStudent(F125,23)","v":1.0511712725015455E-3},125,null,-2.2208745058999999,{"$f":"[2]!XLSTAT_PDFStudent(K125,23)","v":3.8339609143749349E-2},125,null,5,6]
[126,51,2.6506012911000001,{"$f":"[2]!XLSTAT_PDFStudent(B126,23)","v":8.1163173797967258E-26},126,51,-3.8332610138999996,{"$f":"[2]!XLSTAT_PDFStudent(F126,23)","v":8.1163173797967258E-26},126,null,-2.2031782946999998,{"$f":"[2]!XLSTAT_PDFStudent(K126,23)","v":3.9652917398643545E-2},126,null,6,6]
[127,51,2.6599874794999998,{"$f":"[2]!XLSTAT_PDFStudent(B127,23)","v":8.1163173797967258E-26},127,51,-3.8238748254999999,{"$f":"[2]!XLSTAT_PDFStudent(F127,23)","v":8.1163173797967258E-26},127,null,-2.1854820835000002,{"$f":"[2]!XLSTAT_PDFStudent(K127,23)","v":4.100400404538846E-2},127,null,7,6]
[128,2.6599874794999998,2.6599874794999998,{"$f":"[2]!XLSTAT_PDFStudent(B128,23)","v":1.5789374656733361E-2},128,-3.8238748254999999,-3.8238748254999999,{"$f":"[2]!XLSTAT_PDFStudent(F128,23)","v":1.0755233732466232E-3},128,null,-2.1677858723000001,{"$f":"[2]!XLSTAT_PDFStudent(K128,23)","v":4.2393599450258911E-2},128,null,8,6]
[129,{"$f":"IF(-1^(INT(A129/2)+2)>0,2.0686576103+2*INT(A129/2-1/2)*0.0046930942,51)","v":2.6693736679},{"$f":"2.0686576103+2*INT(A129/2-1/2)*0.0046930942","v":2.6693736679},{"$f":"[2]!XLSTAT_PDFStudent(B129,23)","v":1.5477619848222818E-2},129,{"$f":"IF(-1^(INT(E129/2)+2)>0,-4.4152046947+2*INT(E129/2-1/2)*0.0046930942,51)","v":-3.8144886370999997},{"$f":"-4.4152046947+2*INT(E129/2-1/2)*0.0046930942","v":-3.8144886370999997},{"$f":"[2]!XLSTAT_PDFStudent(F129,23)","v":1.1004258577819858E-3},129,null,{"$f":"-4.4152046947+(I129-1)*0.0176962112","v":-2.1500896611},{"$f":"[2]!XLSTAT_PDFStudent(K129,23)","v":4.3822430555256586E-2},129,null,{"$f":"M129-24*INT((-1/2+M129)/24)","v":9},{"$f":"1+INT((M129-1/2)/24)","v":6}]
[130,51,2.6693736679,{"$f":"[2]!XLSTAT_PDFStudent(B130,23)","v":8.1163173797967258E-26},130,51,-3.8144886370999997,{"$f":"[2]!XLSTAT_PDFStudent(F130,23)","v":8.1163173797967258E-26},130,null,-2.1323934498999999,{"$f":"[2]!XLSTAT_PDFStudent(K130,23)","v":4.5291219816374267E-2},130,null,10,6]
[131,51,2.6787598563000001,{"$f":"[2]!XLSTAT_PDFStudent(B131,23)","v":8.1163173797967258E-26},131,51,-3.8051024486999996,{"$f":"[2]!XLSTAT_PDFStudent(F131,23)","v":8.1163173797967258E-26},131,null,-2.1146972386999998,{"$f":"[2]!XLSTAT_PDFStudent(K131,23)","v":4.6800684097945487E-2},131,null,11,6]
[132,2.6787598563000001,2.6787598563000001,{"$f":"[2]!XLSTAT_PDFStudent(B132,23)","v":1.5171459394293501E-2},132,-3.8051024486999996,-3.8051024486999996,{"$f":"[2]!XLSTAT_PDFStudent(F132,23)","v":1.1258906641503162E-3},132,null,-2.0970010275000002,{"$f":"[2]!XLSTAT_PDFStudent(K132,23)","v":4.835153352307589E-2},132,null,12,6]
[133,2.6881460446999998,2.6881460446999998,{"$f":"[2]!XLSTAT_PDFStudent(B133,23)","v":1.4870808617523858E-2},133,-3.7957162602999999,-3.7957162602999999,{"$f":"[2]!XLSTAT_PDFStudent(F133,23)","v":1.1519299724124866E-3},133,null,-2.0793048163000001,{"$f":"[2]!XLSTAT_PDFStudent(K133,23)","v":4.9944470280255462E-2},133,null,13,6]
[134,51,2.6881460446999998,{"$f":"[2]!XLSTAT_PDFStudent(B134,23)","v":8.1163173797967258E-26},134,51,-3.7957162602999999,{"$f":"[2]!XLSTAT_PDFStudent(F134,23)","v":8.1163173797967258E-26},134,null,-2.0616086051,{"$f":"[2]!XLSTAT_PDFStudent(K134,23)","v":5.15801873863663E-2},134,null,14,6]
[135,51,2.6975322331,{"$f":"[2]!XLSTAT_PDFStudent(B135,23)","v":8.1163173797967258E-26},135,51,-3.7863300718999997,{"$f":"[2]!XLSTAT_PDFStudent(F135,23)","v":8.1163173797967258E-26},135,null,-2.0439123938999999,{"$f":"[2]!XLSTAT_PDFStudent(K135,23)","v":5.325936740641813E-2},135,null,15,6]
[136,2.6975322331,2.6975322331,{"$f":"[2]!XLSTAT_PDFStudent(B136,23)","v":1.4575583691786175E-2},136,-3.7863300718999997,-3.7863300718999997,{"$f":"[2]!XLSTAT_PDFStudent(F136,23)","v":1.1785562090067376E-3},136,null,-2.0262161826999998,{"$f":"[2]!XLSTAT_PDFStudent(K136,23)","v":5.4982681130468183E-2},136,null,16,6]
[137,2.7069184214999997,2.7069184214999997,{"$f":"[2]!XLSTAT_PDFStudent(B137,23)","v":1.4285701645887314E-2},137,-3.7769438835,-3.7769438835,{"$f":"[2]!XLSTAT_PDFStudent(F137,23)","v":1.2057820511689481E-3},137,null,-2.0085199715000002,{"$f":"[2]!XLSTAT_PDFStudent(K137,23)","v":5.6750786208310429E-2},137,null,17,6]
[138,51,2.7069184214999997,{"$f":"[2]!XLSTAT_PDFStudent(B138,23)","v":8.1163173797967258E-26},138,51,-3.7769438835,{"$f":"[2]!XLSTAT_PDFStudent(F138,23)","v":8.1163173797967258E-26},138,null,-1.9908237603000001,{"$f":"[2]!XLSTAT_PDFStudent(K138,23)","v":5.8564325742656402E-2},138,null,18,6]
[139,51,2.7163046098999999,{"$f":"[2]!XLSTAT_PDFStudent(B139,23)","v":8.1163173797967258E-26},139,51,-3.7675576950999998,{"$f":"[2]!XLSTAT_PDFStudent(F139,23)","v":8.1163173797967258E-26},139,null,-1.9731275491,{"$f":"[2]!XLSTAT_PDFStudent(K139,23)","v":6.0423926841668849E-2},139,null,19,6]
[140,2.7163046098999999,2.7163046098999999,{"$f":"[2]!XLSTAT_PDFStudent(B140,23)","v":1.4001080366763806E-2},140,-3.7675576950999998,-3.7675576950999998,{"$f":"[2]!XLSTAT_PDFStudent(F140,23)","v":1.2336204314144037E-3},140,null,-1.9554313378999999,{"$f":"[2]!XLSTAT_PDFStudent(K140,23)","v":6.2330199131853573E-2},140,null,20,6]
[141,2.7256907982999996,2.7256907982999996,{"$f":"[2]!XLSTAT_PDFStudent(B141,23)","v":1.37216386022427E-2},141,-3.7581715067000001,-3.7581715067000001,{"$f":"[2]!XLSTAT_PDFStudent(F141,23)","v":1.2620845420812164E-3},141,null,-1.9377351266999998,{"$f":"[2]!XLSTAT_PDFStudent(K141,23)","v":6.4283733232469595E-2},141,null,21,6]
[142,51,2.7256907982999996,{"$f":"[2]!XLSTAT_PDFStudent(B142,23)","v":8.1163173797967258E-26},142,51,-3.7581715067000001,{"$f":"[2]!XLSTAT_PDFStudent(F142,23)","v":8.1163173797967258E-26},142,null,-1.9200389155000002,{"$f":"[2]!XLSTAT_PDFStudent(K142,23)","v":6.6285099192767802E-2},142,null,22,6]
[143,51,2.7350769866999998,{"$f":"[2]!XLSTAT_PDFStudent(B143,23)","v":8.1163173797967258E-26},143,51,-3.7487853182999999,{"$f":"[2]!XLSTAT_PDFStudent(F143,23)","v":8.1163173797967258E-26},143,null,-1.9023427043000001,{"$f":"[2]!XLSTAT_PDFStudent(K143,23)","v":6.8334844893530394E-2},143,null,23,6]
[144,2.7350769866999998,2.7350769866999998,{"$f":"[2]!XLSTAT_PDFStudent(B144,23)","v":1.3447295963379853E-2},144,-3.7487853182999999,-3.7487853182999999,{"$f":"[2]!XLSTAT_PDFStudent(F144,23)","v":1.2911878399357434E-3},144,null,-1.8846464931,{"$f":"[2]!XLSTAT_PDFStudent(K144,23)","v":7.0433494414547951E-2},144,null,24,6]
[145,2.7444631750999999,2.7444631750999999,{"$f":"[2]!XLSTAT_PDFStudent(B145,23)","v":1.317797292638666E-2},145,-3.7393991298999998,-3.7393991298999998,{"$f":"[2]!XLSTAT_PDFStudent(F145,23)","v":1.3209440508401655E-3},145,null,-1.8669502818999999,{"$f":"[2]!XLSTAT_PDFStudent(K145,23)","v":7.2581546369834438E-2},145,null,1,7]
[146,51,2.7444631750999999,{"$f":"[2]!XLSTAT_PDFStudent(B146,23)","v":8.1163173797967258E-26},146,51,-3.7393991298999998,{"$f":"[2]!XLSTAT_PDFStudent(F146,23)","v":8.1163173797967258E-26},146,null,-1.8492540706999998,{"$f":"[2]!XLSTAT_PDFStudent(K146,23)","v":7.4779472212557152E-2},146,null,2,7]
[147,51,2.7538493634999996,{"$f":"[2]!XLSTAT_PDFStudent(B147,23)","v":8.1163173797967258E-26},147,51,-3.7300129415000001,{"$f":"[2]!XLSTAT_PDFStudent(F147,23)","v":8.1163173797967258E-26},147,null,-1.8315578595000002,{"$f":"[2]!XLSTAT_PDFStudent(K147,23)","v":7.7027714511825593E-2},147,null,3,7]
[148,2.7538493634999996,2.7538493634999996,{"$f":"[2]!XLSTAT_PDFStudent(B148,23)","v":1.291359083415717E-2},148,-3.7300129415000001,-3.7300129415000001,{"$f":"[2]!XLSTAT_PDFStudent(F148,23)","v":1.351367174482463E-3},148,null,-1.8138616483000001,{"$f":"[2]!XLSTAT_PDFStudent(K148,23)","v":7.9326685203665828E-2},148,null,4,7]
[149,2.7632355518999998,2.7632355518999998,{"$f":"[2]!XLSTAT_PDFStudent(B149,23)","v":1.2654071897405932E-2},149,-3.7206267530999999,-3.7206267530999999,{"$f":"[2]!XLSTAT_PDFStudent(F149,23)","v":1.3824714891689845E-3},149,null,-1.7961654371,{"$f":"[2]!XLSTAT_PDFStudent(K149,23)","v":8.1676763818679859E-2},149,null,5,7]
[150,51,2.7632355518999998,{"$f":"[2]!XLSTAT_PDFStudent(B150,23)","v":8.1163173797967258E-26},150,51,-3.7206267530999999,{"$f":"[2]!XLSTAT_PDFStudent(F150,23)","v":8.1163173797967258E-26},150,null,-1.7784692258999999,{"$f":"[2]!XLSTAT_PDFStudent(K150,23)","v":8.4078295689073768E-2},150,null,6,7]
[151,51,2.7726217403,{"$f":"[2]!XLSTAT_PDFStudent(B151,23)","v":8.1163173797967258E-26},151,51,-3.7112405646999997,{"$f":"[2]!XLSTAT_PDFStudent(F151,23)","v":8.1163173797967258E-26},151,null,-1.7607730146999998,{"$f":"[2]!XLSTAT_PDFStudent(K151,23)","v":8.6531590137917697E-2},151,null,7,7]
[152,2.7726217403,2.7726217403,{"$f":"[2]!XLSTAT_PDFStudent(B152,23)","v":1.2399339195428592E-2},152,-3.7112405646999997,-3.7112405646999997,{"$f":"[2]!XLSTAT_PDFStudent(F152,23)","v":1.4142715566797294E-3},152,null,-1.7430768035000002,{"$f":"[2]!XLSTAT_PDFStudent(K152,23)","v":8.9036918653679908E-2},152,null,8,7]
[153,2.7820079286999997,2.7820079286999997,{"$f":"[2]!XLSTAT_PDFStudent(B153,23)","v":1.2149316676495218E-2},153,-3.7018543763,-3.7018543763,{"$f":"[2]!XLSTAT_PDFStudent(F153,23)","v":1.4467822271864758E-3},153,null,-1.7253805923000001,{"$f":"[2]!XLSTAT_PDFStudent(K153,23)","v":9.1594513053262994E-2},153,null,9,7]
[154,51,2.7820079286999997,{"$f":"[2]!XLSTAT_PDFStudent(B154,23)","v":8.1163173797967258E-26},154,51,-3.7018543763,{"$f":"[2]!XLSTAT_PDFStudent(F154,23)","v":8.1163173797967258E-26},154,null,-1.7076843811,{"$f":"[2]!XLSTAT_PDFStudent(K154,23)","v":9.4204563636947056E-2},154,null,10,7]
[155,51,2.7913941170999998,{"$f":"[2]!XLSTAT_PDFStudent(B155,23)","v":8.1163173797967258E-26},155,51,-3.6924681878999999,{"$f":"[2]!XLSTAT_PDFStudent(F155,23)","v":8.1163173797967258E-26},155,null,-1.6899881698999999,{"$f":"[2]!XLSTAT_PDFStudent(K155,23)","v":9.6867217338823933E-2},155,null,11,7]
[156,2.7913941170999998,2.7913941170999998,{"$f":"[2]!XLSTAT_PDFStudent(B156,23)","v":1.1903929157887932E-2},156,-3.6924681878999999,-3.6924681878999999,{"$f":"[2]!XLSTAT_PDFStudent(F156,23)","v":1.4800186442339251E-3},156,null,-1.6722919586999998,{"$f":"[2]!XLSTAT_PDFStudent(K156,23)","v":9.9582575876484988E-2},156,null,12,7]
[157,2.8007803055,2.8007803055,{"$f":"[2]!XLSTAT_PDFStudent(B157,23)","v":1.1663102325593E-2},157,-3.6830819994999997,-3.6830819994999997,{"$f":"[2]!XLSTAT_PDFStudent(F157,23)","v":1.5139962497838207E-3},157,null,-1.6545957475000002,{"$f":"[2]!XLSTAT_PDFStudent(K157,23)","v":0.10235069390389818},157,null,13,7]
[158,51,2.8007803055,{"$f":"[2]!XLSTAT_PDFStudent(B158,23)","v":8.1163173797967258E-26},158,51,-3.6830819994999997,{"$f":"[2]!XLSTAT_PDFStudent(F158,23)","v":8.1163173797967258E-26},158,null,-1.6368995363000001,{"$f":"[2]!XLSTAT_PDFStudent(K158,23)","v":0.10517157717157684},158,null,14,7]
[159,51,2.8101664938999997,{"$f":"[2]!XLSTAT_PDFStudent(B159,23)","v":8.1163173797967258E-26},159,51,-3.6736958111,{"$f":"[2]!XLSTAT_PDFStudent(F159,23)","v":8.1163173797967258E-26},159,null,-1.6192033251,{"$f":"[2]!XLSTAT_PDFStudent(K159,23)","v":0.10804518069831351},159,null,15,7]
[160,2.8101664938999997,2.8101664938999997,{"$f":"[2]!XLSTAT_PDFStudent(B160,23)","v":1.1426762733658257E-2},160,-3.6736958111,-3.6736958111,{"$f":"[2]!XLSTAT_PDFStudent(F160,23)","v":1.5487307893222075E-3},160,null,-1.6015071138999999,{"$f":"[2]!XLSTAT_PDFStudent(K160,23)","v":0.11097140695890879},160,null,16,7]
[161,2.8195526822999999,2.8195526822999999,{"$f":"[2]!XLSTAT_PDFStudent(B161,23)","v":1.1194837803226056E-2},161,-3.6643096226999998,-3.6643096226999998,{"$f":"[2]!XLSTAT_PDFStudent(F161,23)","v":1.5842383170297457E-3},161,null,-1.5838109026999998,{"$f":"[2]!XLSTAT_PDFStudent(K161,23)","v":0.11395010409247829},161,null,17,7]
[162,51,2.8195526822999999,{"$f":"[2]!XLSTAT_PDFStudent(B162,23)","v":8.1163173797967258E-26},162,51,-3.6643096226999998,{"$f":"[2]!XLSTAT_PDFStudent(F162,23)","v":8.1163173797967258E-26},162,null,-1.5661146915000002,{"$f":"[2]!XLSTAT_PDFStudent(K162,23)","v":0.11698106413607032},162,null,18,7]
[163,51,2.8289388707000001,{"$f":"[2]!XLSTAT_PDFStudent(B163,23)","v":8.1163173797967258E-26},163,51,-3.6549234342999997,{"$f":"[2]!XLSTAT_PDFStudent(F163,23)","v":8.1163173797967258E-26},163,null,-1.5484184803000001,{"$f":"[2]!XLSTAT_PDFStudent(K163,23)","v":0.1200640212884663},163,null,19,7]
[164,2.8289388707000001,2.8289388707000001,{"$f":"[2]!XLSTAT_PDFStudent(B164,23)","v":1.0967255821252204E-2},164,-3.6549234342999997,-3.6549234342999997,{"$f":"[2]!XLSTAT_PDFStudent(F164,23)","v":1.6205352010151507E-3},164,null,-1.5307222691,{"$f":"[2]!XLSTAT_PDFStudent(K164,23)","v":0.12319865020916},164,null,20,7]
[165,2.8383250590999998,2.8383250590999998,{"$f":"[2]!XLSTAT_PDFStudent(B165,23)","v":1.074394593892083E-2},165,-3.6455372458999999,-3.6455372458999999,{"$f":"[2]!XLSTAT_PDFStudent(F165,23)","v":1.6576381286116052E-3},165,null,-1.5130260578999999,{"$f":"[2]!XLSTAT_PDFStudent(K165,23)","v":0.12638456435764361},165,null,21,7]
[166,51,2.8383250590999998,{"$f":"[2]!XLSTAT_PDFStudent(B166,23)","v":8.1163173797967258E-26},166,51,-3.6455372458999999,{"$f":"[2]!XLSTAT_PDFStudent(F166,23)","v":8.1163173797967258E-26},166,null,-1.4953298467000002,{"$f":"[2]!XLSTAT_PDFStudent(K166,23)","v":0.12962131437822319},166,null,22,7]
[167,51,2.8477112474999999,{"$f":"[2]!XLSTAT_PDFStudent(B167,23)","v":8.1163173797967258E-26},167,51,-3.6361510574999998,{"$f":"[2]!XLSTAT_PDFStudent(F167,23)","v":8.1163173797967258E-26},167,null,-1.4776336355000002,{"$f":"[2]!XLSTAT_PDFStudent(K167,23)","v":0.13290838653570455},167,null,23,7]
[168,2.8477112474999999,2.8477112474999999,{"$f":"[2]!XLSTAT_PDFStudent(B168,23)","v":1.0524838169765167E-2},168,-3.6361510574999998,-3.6361510574999998,{"$f":"[2]!XLSTAT_PDFStudent(F168,23)","v":1.6955641117361872E-3},168,null,-1.4599374243000001,{"$f":"[2]!XLSTAT_PDFStudent(K168,23)","v":0.13624520120735226},168,null,24,7]
[169,2.8570974359000001,2.8570974359000001,{"$f":"[2]!XLSTAT_PDFStudent(B169,23)","v":1.0309863387504368E-2},169,-3.6267648690999996,-3.6267648690999996,{"$f":"[2]!XLSTAT_PDFStudent(F169,23)","v":1.7343304923120614E-3},169,null,-1.4422412131,{"$f":"[2]!XLSTAT_PDFStudent(K169,23)","v":0.13963111143662407},169,null,1,8]
[170,51,2.8570974359000001,{"$f":"[2]!XLSTAT_PDFStudent(B170,23)","v":8.1163173797967258E-26},170,51,-3.6267648690999996,{"$f":"[2]!XLSTAT_PDFStudent(F170,23)","v":8.1163173797967258E-26},170,null,-1.4245450018999999,{"$f":"[2]!XLSTAT_PDFStudent(K170,23)","v":0.14306540155421851},170,null,2,8]
[171,51,2.8664836242999998,{"$f":"[2]!XLSTAT_PDFStudent(B171,23)","v":8.1163173797967258E-26},171,51,-3.6173786806999999,{"$f":"[2]!XLSTAT_PDFStudent(F171,23)","v":8.1163173797967258E-26},171,null,-1.4068487907000002,{"$f":"[2]!XLSTAT_PDFStudent(K171,23)","v":0.14654728587203267},171,null,3,8]
[172,2.8664836242999998,2.8664836242999998,{"$f":"[2]!XLSTAT_PDFStudent(B172,23)","v":1.0098953323605617E-2},172,-3.6173786806999999,-3.6173786806999999,{"$f":"[2]!XLSTAT_PDFStudent(F172,23)","v":1.7739549477533677E-3},172,null,-1.3891525795000002,{"$f":"[2]!XLSTAT_PDFStudent(K172,23)","v":0.15007590745565064},172,null,4,8]
[173,2.8758698127,2.8758698127,{"$f":"[2]!XLSTAT_PDFStudent(B173,23)","v":9.8920405645814037E-3},173,-3.6079924922999997,-3.6079924922999997,{"$f":"[2]!XLSTAT_PDFStudent(F173,23)","v":1.8144554965125953E-3},173,null,-1.3714563683000001,{"$f":"[2]!XLSTAT_PDFStudent(K173,23)","v":0.15365033698099068},173,null,5,8]
[174,51,2.8758698127,{"$f":"[2]!XLSTAT_PDFStudent(B174,23)","v":8.1163173797967258E-26},174,51,-3.6079924922999997,{"$f":"[2]!XLSTAT_PDFStudent(F174,23)","v":8.1163173797967258E-26},174,null,-1.3537601571,{"$f":"[2]!XLSTAT_PDFStudent(K174,23)","v":0.15726957168074235},174,null,6,8]
[175,51,2.8852560011000001,{"$f":"[2]!XLSTAT_PDFStudent(B175,23)","v":8.1163173797967258E-26},175,51,-3.5986063038999996,{"$f":"[2]!XLSTAT_PDFStudent(F175,23)","v":8.1163173797967258E-26},175,null,-1.3360639458999999,{"$f":"[2]!XLSTAT_PDFStudent(K175,23)","v":0.16093253438618974},175,null,7,8]
[176,2.8852560011000001,2.8852560011000001,{"$f":"[2]!XLSTAT_PDFStudent(B176,23)","v":9.6890585490311838E-3},176,-3.5986063038999996,-3.5986063038999996,{"$f":"[2]!XLSTAT_PDFStudent(F176,23)","v":1.8558505036901508E-3},176,null,-1.3183677347000002,{"$f":"[2]!XLSTAT_PDFStudent(K176,23)","v":0.16463807266998895},176,null,8,8]
[177,2.8946421894999999,2.8946421894999999,{"$f":"[2]!XLSTAT_PDFStudent(B177,23)","v":9.4899415644368584E-3},177,-3.5892201154999999,-3.5892201154999999,{"$f":"[2]!XLSTAT_PDFStudent(F177,23)","v":1.8981586867059099E-3},177,null,-1.3006715235000001,{"$f":"[2]!XLSTAT_PDFStudent(K177,23)","v":0.16838495809539125},177,null,9,8]
[178,51,2.8946421894999999,{"$f":"[2]!XLSTAT_PDFStudent(B178,23)","v":8.1163173797967258E-26},178,51,-3.5892201154999999,{"$f":"[2]!XLSTAT_PDFStudent(F178,23)","v":8.1163173797967258E-26},178,null,-1.2829753123000001,{"$f":"[2]!XLSTAT_PDFStudent(K178,23)","v":0.17217188557733032},178,null,10,8]
[179,51,2.9040283779,{"$f":"[2]!XLSTAT_PDFStudent(B179,23)","v":8.1163173797967258E-26},179,51,-3.5798339270999997,{"$f":"[2]!XLSTAT_PDFStudent(F179,23)","v":8.1163173797967258E-26},179,null,-1.2652791011,{"$f":"[2]!XLSTAT_PDFStudent(K179,23)","v":0.17599747286068948},179,null,11,8]
[180,2.9040283779,2.9040283779,{"$f":"[2]!XLSTAT_PDFStudent(B180,23)","v":9.2946247437205812E-3},180,-3.5798339270999997,-3.5798339270999997,{"$f":"[2]!XLSTAT_PDFStudent(F180,23)","v":1.9413991210324502E-3},180,null,-1.2475828898999999,{"$f":"[2]!XLSTAT_PDFStudent(K180,23)","v":0.17986026012093825},180,null,12,8]
[181,2.9134145662999997,2.9134145662999997,{"$f":"[2]!XLSTAT_PDFStudent(B181,23)","v":9.1030440615748522E-3},181,-3.5704477387,-3.5704477387,{"$f":"[2]!XLSTAT_PDFStudent(F181,23)","v":1.9855912459894585E-3},181,null,-1.2298866787000002,{"$f":"[2]!XLSTAT_PDFStudent(K181,23)","v":0.18375870969218652},181,null,13,8]
[182,51,2.9134145662999997,{"$f":"[2]!XLSTAT_PDFStudent(B182,23)","v":8.1163173797967258E-26},182,51,-3.5704477387,{"$f":"[2]!XLSTAT_PDFStudent(F182,23)","v":8.1163173797967258E-26},182,null,-1.2121904675000001,{"$f":"[2]!XLSTAT_PDFStudent(K182,23)","v":0.18769120592753558},182,null,14,8]
[183,51,2.9228007546999999,{"$f":"[2]!XLSTAT_PDFStudent(B183,23)","v":8.1163173797967258E-26},183,51,-3.5610615502999998,{"$f":"[2]!XLSTAT_PDFStudent(F183,23)","v":8.1163173797967258E-26},183,null,-1.1944942563000001,{"$f":"[2]!XLSTAT_PDFStudent(K183,23)","v":0.19165605519641549},183,null,15,8]
[184,2.9228007546999999,2.9228007546999999,{"$f":"[2]!XLSTAT_PDFStudent(B184,23)","v":8.9151363305724918E-3},184,-3.5610615502999998,-3.5610615502999998,{"$f":"[2]!XLSTAT_PDFStudent(F184,23)","v":2.030754870599131E-3},184,null,-1.1767980451,{"$f":"[2]!XLSTAT_PDFStudent(K184,23)","v":0.1956514860234011},184,null,16,8]
[185,2.9321869430999996,2.9321869430999996,{"$f":"[2]!XLSTAT_PDFStudent(B185,23)","v":8.7308391970659528E-3},185,-3.5516753619000001,-3.5516753619000001,{"$f":"[2]!XLSTAT_PDFStudent(F185,23)","v":2.0769101795018929E-3},185,null,-1.1591018338999999,{"$f":"[2]!XLSTAT_PDFStudent(K185,23)","v":0.19967564937274421},185,null,17,8]
[186,51,2.9321869430999996,{"$f":"[2]!XLSTAT_PDFStudent(B186,23)","v":8.1163173797967258E-26},186,51,-3.5516753619000001,{"$f":"[2]!XLSTAT_PDFStudent(F186,23)","v":8.1163173797967258E-26},186,null,-1.1414056227000002,{"$f":"[2]!XLSTAT_PDFStudent(K186,23)","v":0.20372661908263048},186,null,18,8]
[187,51,2.9415731314999998,{"$f":"[2]!XLSTAT_PDFStudent(B187,23)","v":8.1163173797967258E-26},187,51,-3.5422891734999999,{"$f":"[2]!XLSTAT_PDFStudent(F187,23)","v":8.1163173797967258E-26},187,null,-1.1237094115000001,{"$f":"[2]!XLSTAT_PDFStudent(K187,23)","v":0.20780239245287177},187,null,19,8]
[188,2.9415731314999998,2.9415731314999998,{"$f":"[2]!XLSTAT_PDFStudent(B188,23)","v":8.5500911368841456E-3},188,-3.5422891734999999,-3.5422891734999999,{"$f":"[2]!XLSTAT_PDFStudent(F188,23)","v":2.1240777389320686E-3},188,null,-1.1060132003000001,{"$f":"[2]!XLSTAT_PDFStudent(K188,23)","v":0.21190089098946271},188,null,20,8]
[189,2.9509593198999999,2.9509593198999999,{"$f":"[2]!XLSTAT_PDFStudent(B189,23)","v":8.3728314508348996E-3},189,-3.5329029850999998,-3.5329029850999998,{"$f":"[2]!XLSTAT_PDFStudent(F189,23)","v":2.1722785027529327E-3},189,null,-1.0883169891,{"$f":"[2]!XLSTAT_PDFStudent(K189,23)","v":0.21601996130910298},189,null,21,8]
[190,51,2.9509593198999999,{"$f":"[2]!XLSTAT_PDFStudent(B190,23)","v":8.1163173797967258E-26},190,51,-3.5329029850999998,{"$f":"[2]!XLSTAT_PDFStudent(F190,23)","v":8.1163173797967258E-26},190,null,-1.0706207778999999,{"$f":"[2]!XLSTAT_PDFStudent(K190,23)","v":0.22015737620645015},190,null,22,8]
[191,51,2.9603455082999997,{"$f":"[2]!XLSTAT_PDFStudent(B191,23)","v":8.1163173797967258E-26},191,51,-3.5235167967000001,{"$f":"[2]!XLSTAT_PDFStudent(F191,23)","v":8.1163173797967258E-26},191,null,-1.0529245667000002,{"$f":"[2]!XLSTAT_PDFStudent(K191,23)","v":0.22431083588650305},191,null,23,8]
[192,2.9603455082999997,2.9603455082999997,{"$f":"[2]!XLSTAT_PDFStudent(B192,23)","v":8.1990002600215578E-3},192,-3.5235167967000001,-3.5235167967000001,{"$f":"[2]!XLSTAT_PDFStudent(F192,23)","v":2.2215338185504765E-3},192,null,-1.0352283555000001,{"$f":"[2]!XLSTAT_PDFStudent(K192,23)","v":0.22847796936414469},192,null,24,8]
[193,{"$f":"IF(-1^(INT(A193/2)+2)>0,2.0686576103+2*INT(A193/2-1/2)*0.0046930942,51)","v":2.9697316966999998},{"$f":"2.0686576103+2*INT(A193/2-1/2)*0.0046930942","v":2.9697316966999998},{"$f":"[2]!XLSTAT_PDFStudent(B193,23)","v":8.0285385009813293E-3},193,{"$f":"IF(-1^(INT(E193/2)+2)>0,-4.4152046947+2*INT(E193/2-1/2)*0.0046930942,51)","v":-3.5141306082999999},{"$f":"-4.4152046947+2*INT(E193/2-1/2)*0.0046930942","v":-3.5141306082999999},{"$f":"[2]!XLSTAT_PDFStudent(F193,23)","v":2.271865433785279E-3},193,null,{"$f":"-4.4152046947+(I193-1)*0.0176962112","v":-1.0175321443000001},{"$f":"[2]!XLSTAT_PDFStudent(K193,23)","v":0.2326563360324618},193,null,{"$f":"M193-24*INT((-1/2+M193)/24)","v":1},{"$f":"1+INT((M193-1/2)/24)","v":9}]
[194,51,2.9697316966999998,{"$f":"[2]!XLSTAT_PDFStudent(B194,23)","v":8.1163173797967258E-26},194,51,-3.5141306082999999,{"$f":"[2]!XLSTAT_PDFStudent(F194,23)","v":8.1163173797967258E-26},194,null,-0.99983593309999996,{"$f":"[2]!XLSTAT_PDFStudent(K194,23)","v":0.23684342740105307},194,null,2,9]
[195,51,2.9791178851,{"$f":"[2]!XLSTAT_PDFStudent(B195,23)","v":8.1163173797967258E-26},195,51,-3.5047444198999997,{"$f":"[2]!XLSTAT_PDFStudent(F195,23)","v":8.1163173797967258E-26},195,null,-0.98213972189999987,{"$f":"[2]!XLSTAT_PDFStudent(K195,23)","v":0.24103666900509882},195,null,3,9]
[196,2.9791178851,2.9791178851,{"$f":"[2]!XLSTAT_PDFStudent(B196,23)","v":7.861387920653563E-3},196,-3.5047444198999997,-3.5047444198999997,{"$f":"[2]!XLSTAT_PDFStudent(F196,23)","v":2.3232955020017973E-3},196,null,-0.96444351070000023,{"$f":"[2]!XLSTAT_PDFStudent(K196,23)","v":0.24523342248550875},196,null,4,9]
[197,2.9885040734999997,2.9885040734999997,{"$f":"[2]!XLSTAT_PDFStudent(B197,23)","v":7.6974910711852668E-3},197,-3.4953582315,-3.4953582315,{"$f":"[2]!XLSTAT_PDFStudent(F197,23)","v":2.3758465890942322E-3},197,null,-0.94674729950000014,{"$f":"[2]!XLSTAT_PDFStudent(K197,23)","v":0.24943098784000994},197,null,5,9]
[198,51,2.9885040734999997,{"$f":"[2]!XLSTAT_PDFStudent(B198,23)","v":8.1163173797967258E-26},198,51,-3.4953582315,{"$f":"[2]!XLSTAT_PDFStudent(F198,23)","v":8.1163173797967258E-26},198,null,-0.92905108830000005,{"$f":"[2]!XLSTAT_PDFStudent(K198,23)","v":0.25362660584455327},198,null,6,9]
[199,51,2.9978902618999999,{"$f":"[2]!XLSTAT_PDFStudent(B199,23)","v":8.1163173797967258E-26},199,51,-3.4859720430999999,{"$f":"[2]!XLSTAT_PDFStudent(F199,23)","v":8.1163173797967258E-26},199,null,-0.91135487709999996,{"$f":"[2]!XLSTAT_PDFStudent(K199,23)","v":0.25781746064392003},199,null,7,9]
[200,2.9978902618999999,2.9978902618999999,{"$f":"[2]!XLSTAT_PDFStudent(B200,23)","v":7.5367913045817046E-3},200,-3.4859720430999999,-3.4859720430999999,{"$f":"[2]!XLSTAT_PDFStudent(F200,23)","v":2.4295416796282208E-3},200,null,-0.89365866589999987,{"$f":"[2]!XLSTAT_PDFStudent(K200,23)","v":0.26200068250991981},200,null,8,9]
[201,3.0072764503,3.0072764503,{"$f":"[2]!XLSTAT_PDFStudent(B201,23)","v":7.3792327672091316E-3},201,-3.4765858546999997,-3.4765858546999997,{"$f":"[2]!XLSTAT_PDFStudent(F201,23)","v":2.4844041832174091E-3},201,null,-0.87596245470000023,{"$f":"[2]!XLSTAT_PDFStudent(K201,23)","v":0.26617335076505022},201,null,9,9]
[202,51,3.0072764503,{"$f":"[2]!XLSTAT_PDFStudent(B202,23)","v":8.1163173797967258E-26},202,51,-3.4765858546999997,{"$f":"[2]!XLSTAT_PDFStudent(F202,23)","v":8.1163173797967258E-26},202,null,-0.85826624350000014,{"$f":"[2]!XLSTAT_PDFStudent(K202,23)","v":0.27033249686898009},202,null,10,9]
[203,51,3.0166626386999997,{"$f":"[2]!XLSTAT_PDFStudent(B203,23)","v":8.1163173797967258E-26},203,51,-3.4671996663,{"$f":"[2]!XLSTAT_PDFStudent(F203,23)","v":8.1163173797967258E-26},203,null,-0.84057003230000005,{"$f":"[2]!XLSTAT_PDFStudent(K203,23)","v":0.27447510766468369},203,null,11,9]
[204,3.0166626386999997,3.0166626386999997,{"$f":"[2]!XLSTAT_PDFStudent(B204,23)","v":7.2247603941571681E-3},204,-3.4671996663,-3.4671996663,{"$f":"[2]!XLSTAT_PDFStudent(F204,23)","v":2.5404579409540073E-3},204,null,-0.82287382109999996,{"$f":"[2]!XLSTAT_PDFStudent(K204,23)","v":0.27859812878052931},204,null,12,9]
[205,3.0260488270999999,3.0260488270999999,{"$f":"[2]!XLSTAT_PDFStudent(B205,23)","v":7.0733199034674786E-3},205,-3.4578134778999998,-3.4578134778999998,{"$f":"[2]!XLSTAT_PDFStudent(F205,23)","v":2.5977272318922734E-3},205,null,-0.80517760989999987,{"$f":"[2]!XLSTAT_PDFStudent(K205,23)","v":0.28269846818411032},205,null,13,9]
[206,51,3.0260488270999999,{"$f":"[2]!XLSTAT_PDFStudent(B206,23)","v":8.1163173797967258E-26},206,51,-3.4578134778999998,{"$f":"[2]!XLSTAT_PDFStudent(F206,23)","v":8.1163173797967258E-26},206,null,-0.78748139870000022,{"$f":"[2]!XLSTAT_PDFStudent(K206,23)","v":0.28677299988305277},206,null,14,9]
[207,51,3.0354350155000001,{"$f":"[2]!XLSTAT_PDFStudent(B207,23)","v":8.1163173797967258E-26},207,51,-3.4484272894999997,{"$f":"[2]!XLSTAT_PDFStudent(F207,23)","v":8.1163173797967258E-26},207,null,-0.76978518750000013,{"$f":"[2]!XLSTAT_PDFStudent(K207,23)","v":0.29081856776752013},207,null,15,9]
[208,3.0354350155000001,3.0354350155000001,{"$f":"[2]!XLSTAT_PDFStudent(B208,23)","v":6.9248577902360671E-3},208,-3.4484272894999997,-3.4484272894999997,{"$f":"[2]!XLSTAT_PDFStudent(F208,23)","v":2.6562367795839132E-3},208,null,-0.75208897630000004,{"$f":"[2]!XLSTAT_PDFStudent(K208,23)","v":0.29483198958862367},208,null,16,9]
[209,3.0448212038999998,3.0448212038999998,{"$f":"[2]!XLSTAT_PDFStudent(B209,23)","v":6.7793213205955142E-3},209,-3.4390411010999999,-3.4390411010999999,{"$f":"[2]!XLSTAT_PDFStudent(F209,23)","v":2.7160117586641623E-3},209,null,-0.73439276509999996,{"$f":"[2]!XLSTAT_PDFStudent(K209,23)","v":0.29881006106640717},209,null,17,9]
[210,51,3.0448212038999998,{"$f":"[2]!XLSTAT_PDFStudent(B210,23)","v":8.1163173797967258E-26},210,51,-3.4390411010999999,{"$f":"[2]!XLSTAT_PDFStudent(F210,23)","v":8.1163173797967258E-26},210,null,-0.71669655389999987,{"$f":"[2]!XLSTAT_PDFStudent(K210,23)","v":0.30274956012057797},210,null,18,9]
[211,51,3.0542073922999999,{"$f":"[2]!XLSTAT_PDFStudent(B211,23)","v":8.1163173797967258E-26},211,51,-3.4296549126999998,{"$f":"[2]!XLSTAT_PDFStudent(F211,23)","v":8.1163173797967258E-26},211,null,-0.69900034270000022,{"$f":"[2]!XLSTAT_PDFStudent(K211,23)","v":0.30664725121667308},211,null,19,9]
[212,3.0542073922999999,3.0542073922999999,{"$f":"[2]!XLSTAT_PDFStudent(B212,23)","v":6.6366585255840408E-3},212,-3.4296549126999998,-3.4296549126999998,{"$f":"[2]!XLSTAT_PDFStudent(F212,23)","v":2.777077801487446E-3},212,null,-0.68130413150000013,{"$f":"[2]!XLSTAT_PDFStudent(K212,23)","v":0.31049988981983812},212,null,20,9]
[213,3.0635935807000001,3.0635935807000001,{"$f":"[2]!XLSTAT_PDFStudent(B213,23)","v":6.4968181949076236E-3},213,-3.4202687242999996,-3.4202687242999996,{"$f":"[2]!XLSTAT_PDFStudent(F213,23)","v":2.8394610048112397E-3},213,null,-0.66360792030000004,{"$f":"[2]!XLSTAT_PDFStudent(K213,23)","v":0.31430422694794502},213,null,21,9]
[214,51,3.0635935807000001,{"$f":"[2]!XLSTAT_PDFStudent(B214,23)","v":8.1163173797967258E-26},214,51,-3.4202687242999996,{"$f":"[2]!XLSTAT_PDFStudent(F214,23)","v":8.1163173797967258E-26},214,null,-0.64591170909999995,{"$f":"[2]!XLSTAT_PDFStudent(K214,23)","v":0.31805701381532225},214,null,22,9]
[215,51,3.0729797690999998,{"$f":"[2]!XLSTAT_PDFStudent(B215,23)","v":8.1163173797967258E-26},215,51,-3.4108825358999999,{"$f":"[2]!XLSTAT_PDFStudent(F215,23)","v":8.1163173797967258E-26},215,null,-0.62821549789999986,{"$f":"[2]!XLSTAT_PDFStudent(K215,23)","v":0.32175500655793093},215,null,23,9]
[216,3.0729797690999998,3.0729797690999998,{"$f":"[2]!XLSTAT_PDFStudent(B216,23)","v":6.3597498706014976E-3},216,-3.4108825358999999,-3.4108825358999999,{"$f":"[2]!XLSTAT_PDFStudent(F216,23)","v":2.9031879365268914E-3},216,null,-0.61051928670000022,{"$f":"[2]!XLSTAT_PDFStudent(K216,23)","v":0.32539497103041948},216,null,24,9]
[217,3.0823659575,3.0823659575,{"$f":"[2]!XLSTAT_PDFStudent(B217,23)","v":6.2254038405972619E-3},217,-3.4014963474999997,-3.4014963474999997,{"$f":"[2]!XLSTAT_PDFStudent(F217,23)","v":2.9682856424358417E-3},217,null,-0.59282307550000013,{"$f":"[2]!XLSTAT_PDFStudent(K217,23)","v":0.32897368766508683},217,null,1,10]
[218,51,3.0823659575,{"$f":"[2]!XLSTAT_PDFStudent(B218,23)","v":8.1163173797967258E-26},218,51,-3.4014963474999997,{"$f":"[2]!XLSTAT_PDFStudent(F218,23)","v":8.1163173797967258E-26},218,null,-0.57512686430000004,{"$f":"[2]!XLSTAT_PDFStudent(K218,23)","v":0.33248795638244},218,null,2,10]
[219,51,3.0917521459000001,{"$f":"[2]!XLSTAT_PDFStudent(B219,23)","v":8.1163173797967258E-26},219,51,-3.3921101590999996,{"$f":"[2]!XLSTAT_PDFStudent(F219,23)","v":8.1163173797967258E-26},219,null,-0.55743065309999995,{"$f":"[2]!XLSTAT_PDFStudent(K219,23)","v":0.33593460154268928},219,null,3,10]
[220,3.0917521459000001,3.0917521459000001,{"$f":"[2]!XLSTAT_PDFStudent(B220,23)","v":6.0937311322013313E-3},220,-3.3921101590999996,-3.3921101590999996,{"$f":"[2]!XLSTAT_PDFStudent(F220,23)","v":3.0347816530698689E-3},220,null,-0.53973444189999986,{"$f":"[2]!XLSTAT_PDFStudent(K220,23)","v":0.33931047692721211},220,null,4,10]
[221,3.1011383342999999,3.1011383342999999,{"$f":"[2]!XLSTAT_PDFStudent(B221,23)","v":5.9646835054908429E-3},221,-3.3827239706999999,-3.3827239706999999,{"$f":"[2]!XLSTAT_PDFStudent(F221,23)","v":3.1027039905537237E-3},221,null,-0.52203823070000022,{"$f":"[2]!XLSTAT_PDFStudent(K221,23)","v":0.34261247073875734},221,null,5,10]
[222,51,3.1011383342999999,{"$f":"[2]!XLSTAT_PDFStudent(B222,23)","v":8.1163173797967258E-26},222,51,-3.3827239706999999,{"$f":"[2]!XLSTAT_PDFStudent(F222,23)","v":8.1163173797967258E-26},222,null,-0.50434201950000013,{"$f":"[2]!XLSTAT_PDFStudent(K222,23)","v":0.34583751060891399},222,null,6,10]
[223,51,3.1105245226999996,{"$f":"[2]!XLSTAT_PDFStudent(B223,23)","v":8.1163173797967258E-26},223,51,-3.3733377823000001,{"$f":"[2]!XLSTAT_PDFStudent(F223,23)","v":8.1163173797967258E-26},223,null,-0.48664580830000004,{"$f":"[2]!XLSTAT_PDFStudent(K223,23)","v":0.34898256860115429},223,null,7,10]
[224,3.1105245226999996,3.1105245226999996,{"$f":"[2]!XLSTAT_PDFStudent(B224,23)","v":5.8382134466323536E-3},224,-3.3733377823000001,-3.3733377823000001,{"$f":"[2]!XLSTAT_PDFStudent(F224,23)","v":3.1720811755084496E-3},224,null,-0.46894959709999995,{"$f":"[2]!XLSTAT_PDFStudent(K224,23)","v":0.35204466619760777},224,null,8,10]
[225,3.1199107111000002,3.1199107111000002,{"$f":"[2]!XLSTAT_PDFStudent(B225,23)","v":5.7142741611292472E-3},225,-3.3639515938999995,-3.3639515938999995,{"$f":"[2]!XLSTAT_PDFStudent(F225,23)","v":3.2429422339938048E-3},225,null,-0.4512533859000003,{"$f":"[2]!XLSTAT_PDFStudent(K225,23)","v":0.35502087925756842},225,null,9,10]
[226,51,3.1199107111000002,{"$f":"[2]!XLSTAT_PDFStudent(B226,23)","v":8.1163173797967258E-26},226,51,-3.3639515938999995,{"$f":"[2]!XLSTAT_PDFStudent(F226,23)","v":8.1163173797967258E-26},226,null,-0.43355717470000021,{"$f":"[2]!XLSTAT_PDFStudent(K226,23)","v":0.35790834293566026},226,null,10,10]
[227,51,3.1292968994999999,{"$f":"[2]!XLSTAT_PDFStudent(B227,23)","v":8.1163173797967258E-26},227,51,-3.3545654054999998,{"$f":"[2]!XLSTAT_PDFStudent(F227,23)","v":8.1163173797967258E-26},227,null,-0.41586096350000012,{"$f":"[2]!XLSTAT_PDFStudent(K227,23)","v":0.3607042565475167},227,null,11,10]
[228,3.1292968994999999,3.1292968994999999,{"$f":"[2]!XLSTAT_PDFStudent(B228,23)","v":5.5928195670028923E-3},228,-3.3545654054999998,-3.3545654054999998,{"$f":"[2]!XLSTAT_PDFStudent(F228,23)","v":3.3153167044877134E-3},228,null,-0.39816475230000048,{"$f":"[2]!XLSTAT_PDFStudent(K228,23)","v":0.3634058883708241},228,null,12,10]
[229,3.1386830878999996,3.1386830878999996,{"$f":"[2]!XLSTAT_PDFStudent(B229,23)","v":5.4738042879129709E-3},229,-3.3451792171000001,-3.3451792171000001,{"$f":"[2]!XLSTAT_PDFStudent(F229,23)","v":3.3892346449011625E-3},229,null,-0.38046854109999995,{"$f":"[2]!XLSTAT_PDFStudent(K229,23)","v":0.36601058036958711},229,null,13,10]
[230,51,3.1386830878999996,{"$f":"[2]!XLSTAT_PDFStudent(B230,23)","v":8.1163173797967258E-26},230,51,-3.3451792171000001,{"$f":"[2]!XLSTAT_PDFStudent(F230,23)","v":8.1163173797967258E-26},230,null,-0.3627723299000003,{"$f":"[2]!XLSTAT_PDFStudent(K230,23)","v":0.368515752829566},230,null,14,10]
[231,51,3.1480692762999998,{"$f":"[2]!XLSTAT_PDFStudent(B231,23)","v":8.1163173797967258E-26},231,51,-3.3357930286999999,{"$f":"[2]!XLSTAT_PDFStudent(F231,23)","v":8.1163173797967258E-26},231,null,-0.34507611869999977,{"$f":"[2]!XLSTAT_PDFStudent(K231,23)","v":0.37091890889290496},231,null,15,10]
[232,3.1480692762999998,3.1480692762999998,{"$f":"[2]!XLSTAT_PDFStudent(B232,23)","v":5.3571836462220574E-3},232,-3.3357930286999999,-3.3357930286999999,{"$f":"[2]!XLSTAT_PDFStudent(F232,23)","v":3.4647266396261927E-3},232,null,-0.32737990750000012,{"$f":"[2]!XLSTAT_PDFStudent(K232,23)","v":0.37321763898017357},232,null,16,10]
[233,3.1574554646999999,3.1574554646999999,{"$f":"[2]!XLSTAT_PDFStudent(B233,23)","v":5.2429136560093945E-3},233,-3.3264068402999998,-3.3264068402999998,{"$f":"[2]!XLSTAT_PDFStudent(F233,23)","v":3.5418238066152229E-3},233,null,-0.30968369630000048,{"$f":"[2]!XLSTAT_PDFStudent(K233,23)","v":0.37540962508816084},233,null,17,10]
[234,51,3.1574554646999999,{"$f":"[2]!XLSTAT_PDFStudent(B234,23)","v":8.1163173797967258E-26},234,51,-3.3264068402999998,{"$f":"[2]!XLSTAT_PDFStudent(F234,23)","v":8.1163173797967258E-26},234,null,-0.29198748509999994,{"$f":"[2]!XLSTAT_PDFStudent(K234,23)","v":0.3774926449520743},234,null,18,10]
[235,51,3.1668416530999997,{"$f":"[2]!XLSTAT_PDFStudent(B235,23)","v":8.1163173797967258E-26},235,51,-3.3170206519000001,{"$f":"[2]!XLSTAT_PDFStudent(F235,23)","v":8.1163173797967258E-26},235,null,-0.2742912739000003,{"$f":"[2]!XLSTAT_PDFStudent(K235,23)","v":0.37946457606099759},235,null,19,10]
[236,3.1668416530999997,3.1668416530999997,{"$f":"[2]!XLSTAT_PDFStudent(B236,23)","v":5.1309510160386686E-3},236,-3.3170206519000001,-3.3170206519000001,{"$f":"[2]!XLSTAT_PDFStudent(F236,23)","v":3.6205578044893076E-3},236,null,-0.25659506269999977,{"$f":"[2]!XLSTAT_PDFStudent(K236,23)","v":0.38132339951582606},236,null,20,10]
[237,3.1762278414999998,3.1762278414999998,{"$f":"[2]!XLSTAT_PDFStudent(B237,23)","v":5.0212531026845031E-3},237,-3.3076344634999999,-3.3076344634999999,{"$f":"[2]!XLSTAT_PDFStudent(F237,23)","v":3.7009608396731653E-3},237,null,-0.23889885150000012,{"$f":"[2]!XLSTAT_PDFStudent(K237,23)","v":0.38306720371920849},237,null,21,10]
[238,51,3.1762278414999998,{"$f":"[2]!XLSTAT_PDFStudent(B238,23)","v":8.1163173797967258E-26},238,51,-3.3076344634999999,{"$f":"[2]!XLSTAT_PDFStudent(F238,23)","v":8.1163173797967258E-26},238,null,-0.22120264030000047,{"$f":"[2]!XLSTAT_PDFStudent(K238,23)","v":0.38469418788746745},238,null,22,10]
[239,51,3.1856140299,{"$f":"[2]!XLSTAT_PDFStudent(B239,23)","v":8.1163173797967258E-26},239,51,-3.2982482750999997,{"$f":"[2]!XLSTAT_PDFStudent(F239,23)","v":8.1163173797967258E-26},239,null,-0.20350642909999994,{"$f":"[2]!XLSTAT_PDFStudent(K239,23)","v":0.38620266537482723},239,null,23,10]
[240,3.1856140299,3.1856140299,{"$f":"[2]!XLSTAT_PDFStudent(B240,23)","v":4.9137779628221781E-3},240,-3.2982482750999997,-3.2982482750999997,{"$f":"[2]!XLSTAT_PDFStudent(F240,23)","v":3.7830656735545901E-3},240,null,-0.1858102179000003,{"$f":"[2]!XLSTAT_PDFStudent(K240,23)","v":0.38759106680082422},240,null,24,10]
[241,3.1950002182999997,3.1950002182999997,{"$f":"[2]!XLSTAT_PDFStudent(B241,23)","v":4.808484306685133E-3},241,-3.2888620867,-3.2888620867,{"$f":"[2]!XLSTAT_PDFStudent(F241,23)","v":3.8669056296657873E-3},241,null,-0.16811400669999976,{"$f":"[2]!XLSTAT_PDFStudent(K241,23)","v":0.38885794297220111},241,null,1,11]
[242,51,3.1950002182999997,{"$f":"[2]!XLSTAT_PDFStudent(B242,23)","v":8.1163173797967258E-26},242,51,-3.2888620867,{"$f":"[2]!XLSTAT_PDFStudent(F242,23)","v":8.1163173797967258E-26},242,null,-0.15041779550000012,{"$f":"[2]!XLSTAT_PDFStudent(K242,23)","v":0.39000196759117128},242,null,2,11]
[243,51,3.2043864066999999,{"$f":"[2]!XLSTAT_PDFStudent(B243,23)","v":8.1163173797967258E-26},243,51,-3.2794758982999999,{"$f":"[2]!XLSTAT_PDFStudent(F243,23)","v":8.1163173797967258E-26},243,null,-0.13272158430000047,{"$f":"[2]!XLSTAT_PDFStudent(K243,23)","v":0.39102193974246563},243,null,3,11]
[244,3.2043864066999999,3.2043864066999999,{"$f":"[2]!XLSTAT_PDFStudent(B244,23)","v":4.7053315006942882E-3},244,-3.2794758982999999,-3.2794758982999999,{"$f":"[2]!XLSTAT_PDFStudent(F244,23)","v":3.9525146008840949E-3},244,null,-0.11502537309999994,{"$f":"[2]!XLSTAT_PDFStudent(K244,23)","v":0.3919167861521905},244,null,4,11]
[245,3.2137725951,3.2137725951,{"$f":"[2]!XLSTAT_PDFStudent(B245,23)","v":4.6042795602636299E-3},245,-3.2700897098999997,-3.2700897098999997,{"$f":"[2]!XLSTAT_PDFStudent(F245,23)","v":4.039927056649328E-3},245,null,-9.7329161900000294E-2,{"$f":"[2]!XLSTAT_PDFStudent(K245,23)","v":0.39268556321213532},245,null,5,11]
[246,51,3.2137725951,{"$f":"[2]!XLSTAT_PDFStudent(B246,23)","v":8.1163173797967258E-26},246,51,-3.2700897098999997,{"$f":"[2]!XLSTAT_PDFStudent(F246,23)","v":8.1163173797967258E-26},246,null,-7.9632950699999761E-2,{"$f":"[2]!XLSTAT_PDFStudent(K246,23)","v":0.39332745876380121},246,null,6,11]
[247,51,3.2231587834999997,{"$f":"[2]!XLSTAT_PDFStudent(B247,23)","v":8.1163173797967258E-26},247,51,-3.2607035215,{"$f":"[2]!XLSTAT_PDFStudent(F247,23)","v":8.1163173797967258E-26},247,null,-6.1936739500000115E-2,{"$f":"[2]!XLSTAT_PDFStudent(K247,23)","v":0.39384179363710703},247,null,7,11]
[248,3.2231587834999997,3.2231587834999997,{"$f":"[2]!XLSTAT_PDFStudent(B248,23)","v":4.5052891425858893E-3},248,-3.2607035215,-3.2607035215,{"$f":"[2]!XLSTAT_PDFStudent(F248,23)","v":4.1291780501951456E-3},248,null,-4.424052830000047E-2,{"$f":"[2]!XLSTAT_PDFStudent(K248,23)","v":0.39422802293939774},248,null,8,11]
[249,3.2325449718999999,3.2325449718999999,{"$f":"[2]!XLSTAT_PDFStudent(B249,23)","v":4.4083215394023125E-3},249,-3.2513173330999998,-3.2513173330999998,{"$f":"[2]!XLSTAT_PDFStudent(F249,23)","v":4.2203032257914601E-3},249,null,-2.6544317099999937E-2,{"$f":"[2]!XLSTAT_PDFStudent(K249,23)","v":0.39448573709109336},249,null,9,11]
[250,51,3.2325449718999999,{"$f":"[2]!XLSTAT_PDFStudent(B250,23)","v":8.1163173797967258E-26},250,51,-3.2513173330999998,{"$f":"[2]!XLSTAT_PDFStudent(F250,23)","v":8.1163173797967258E-26},250,null,-8.8481059000002915E-3,{"$f":"[2]!XLSTAT_PDFStudent(K250,23)","v":0.3946146626050217},250,null,10,11]
[251,51,3.2419311603000001,{"$f":"[2]!XLSTAT_PDFStudent(B251,23)","v":8.1163173797967258E-26},251,51,-3.2419311446999997,{"$f":"[2]!XLSTAT_PDFStudent(F251,23)","v":8.1163173797967258E-26},251,null,8.8481053000002419E-3,{"$f":"[2]!XLSTAT_PDFStudent(K251,23)","v":0.39461466260720768},251,null,11,11]
[252,3.2419311603000001,3.2419311603000001,{"$f":"[2]!XLSTAT_PDFStudent(B252,23)","v":4.3133386697602819E-3},252,-3.2419311446999997,-3.2419311446999997,{"$f":"[2]!XLSTAT_PDFStudent(F252,23)","v":4.3133388259948956E-3},252,null,2.6544316499999887E-2,{"$f":"[2]!XLSTAT_PDFStudent(K252,23)","v":0.39448573709765},252,null,12,11]
[253,3.2513173486999998,3.2513173486999998,{"$f":"[2]!XLSTAT_PDFStudent(B253,23)","v":4.2203030727624609E-3},253,-3.2325449562999999,-3.2325449562999999,{"$f":"[2]!XLSTAT_PDFStudent(F253,23)","v":4.4083216989042858E-3},253,null,4.4240527699999532E-2,{"$f":"[2]!XLSTAT_PDFStudent(K253,23)","v":0.39422802295031611},253,null,13,11]
[254,51,3.2513173486999998,{"$f":"[2]!XLSTAT_PDFStudent(B254,23)","v":8.1163173797967258E-26},254,51,-3.2325449562999999,{"$f":"[2]!XLSTAT_PDFStudent(F254,23)","v":8.1163173797967258E-26},254,null,6.1936738900000066E-2,{"$f":"[2]!XLSTAT_PDFStudent(K254,23)","v":0.39384179365237648},254,null,14,11]
[255,51,3.2607035370999999,{"$f":"[2]!XLSTAT_PDFStudent(B255,23)","v":8.1163173797967258E-26},255,51,-3.2231587678999998,{"$f":"[2]!XLSTAT_PDFStudent(F255,23)","v":8.1163173797967258E-26},255,null,7.9632950099999711E-2,{"$f":"[2]!XLSTAT_PDFStudent(K255,23)","v":0.39332745878340664},255,null,15,11]
[256,3.2607035370999999,3.2607035370999999,{"$f":"[2]!XLSTAT_PDFStudent(B256,23)","v":4.1291779003110231E-3},256,-3.2231587678999998,-3.2231587678999998,{"$f":"[2]!XLSTAT_PDFStudent(F256,23)","v":4.5052893054179947E-3},256,null,9.7329161300000244E-2,{"$f":"[2]!XLSTAT_PDFStudent(K256,23)","v":0.39268556323605491},256,null,16,11]
[257,{"$f":"IF(-1^(INT(A257/2)+2)>0,2.0686576103+2*INT(A257/2-1/2)*0.0046930942,51)","v":3.2700897255000001},{"$f":"2.0686576103+2*INT(A257/2-1/2)*0.0046930942","v":3.2700897255000001},{"$f":"[2]!XLSTAT_PDFStudent(B257,23)","v":4.0399269098503393E-3},257,{"$f":"IF(-1^(INT(E257/2)+2)>0,-4.4152046947+2*INT(E257/2-1/2)*0.0046930942,51)","v":-3.2137725794999996},{"$f":"-4.4152046947+2*INT(E257/2-1/2)*0.0046930942","v":-3.2137725794999996},{"$f":"[2]!XLSTAT_PDFStudent(F257,23)","v":4.604279726489675E-3},257,null,{"$f":"-4.4152046947+(I257-1)*0.0176962112","v":0.11502537249999989},{"$f":"[2]!XLSTAT_PDFStudent(K257,23)","v":0.39191678618039899},257,null,{"$f":"M257-24*INT((-1/2+M257)/24)","v":17},{"$f":"1+INT((M257-1/2)/24)","v":11}]
[258,51,3.2700897255000001,{"$f":"[2]!XLSTAT_PDFStudent(B258,23)","v":8.1163173797967258E-26},258,51,-3.2137725794999996,{"$f":"[2]!XLSTAT_PDFStudent(F258,23)","v":8.1163173797967258E-26},258,null,0.13272158369999953,{"$f":"[2]!XLSTAT_PDFStudent(K258,23)","v":0.39102193977493321},258,null,18,11]
[259,51,3.2794759138999998,{"$f":"[2]!XLSTAT_PDFStudent(B259,23)","v":8.1163173797967258E-26},259,51,-3.2043863910999999,{"$f":"[2]!XLSTAT_PDFStudent(F259,23)","v":8.1163173797967258E-26},259,null,0.15041779490000007,{"$f":"[2]!XLSTAT_PDFStudent(K259,23)","v":0.39000196762786377},259,null,19,11]
[260,3.2794759138999998,3.2794759138999998,{"$f":"[2]!XLSTAT_PDFStudent(B260,23)","v":3.9525144571114952E-3},260,-3.2043863910999999,-3.2043863910999999,{"$f":"[2]!XLSTAT_PDFStudent(F260,23)","v":4.7053316703791325E-3},260,null,0.16811400609999971,{"$f":"[2]!XLSTAT_PDFStudent(K260,23)","v":0.38885794301307991},260,null,20,11]
[261,3.2888621023,3.2888621023,{"$f":"[2]!XLSTAT_PDFStudent(B261,23)","v":3.8669054888618047E-3},261,-3.1950002026999997,-3.1950002026999997,{"$f":"[2]!XLSTAT_PDFStudent(F261,23)","v":4.808484479894703E-3},261,null,0.18581021730000025,{"$f":"[2]!XLSTAT_PDFStudent(K261,23)","v":0.38759106684584654},261,null,21,11]
[262,51,3.2888621023,{"$f":"[2]!XLSTAT_PDFStudent(B262,23)","v":8.1163173797967258E-26},262,51,-3.1950002026999997,{"$f":"[2]!XLSTAT_PDFStudent(F262,23)","v":8.1163173797967258E-26},262,null,0.20350642849999989,{"$f":"[2]!XLSTAT_PDFStudent(K262,23)","v":0.38620266542394593},262,null,22,11]
[263,51,3.2982482907000001,{"$f":"[2]!XLSTAT_PDFStudent(B263,23)","v":8.1163173797967258E-26},263,51,-3.1856140142999996,{"$f":"[2]!XLSTAT_PDFStudent(F263,23)","v":8.1163173797967258E-26},263,null,0.22120263969999954,{"$f":"[2]!XLSTAT_PDFStudent(K263,23)","v":0.38469418794063137},263,null,23,11]
[264,3.2982482907000001,3.2982482907000001,{"$f":"[2]!XLSTAT_PDFStudent(B264,23)","v":3.7830655356624054E-3},264,-3.1856140142999996,-3.1856140142999996,{"$f":"[2]!XLSTAT_PDFStudent(F264,23)","v":4.9137781396234705E-3},264,null,0.23889885090000007,{"$f":"[2]!XLSTAT_PDFStudent(K264,23)","v":0.38306720377636244},264,null,24,11]
[265,3.3076344790999999,3.3076344790999999,{"$f":"[2]!XLSTAT_PDFStudent(B265,23)","v":3.7009607046369357E-3},265,-3.1762278258999999,-3.1762278258999999,{"$f":"[2]!XLSTAT_PDFStudent(F265,23)","v":5.0212532831455745E-3},265,null,0.25659506209999972,{"$f":"[2]!XLSTAT_PDFStudent(K265,23)","v":0.38132339957691086},265,null,1,12]
[266,51,3.3076344790999999,{"$f":"[2]!XLSTAT_PDFStudent(B266,23)","v":8.1163173797967258E-26},266,51,-3.1762278258999999,{"$f":"[2]!XLSTAT_PDFStudent(F266,23)","v":8.1163173797967258E-26},266,null,0.27429127330000025,{"$f":"[2]!XLSTAT_PDFStudent(K266,23)","v":0.3794645761259513},266,null,2,12]
[267,51,3.3170206674999996,{"$f":"[2]!XLSTAT_PDFStudent(B267,23)","v":8.1163173797967258E-26},267,51,-3.1668416375000001,{"$f":"[2]!XLSTAT_PDFStudent(F267,23)","v":8.1163173797967258E-26},267,null,0.29198748449999989,{"$f":"[2]!XLSTAT_PDFStudent(K267,23)","v":0.3774926450208283},267,null,3,12]
[268,3.3170206674999996,3.3170206674999996,{"$f":"[2]!XLSTAT_PDFStudent(B268,23)","v":3.6205576722541251E-3},268,-3.1668416375000001,-3.1668416375000001,{"$f":"[2]!XLSTAT_PDFStudent(F268,23)","v":5.1309512002287042E-3},268,null,0.30968369569999954,{"$f":"[2]!XLSTAT_PDFStudent(K268,23)","v":0.3754096251606468},268,null,4,12]
[269,3.3264068559000002,3.3264068559000002,{"$f":"[2]!XLSTAT_PDFStudent(B269,23)","v":3.5418236771270896E-3},269,-3.1574554490999995,-3.1574554490999995,{"$f":"[2]!XLSTAT_PDFStudent(F269,23)","v":5.2429138439986809E-3},269,null,0.32737990690000007,{"$f":"[2]!XLSTAT_PDFStudent(K269,23)","v":0.37321763905631694},269,null,5,12]
[270,51,3.3264068559000002,{"$f":"[2]!XLSTAT_PDFStudent(B270,23)","v":8.1163173797967258E-26},270,51,-3.1574554490999995,{"$f":"[2]!XLSTAT_PDFStudent(F270,23)","v":8.1163173797967258E-26},270,null,0.34507611809999972,{"$f":"[2]!XLSTAT_PDFStudent(K270,23)","v":0.37091890897262869},270,null,6,12]
[271,51,3.3357930442999999,{"$f":"[2]!XLSTAT_PDFStudent(B271,23)","v":8.1163173797967258E-26},271,51,-3.1480692606999998,{"$f":"[2]!XLSTAT_PDFStudent(F271,23)","v":8.1163173797967258E-26},271,null,0.36277232930000025,{"$f":"[2]!XLSTAT_PDFStudent(K271,23)","v":0.36851575291278899},271,null,7,12]
[272,3.3357930442999999,3.3357930442999999,{"$f":"[2]!XLSTAT_PDFStudent(B272,23)","v":3.4647265128320438E-3},272,-3.1480692606999998,-3.1480692606999998,{"$f":"[2]!XLSTAT_PDFStudent(F272,23)","v":5.3571838380819933E-3},272,null,0.3804685404999999,{"$f":"[2]!XLSTAT_PDFStudent(K272,23)","v":0.36601058045622797},272,null,8,12]
[273,3.3451792326999996,3.3451792326999996,{"$f":"[2]!XLSTAT_PDFStudent(B273,23)","v":3.3892345207488235E-3},273,-3.1386830723000001,-3.1386830723000001,{"$f":"[2]!XLSTAT_PDFStudent(F273,23)","v":5.4738044837160842E-3},273,null,0.39816475169999954,{"$f":"[2]!XLSTAT_PDFStudent(K273,23)","v":0.36340588846079586},273,null,9,12]
[274,51,3.3451792326999996,{"$f":"[2]!XLSTAT_PDFStudent(B274,23)","v":8.1163173797967258E-26},274,51,-3.1386830723000001,{"$f":"[2]!XLSTAT_PDFStudent(F274,23)","v":8.1163173797967258E-26},274,null,0.41586096290000008,{"$f":"[2]!XLSTAT_PDFStudent(K274,23)","v":0.36070425664073058},274,null,10,12]
[275,51,3.3545654210999998,{"$f":"[2]!XLSTAT_PDFStudent(B275,23)","v":8.1163173797967258E-26},275,51,-3.1292968838999999,{"$f":"[2]!XLSTAT_PDFStudent(F275,23)","v":8.1163173797967258E-26},275,null,0.43355717409999972,{"$f":"[2]!XLSTAT_PDFStudent(K275,23)","v":0.35790834303202484},275,null,11,12]
[276,3.3545654210999998,3.3545654210999998,{"$f":"[2]!XLSTAT_PDFStudent(B276,23)","v":3.3153165829259163E-3},276,-3.1292968838999999,-3.1292968838999999,{"$f":"[2]!XLSTAT_PDFStudent(F276,23)","v":5.5928197668228706E-3},276,null,0.45125338530000025,{"$f":"[2]!XLSTAT_PDFStudent(K276,23)","v":0.35502087935698989},276,null,12,12]
[277,3.3639516094999999,3.3639516094999999,{"$f":"[2]!XLSTAT_PDFStudent(B277,23)","v":3.2429421149721489E-3},277,-3.1199106954999998,-3.1199106954999998,{"$f":"[2]!XLSTAT_PDFStudent(F277,23)","v":5.7142743650409359E-3},277,null,0.4689495964999999,{"$f":"[2]!XLSTAT_PDFStudent(K277,23)","v":0.35204466629999093},277,null,13,12]
[278,51,3.3639516094999999,{"$f":"[2]!XLSTAT_PDFStudent(B278,23)","v":8.1163173797967258E-26},278,51,-3.1199106954999998,{"$f":"[2]!XLSTAT_PDFStudent(F278,23)","v":8.1163173797967258E-26},278,null,0.48664580769999954,{"$f":"[2]!XLSTAT_PDFStudent(K278,23)","v":0.3489825687064001},278,null,14,12]
[279,51,3.3733377978999997,{"$f":"[2]!XLSTAT_PDFStudent(B279,23)","v":8.1163173797967258E-26},279,51,-3.1105245071000001,{"$f":"[2]!XLSTAT_PDFStudent(F279,23)","v":8.1163173797967258E-26},279,null,0.50434201890000008,{"$f":"[2]!XLSTAT_PDFStudent(K279,23)","v":0.34583751071692148},279,null,15,12]
[280,3.3733377978999997,3.3733377978999997,{"$f":"[2]!XLSTAT_PDFStudent(B280,23)","v":3.1720810589774264E-3},280,-3.1105245071000001,-3.1105245071000001,{"$f":"[2]!XLSTAT_PDFStudent(F280,23)","v":5.8382136547117207E-3},280,null,0.52203823009999972,{"$f":"[2]!XLSTAT_PDFStudent(K280,23)","v":0.34261247084942542},280,null,16,12]
[281,3.3827239862999998,3.3827239862999998,{"$f":"[2]!XLSTAT_PDFStudent(B281,23)","v":3.1027038764646561E-3},281,-3.1011383186999999,-3.1011383186999999,{"$f":"[2]!XLSTAT_PDFStudent(F281,23)","v":5.964683717815087E-3},281,null,0.53973444130000026,{"$f":"[2]!XLSTAT_PDFStudent(K281,23)","v":0.33931047704043754},281,null,17,12]
[282,51,3.3827239862999998,{"$f":"[2]!XLSTAT_PDFStudent(B282,23)","v":8.1163173797967258E-26},282,51,-3.1011383186999999,{"$f":"[2]!XLSTAT_PDFStudent(F282,23)","v":8.1163173797967258E-26},282,null,0.5574306524999999,{"$f":"[2]!XLSTAT_PDFStudent(K282,23)","v":0.33593460165836792},282,null,18,12]
[283,51,3.3921101747,{"$f":"[2]!XLSTAT_PDFStudent(B283,23)","v":8.1163173797967258E-26},283,51,-3.0917521302999997,{"$f":"[2]!XLSTAT_PDFStudent(F283,23)","v":8.1163173797967258E-26},283,null,0.57512686369999955,{"$f":"[2]!XLSTAT_PDFStudent(K283,23)","v":0.33248795650046487},283,null,19,12]
[284,3.3921101747,3.3921101747,{"$f":"[2]!XLSTAT_PDFStudent(B284,23)","v":3.0347815413749478E-3},284,-3.0917521302999997,-3.0917521302999997,{"$f":"[2]!XLSTAT_PDFStudent(F284,23)","v":6.0937313488488281E-3},284,null,0.59282307490000008,{"$f":"[2]!XLSTAT_PDFStudent(K284,23)","v":0.32897368778535074},284,null,20,12]
[285,3.4014963630999997,3.4014963630999997,{"$f":"[2]!XLSTAT_PDFStudent(B285,23)","v":2.9682855330880747E-3},285,-3.0823659419,-3.0823659419,{"$f":"[2]!XLSTAT_PDFStudent(F285,23)","v":6.2254040616475563E-3},285,null,0.61051928609999973,{"$f":"[2]!XLSTAT_PDFStudent(K285,23)","v":0.32539497115281441},285,null,21,12]
[286,51,3.4014963630999997,{"$f":"[2]!XLSTAT_PDFStudent(B286,23)","v":8.1163173797967258E-26},286,51,-3.0823659419,{"$f":"[2]!XLSTAT_PDFStudent(F286,23)","v":8.1163173797967258E-26},286,null,0.62821549730000026,{"$f":"[2]!XLSTAT_PDFStudent(K286,23)","v":0.32175500668234791},286,null,22,12]
[287,51,3.4108825514999999,{"$f":"[2]!XLSTAT_PDFStudent(B287,23)","v":8.1163173797967258E-26},287,51,-3.0729797534999999,{"$f":"[2]!XLSTAT_PDFStudent(F287,23)","v":8.1163173797967258E-26},287,null,0.6459117084999999,{"$f":"[2]!XLSTAT_PDFStudent(K287,23)","v":0.31805701394165181},287,null,23,12]
[288,3.4108825514999999,3.4108825514999999,{"$f":"[2]!XLSTAT_PDFStudent(B288,23)","v":2.9031878294801128E-3},288,-3.0729797534999999,-3.0729797534999999,{"$f":"[2]!XLSTAT_PDFStudent(F288,23)","v":6.3597500961353939E-3},288,null,0.66360791969999955,{"$f":"[2]!XLSTAT_PDFStudent(K288,23)","v":0.31430422707607825},288,null,24,12]
[289,3.4202687399,3.4202687399,{"$f":"[2]!XLSTAT_PDFStudent(B289,23)","v":2.8394609000201012E-3},289,-3.0635935650999997,-3.0635935650999997,{"$f":"[2]!XLSTAT_PDFStudent(F289,23)","v":6.4968184250071281E-3},289,null,0.68130413090000008,{"$f":"[2]!XLSTAT_PDFStudent(K289,23)","v":0.31049988994966404},289,null,1,13]
[290,51,3.4202687399,{"$f":"[2]!XLSTAT_PDFStudent(B290,23)","v":8.1163173797967258E-26},290,51,-3.0635935650999997,{"$f":"[2]!XLSTAT_PDFStudent(F290,23)","v":8.1163173797967258E-26},290,null,0.69900034209999973,{"$f":"[2]!XLSTAT_PDFStudent(K290,23)","v":0.30664725134808146},290,null,2,13]
[291,51,3.4296549282999997,{"$f":"[2]!XLSTAT_PDFStudent(B291,23)","v":8.1163173797967258E-26},291,51,-3.0542073767,{"$f":"[2]!XLSTAT_PDFStudent(F291,23)","v":8.1163173797967258E-26},291,null,0.71669655330000026,{"$f":"[2]!XLSTAT_PDFStudent(K291,23)","v":0.30274956025345806},291,null,3,13]
[292,3.4296549282999997,3.4296549282999997,{"$f":"[2]!XLSTAT_PDFStudent(B292,23)","v":2.7770776989073948E-3},292,-3.0542073767,-3.0542073767,{"$f":"[2]!XLSTAT_PDFStudent(F292,23)","v":6.636658760332397E-3},292,null,0.73439276449999991,{"$f":"[2]!XLSTAT_PDFStudent(K292,23)","v":0.29881006120064979},292,null,4,13]
[293,3.4390411166999999,3.4390411166999999,{"$f":"[2]!XLSTAT_PDFStudent(B293,23)","v":2.7160116582514424E-3},293,-3.0448211882999998,-3.0448211882999998,{"$f":"[2]!XLSTAT_PDFStudent(F293,23)","v":6.7793215600772047E-3},293,null,0.75208897569999955,{"$f":"[2]!XLSTAT_PDFStudent(K293,23)","v":0.29483198972412011},293,null,5,13]
[294,51,3.4390411166999999,{"$f":"[2]!XLSTAT_PDFStudent(B294,23)","v":8.1163173797967258E-26},294,51,-3.0448211882999998,{"$f":"[2]!XLSTAT_PDFStudent(F294,23)","v":8.1163173797967258E-26},294,null,0.76978518690000008,{"$f":"[2]!XLSTAT_PDFStudent(K294,23)","v":0.29081856790415994},294,null,6,13]
[295,51,3.4484273051000001,{"$f":"[2]!XLSTAT_PDFStudent(B295,23)","v":8.1163173797967258E-26},295,51,-3.0354349998999997,{"$f":"[2]!XLSTAT_PDFStudent(F295,23)","v":8.1163173797967258E-26},295,null,0.78748139809999973,{"$f":"[2]!XLSTAT_PDFStudent(K295,23)","v":0.28677300002072909},295,null,7,13]
[296,3.4484273051000001,3.4484273051000001,{"$f":"[2]!XLSTAT_PDFStudent(B296,23)","v":2.6562366812955306E-3},296,-3.0354349998999997,-3.0354349998999997,{"$f":"[2]!XLSTAT_PDFStudent(F296,23)","v":6.9248580345368264E-3},296,null,0.80517760930000026,{"$f":"[2]!XLSTAT_PDFStudent(K296,23)","v":0.28269846832271495},296,null,8,13]
[297,3.4578134934999998,3.4578134934999998,{"$f":"[2]!XLSTAT_PDFStudent(B297,23)","v":2.5977271356860173E-3},297,-3.0260488114999999,-3.0260488114999999,{"$f":"[2]!XLSTAT_PDFStudent(F297,23)","v":7.0733201526743091E-3},297,null,0.82287382049999991,{"$f":"[2]!XLSTAT_PDFStudent(K297,23)","v":0.27859812891995572},297,null,9,13]
[298,51,3.4578134934999998,{"$f":"[2]!XLSTAT_PDFStudent(B298,23)","v":8.1163173797967258E-26},298,51,-3.0260488114999999,{"$f":"[2]!XLSTAT_PDFStudent(F298,23)","v":8.1163173797967258E-26},298,null,0.84057003169999955,{"$f":"[2]!XLSTAT_PDFStudent(K298,23)","v":0.27447510780482648},298,null,10,13]
[299,51,3.4671996818999999,{"$f":"[2]!XLSTAT_PDFStudent(B299,23)","v":8.1163173797967258E-26},299,51,-3.0166626230999998,{"$f":"[2]!XLSTAT_PDFStudent(F299,23)","v":8.1163173797967258E-26},299,null,0.85826624290000009,{"$f":"[2]!XLSTAT_PDFStudent(K299,23)","v":0.270332497009735},299,null,11,13]
[300,3.4671996818999999,3.4671996818999999,{"$f":"[2]!XLSTAT_PDFStudent(B300,23)","v":2.5404578467884023E-3},300,-3.0166626230999998,-3.0166626230999998,{"$f":"[2]!XLSTAT_PDFStudent(F300,23)","v":7.2247606483583507E-3},300,null,0.87596245409999973,{"$f":"[2]!XLSTAT_PDFStudent(K300,23)","v":0.26617335090631439},300,null,12,13]
[301,3.4765858703000001,3.4765858703000001,{"$f":"[2]!XLSTAT_PDFStudent(B301,23)","v":2.4844040910517451E-3},301,-3.0072764346999996,-3.0072764346999996,{"$f":"[2]!XLSTAT_PDFStudent(F301,23)","v":7.3792330264942536E-3},301,null,0.89365866530000027,{"$f":"[2]!XLSTAT_PDFStudent(K301,23)","v":0.26200068265159182},301,null,13,13]
[302,51,3.4765858703000001,{"$f":"[2]!XLSTAT_PDFStudent(B302,23)","v":8.1163173797967258E-26},302,51,-3.0072764346999996,{"$f":"[2]!XLSTAT_PDFStudent(F302,23)","v":8.1163173797967258E-26},302,null,0.91135487649999991,{"$f":"[2]!XLSTAT_PDFStudent(K302,23)","v":0.25781746078590068},302,null,14,13]
[303,51,3.4859720586999998,{"$f":"[2]!XLSTAT_PDFStudent(B303,23)","v":8.1163173797967258E-26},303,51,-2.9978902462999999,{"$f":"[2]!XLSTAT_PDFStudent(F303,23)","v":8.1163173797967258E-26},303,null,0.92905108769999956,{"$f":"[2]!XLSTAT_PDFStudent(K303,23)","v":0.25362660598674364},303,null,15,13]
[304,3.4859720586999998,3.4859720586999998,{"$f":"[2]!XLSTAT_PDFStudent(B304,23)","v":2.4295415894225111E-3},304,-2.9978902462999999,-2.9978902462999999,{"$f":"[2]!XLSTAT_PDFStudent(F304,23)","v":7.5367915690416195E-3},304,null,0.94674729890000009,{"$f":"[2]!XLSTAT_PDFStudent(K304,23)","v":0.24943098798231372},304,null,16,13]
[305,3.4953582471,3.4953582471,{"$f":"[2]!XLSTAT_PDFStudent(B305,23)","v":2.3758465008092066E-3},305,-2.9885040578999997,-2.9885040578999997,{"$f":"[2]!XLSTAT_PDFStudent(F305,23)","v":7.697491340912156E-3},305,null,0.96444351009999973,{"$f":"[2]!XLSTAT_PDFStudent(K305,23)","v":0.24523342262783143},305,null,17,13]
[306,51,3.4953582471,{"$f":"[2]!XLSTAT_PDFStudent(B306,23)","v":8.1163173797967258E-26},306,51,-2.9885040578999997,{"$f":"[2]!XLSTAT_PDFStudent(F306,23)","v":8.1163173797967258E-26},306,null,0.98213972130000027,{"$f":"[2]!XLSTAT_PDFStudent(K306,23)","v":0.24103666914734781},306,null,18,13]
[307,51,3.5047444355000001,{"$f":"[2]!XLSTAT_PDFStudent(B307,23)","v":8.1163173797967258E-26},307,51,-2.9791178694999996,{"$f":"[2]!XLSTAT_PDFStudent(F307,23)","v":8.1163173797967258E-26},307,null,0.99983593249999991,{"$f":"[2]!XLSTAT_PDFStudent(K307,23)","v":0.23684342754313784},307,null,19,13]
[308,3.5047444355000001,3.5047444355000001,{"$f":"[2]!XLSTAT_PDFStudent(B308,23)","v":2.3232954155989068E-3},308,-2.9791178694999996,-2.9791178694999996,{"$f":"[2]!XLSTAT_PDFStudent(F308,23)","v":7.8613881957409117E-3},308,null,1.0175321436999996,{"$f":"[2]!XLSTAT_PDFStudent(K308,23)","v":0.23265633617429399},308,null,20,13]
[309,3.5141306238999999,3.5141306238999999,{"$f":"[2]!XLSTAT_PDFStudent(B309,23)","v":2.2718653492266746E-3},309,-2.9697316810999999,-2.9697316810999999,{"$f":"[2]!XLSTAT_PDFStudent(F309,23)","v":8.0285387815239428E-3},309,null,1.0352283549000001,{"$f":"[2]!XLSTAT_PDFStudent(K309,23)","v":0.22847796950563809},309,null,21,13]
[310,51,3.5141306238999999,{"$f":"[2]!XLSTAT_PDFStudent(B310,23)","v":8.1163173797967258E-26},310,51,-2.9697316810999999,{"$f":"[2]!XLSTAT_PDFStudent(F310,23)","v":8.1163173797967258E-26},310,null,1.0529245660999997,{"$f":"[2]!XLSTAT_PDFStudent(K310,23)","v":0.22431083602757373},310,null,22,13]
[311,51,3.5235168122999996,{"$f":"[2]!XLSTAT_PDFStudent(B311,23)","v":8.1163173797967258E-26},311,51,-2.9603454927000001,{"$f":"[2]!XLSTAT_PDFStudent(F311,23)","v":8.1163173797967258E-26},311,null,1.0706207773000003,{"$f":"[2]!XLSTAT_PDFStudent(K311,23)","v":0.22015737634701663},311,null,23,13]
[312,3.5235168122999996,3.5235168122999996,{"$f":"[2]!XLSTAT_PDFStudent(B312,23)","v":2.2215337357989976E-3},312,-2.9603454927000001,-2.9603454927000001,{"$f":"[2]!XLSTAT_PDFStudent(F312,23)","v":8.1990005461155813E-3},312,null,1.0883169884999999,{"$f":"[2]!XLSTAT_PDFStudent(K312,23)","v":0.216019961449086},312,null,24,13]
[313,3.5329030007000002,3.5329030007000002,{"$f":"[2]!XLSTAT_PDFStudent(B313,23)","v":2.1722784217720944E-3},313,-2.9509593042999995,-2.9509593042999995,{"$f":"[2]!XLSTAT_PDFStudent(F313,23)","v":8.3728317425778472E-3},313,null,1.1060131996999996,{"$f":"[2]!XLSTAT_PDFStudent(K313,23)","v":0.21190089112878555},313,null,1,14]
[314,51,3.5329030007000002,{"$f":"[2]!XLSTAT_PDFStudent(B314,23)","v":8.1163173797967258E-26},314,51,-2.9509593042999995,{"$f":"[2]!XLSTAT_PDFStudent(F314,23)","v":8.1163173797967258E-26},314,null,1.1237094109000001,{"$f":"[2]!XLSTAT_PDFStudent(K314,23)","v":0.20780239259146061},314,null,2,14]
[315,51,3.5422891890999999,{"$f":"[2]!XLSTAT_PDFStudent(B315,23)","v":8.1163173797967258E-26},315,51,-2.9415731158999998,{"$f":"[2]!XLSTAT_PDFStudent(F315,23)","v":8.1163173797967258E-26},315,null,1.1414056220999997,{"$f":"[2]!XLSTAT_PDFStudent(K315,23)","v":0.20372661922041316},315,null,3,14]
[316,3.5422891890999999,3.5422891890999999,{"$f":"[2]!XLSTAT_PDFStudent(B316,23)","v":2.1240776596860643E-3},316,-2.9415731158999998,-2.9415731158999998,{"$f":"[2]!XLSTAT_PDFStudent(F316,23)","v":8.5500914343748426E-3},316,null,1.1591018333000003,{"$f":"[2]!XLSTAT_PDFStudent(K316,23)","v":0.19967564950965144},316,null,4,14]
[317,3.5516753774999996,3.5516753774999996,{"$f":"[2]!XLSTAT_PDFStudent(B317,23)","v":2.076910101955572E-3},317,-2.9321869275000001,-2.9321869275000001,{"$f":"[2]!XLSTAT_PDFStudent(F317,23)","v":8.7308395004046038E-3},317,null,1.1767980444999999,{"$f":"[2]!XLSTAT_PDFStudent(K317,23)","v":0.19565148615936628},317,null,5,14]
[318,51,3.5516753774999996,{"$f":"[2]!XLSTAT_PDFStudent(B318,23)","v":8.1163173797967258E-26},318,51,-2.9321869275000001,{"$f":"[2]!XLSTAT_PDFStudent(F318,23)","v":8.1163173797967258E-26},318,null,1.1944942556999996,{"$f":"[2]!XLSTAT_PDFStudent(K318,23)","v":0.19165605533137473},318,null,6,14]
[319,51,3.5610615658999998,{"$f":"[2]!XLSTAT_PDFStudent(B319,23)","v":8.1163173797967258E-26},319,51,-2.9228007390999999,{"$f":"[2]!XLSTAT_PDFStudent(F319,23)","v":8.1163173797967258E-26},319,null,1.2121904669000001,{"$f":"[2]!XLSTAT_PDFStudent(K319,23)","v":0.18769120606142739},319,null,7,14]
[320,3.5610615658999998,3.5610615658999998,{"$f":"[2]!XLSTAT_PDFStudent(B320,23)","v":2.0307547947179929E-3},320,-2.9228007390999999,-2.9228007390999999,{"$f":"[2]!XLSTAT_PDFStudent(F320,23)","v":8.915136639860646E-3},320,null,1.2298866780999997,{"$f":"[2]!XLSTAT_PDFStudent(K320,23)","v":0.18375870982495265},320,null,8,14]
[321,{"$f":"IF(-1^(INT(A321/2)+2)>0,2.0686576103+2*INT(A321/2-1/2)*0.0046930942,51)","v":3.5704477542999999},{"$f":"2.0686576103+2*INT(A321/2-1/2)*0.0046930942","v":3.5704477542999999},{"$f":"[2]!XLSTAT_PDFStudent(B321,23)","v":1.9855911717396348E-3},321,{"$f":"IF(-1^(INT(E321/2)+2)>0,-4.4152046947+2*INT(E321/2-1/2)*0.0046930942,51)","v":-2.9134145506999998},{"$f":"-4.4152046947+2*INT(E321/2-1/2)*0.0046930942","v":-2.9134145506999998},{"$f":"[2]!XLSTAT_PDFStudent(F321,23)","v":9.1030443769154791E-3},321,null,{"$f":"-4.4152046947+(I321-1)*0.0176962112","v":1.2475828893000003},{"$f":"[2]!XLSTAT_PDFStudent(K321,23)","v":0.17986026025252169},321,null,{"$f":"M321-24*INT((-1/2+M321)/24)","v":9},{"$f":"1+INT((M321-1/2)/24)","v":14}]
[322,51,3.5704477542999999,{"$f":"[2]!XLSTAT_PDFStudent(B322,23)","v":8.1163173797967258E-26},322,51,-2.9134145506999998,{"$f":"[2]!XLSTAT_PDFStudent(F322,23)","v":8.1163173797967258E-26},322,null,1.2652791004999999,{"$f":"[2]!XLSTAT_PDFStudent(K322,23)","v":0.17599747299103718},322,null,10,14]
[323,51,3.5798339426999997,{"$f":"[2]!XLSTAT_PDFStudent(B323,23)","v":8.1163173797967258E-26},323,51,-2.9040283623000001,{"$f":"[2]!XLSTAT_PDFStudent(F323,23)","v":8.1163173797967258E-26},323,null,1.2829753116999996,{"$f":"[2]!XLSTAT_PDFStudent(K323,23)","v":0.17217188570639153},323,null,11,14]
[324,3.5798339426999997,3.5798339426999997,{"$f":"[2]!XLSTAT_PDFStudent(B324,23)","v":1.9413990483807071E-3},324,-2.9040283623000001,-2.9040283623000001,{"$f":"[2]!XLSTAT_PDFStudent(F324,23)","v":9.2946250652179933E-3},324,null,1.3006715229000001,{"$f":"[2]!XLSTAT_PDFStudent(K324,23)","v":0.16838495822311822},324,null,12,14]
[325,3.5892201310999998,3.5892201310999998,{"$f":"[2]!XLSTAT_PDFStudent(B325,23)","v":1.89815861561964E-3},325,-2.8946421738999999,-2.8946421738999999,{"$f":"[2]!XLSTAT_PDFStudent(F325,23)","v":9.4899418921967574E-3},325,null,1.3183677340999997,{"$f":"[2]!XLSTAT_PDFStudent(K325,23)","v":0.16463807279633563},325,null,13,14]
[326,51,3.5892201310999998,{"$f":"[2]!XLSTAT_PDFStudent(B326,23)","v":8.1163173797967258E-26},326,51,-2.8946421738999999,{"$f":"[2]!XLSTAT_PDFStudent(F326,23)","v":8.1163173797967258E-26},326,null,1.3360639452999994,{"$f":"[2]!XLSTAT_PDFStudent(K326,23)","v":0.16093253451111286},326,null,14,14]
[327,51,3.5986063195,{"$f":"[2]!XLSTAT_PDFStudent(B327,23)","v":8.1163173797967258E-26},327,51,-2.8852559854999997,{"$f":"[2]!XLSTAT_PDFStudent(F327,23)","v":8.1163173797967258E-26},327,null,1.3537601564999999,{"$f":"[2]!XLSTAT_PDFStudent(K327,23)","v":0.1572695718042019},327,null,15,14]
[328,3.5986063195,3.5986063195,{"$f":"[2]!XLSTAT_PDFStudent(B328,23)","v":1.8558504341373398E-3},328,-2.8852559854999997,-2.8852559854999997,{"$f":"[2]!XLSTAT_PDFStudent(F328,23)","v":9.6890588831607203E-3},328,null,1.3714563676999996,{"$f":"[2]!XLSTAT_PDFStudent(K328,23)","v":0.15365033710294929},328,null,16,14]
[329,3.6079925078999997,3.6079925078999997,{"$f":"[2]!XLSTAT_PDFStudent(B329,23)","v":1.8144554284618495E-3},329,-2.8758697971,-2.8758697971,{"$f":"[2]!XLSTAT_PDFStudent(F329,23)","v":9.8920409051890135E-3},329,null,1.3891525789000001,{"$f":"[2]!XLSTAT_PDFStudent(K329,23)","v":0.15007590757607267},329,null,17,14]
[330,51,3.6079925078999997,{"$f":"[2]!XLSTAT_PDFStudent(B330,23)","v":8.1163173797967258E-26},330,51,-2.8758697971,{"$f":"[2]!XLSTAT_PDFStudent(F330,23)","v":8.1163173797967258E-26},330,null,1.4068487900999997,{"$f":"[2]!XLSTAT_PDFStudent(K330,23)","v":0.14654728599088532},330,null,18,14]
[331,51,3.6173786962999999,{"$f":"[2]!XLSTAT_PDFStudent(B331,23)","v":8.1163173797967258E-26},331,51,-2.8664836086999999,{"$f":"[2]!XLSTAT_PDFStudent(F331,23)","v":8.1163173797967258E-26},331,null,1.4245450012999994,{"$f":"[2]!XLSTAT_PDFStudent(K331,23)","v":0.14306540167147155},331,null,19,14]
[332,3.6173786962999999,3.6173786962999999,{"$f":"[2]!XLSTAT_PDFStudent(B332,23)","v":1.7739548811738705E-3},332,-2.8664836086999999,-2.8664836086999999,{"$f":"[2]!XLSTAT_PDFStudent(F332,23)","v":1.0098953670801263E-2},332,null,1.4422412124999999,{"$f":"[2]!XLSTAT_PDFStudent(K332,23)","v":0.13963111155224969},332,null,20,14]
[333,3.6267648847,3.6267648847,{"$f":"[2]!XLSTAT_PDFStudent(B333,23)","v":1.7343304271735707E-3},333,-2.8570974202999997,-2.8570974202999997,{"$f":"[2]!XLSTAT_PDFStudent(F333,23)","v":1.0309863741399406E-2},333,null,1.4599374236999996,{"$f":"[2]!XLSTAT_PDFStudent(K333,23)","v":0.13624520132132528},333,null,21,14]
[334,51,3.6267648847,{"$f":"[2]!XLSTAT_PDFStudent(B334,23)","v":8.1163173797967258E-26},334,51,-2.8570974202999997,{"$f":"[2]!XLSTAT_PDFStudent(F334,23)","v":8.1163173797967258E-26},334,null,1.4776336349000001,{"$f":"[2]!XLSTAT_PDFStudent(K334,23)","v":0.13290838664800123},334,null,22,14]
[335,51,3.6361510730999997,{"$f":"[2]!XLSTAT_PDFStudent(B335,23)","v":8.1163173797967258E-26},335,51,-2.8477112319,{"$f":"[2]!XLSTAT_PDFStudent(F335,23)","v":8.1163173797967258E-26},335,null,1.4953298460999997,{"$f":"[2]!XLSTAT_PDFStudent(K335,23)","v":0.1296213144888235},335,null,23,14]
[336,3.6361510730999997,3.6361510730999997,{"$f":"[2]!XLSTAT_PDFStudent(B336,23)","v":1.6955640480090497E-3},336,-2.8477112319,-2.8477112319,{"$f":"[2]!XLSTAT_PDFStudent(F336,23)","v":1.0524838530472319E-2},336,null,1.5130260572999994,{"$f":"[2]!XLSTAT_PDFStudent(K336,23)","v":0.12638456446652821},336,null,24,14]
[337,3.6455372614999999,3.6455372614999999,{"$f":"[2]!XLSTAT_PDFStudent(B337,23)","v":1.6576380662667197E-3},337,-2.8383250434999998,-2.8383250434999998,{"$f":"[2]!XLSTAT_PDFStudent(F337,23)","v":1.0743946306554297E-2},337,null,1.5307222684999999,{"$f":"[2]!XLSTAT_PDFStudent(K337,23)","v":0.12319865031631329},337,null,1,15]
[338,51,3.6455372614999999,{"$f":"[2]!XLSTAT_PDFStudent(B338,23)","v":8.1163173797967258E-26},338,51,-2.8383250434999998,{"$f":"[2]!XLSTAT_PDFStudent(F338,23)","v":8.1163173797967258E-26},338,null,1.5484184796999996,{"$f":"[2]!XLSTAT_PDFStudent(K338,23)","v":0.12006402139387375},338,null,2,15]
[339,51,3.6549234499000001,{"$f":"[2]!XLSTAT_PDFStudent(B339,23)","v":8.1163173797967258E-26},339,51,-2.8289388550999996,{"$f":"[2]!XLSTAT_PDFStudent(F339,23)","v":8.1163173797967258E-26},339,null,1.5661146909000001,{"$f":"[2]!XLSTAT_PDFStudent(K339,23)","v":0.11698106423971977},339,null,3,15]
[340,3.6549234499000001,3.6549234499000001,{"$f":"[2]!XLSTAT_PDFStudent(B340,23)","v":1.6205351400239677E-3},340,-2.8289388550999996,-2.8289388550999996,{"$f":"[2]!XLSTAT_PDFStudent(F340,23)","v":1.0967256195927578E-2},340,null,1.5838109020999998,{"$f":"[2]!XLSTAT_PDFStudent(K340,23)","v":0.11395010419436009},340,null,4,15]
[341,3.6643096382999998,3.6643096382999998,{"$f":"[2]!XLSTAT_PDFStudent(B341,23)","v":1.5842382573642666E-3},341,-2.8195526666999999,-2.8195526666999999,{"$f":"[2]!XLSTAT_PDFStudent(F341,23)","v":1.1194838185060356E-2},341,null,1.6015071132999994,{"$f":"[2]!XLSTAT_PDFStudent(K341,23)","v":0.11097140705901473},341,null,5,15]
[342,51,3.6643096382999998,{"$f":"[2]!XLSTAT_PDFStudent(B342,23)","v":8.1163173797967258E-26},342,51,-2.8195526666999999,{"$f":"[2]!XLSTAT_PDFStudent(F342,23)","v":8.1163173797967258E-26},342,null,1.6192033244999999,{"$f":"[2]!XLSTAT_PDFStudent(K342,23)","v":0.10804518079663747},342,null,6,15]
[343,51,3.6736958266999999,{"$f":"[2]!XLSTAT_PDFStudent(B343,23)","v":8.1163173797967258E-26},343,51,-2.8101664782999998,{"$f":"[2]!XLSTAT_PDFStudent(F343,23)","v":8.1163173797967258E-26},343,null,1.6368995356999996,{"$f":"[2]!XLSTAT_PDFStudent(K343,23)","v":0.10517157726811466},343,null,7,15]
[344,3.6736958266999999,3.6736958266999999,{"$f":"[2]!XLSTAT_PDFStudent(B344,23)","v":1.5487307309549599E-3},344,-2.8101664782999998,-2.8101664782999998,{"$f":"[2]!XLSTAT_PDFStudent(F344,23)","v":1.1426763122769964E-2},344,null,1.6545957469000001,{"$f":"[2]!XLSTAT_PDFStudent(K344,23)","v":0.10235069399864741},344,null,8,15]
[345,3.6830820151000001,3.6830820151000001,{"$f":"[2]!XLSTAT_PDFStudent(B345,23)","v":1.5139961926878638E-3},345,-2.8007802898999996,-2.8007802898999996,{"$f":"[2]!XLSTAT_PDFStudent(F345,23)","v":1.1663102722102036E-2},345,null,1.6722919580999998,{"$f":"[2]!XLSTAT_PDFStudent(K345,23)","v":9.9582575969444961E-2},345,null,9,15]
[346,51,3.6830820151000001,{"$f":"[2]!XLSTAT_PDFStudent(B346,23)","v":8.1163173797967258E-26},346,51,-2.8007802898999996,{"$f":"[2]!XLSTAT_PDFStudent(F346,23)","v":8.1163173797967258E-26},346,null,1.6899881692999994,{"$f":"[2]!XLSTAT_PDFStudent(K346,23)","v":9.6867217429995697E-2},346,null,10,15]
[347,51,3.6924682034999998,{"$f":"[2]!XLSTAT_PDFStudent(B347,23)","v":8.1163173797967258E-26},347,51,-2.7913941014999999,{"$f":"[2]!XLSTAT_PDFStudent(F347,23)","v":8.1163173797967258E-26},347,null,1.7076843804999999,{"$f":"[2]!XLSTAT_PDFStudent(K347,23)","v":9.420456372633329E-2},347,null,11,15]
[348,3.6924682034999998,3.6924682034999998,{"$f":"[2]!XLSTAT_PDFStudent(B348,23)","v":1.4800185883828384E-3},348,-2.7913941014999999,-2.7913941014999999,{"$f":"[2]!XLSTAT_PDFStudent(F348,23)","v":1.1903929561915617E-2},348,null,1.7253805916999996,{"$f":"[2]!XLSTAT_PDFStudent(K348,23)","v":9.1594513140868111E-2},348,null,12,15]
[349,3.7018543919,3.7018543919,{"$f":"[2]!XLSTAT_PDFStudent(B349,23)","v":1.4467821725543408E-3},349,-2.7820079130999997,-2.7820079130999997,{"$f":"[2]!XLSTAT_PDFStudent(F349,23)","v":1.2149317088164371E-2},349,null,1.7430768029000001,{"$f":"[2]!XLSTAT_PDFStudent(K349,23)","v":8.9036918739509252E-2},349,null,13,15]
[350,51,3.7018543919,{"$f":"[2]!XLSTAT_PDFStudent(B350,23)","v":8.1163173797967258E-26},350,51,-2.7820079130999997,{"$f":"[2]!XLSTAT_PDFStudent(F350,23)","v":8.1163173797967258E-26},350,null,1.7607730140999998,{"$f":"[2]!XLSTAT_PDFStudent(K350,23)","v":8.6531590221978816E-2},350,null,14,15]
[351,51,3.7112405803000001,{"$f":"[2]!XLSTAT_PDFStudent(B351,23)","v":8.1163173797967258E-26},351,51,-2.7726217246999996,{"$f":"[2]!XLSTAT_PDFStudent(F351,23)","v":8.1163173797967258E-26},351,null,1.7784692252999994,{"$f":"[2]!XLSTAT_PDFStudent(K351,23)","v":8.4078295771375031E-2},351,null,15,15]
[352,3.7112405803000001,3.7112405803000001,{"$f":"[2]!XLSTAT_PDFStudent(B352,23)","v":1.4142715032411293E-3},352,-2.7726217246999996,-2.7726217246999996,{"$f":"[2]!XLSTAT_PDFStudent(F352,23)","v":1.2399339614863412E-2},352,null,1.7961654364999999,{"$f":"[2]!XLSTAT_PDFStudent(K352,23)","v":8.1676763899231078E-2},352,null,16,15]
[353,3.7206267686999999,3.7206267686999999,{"$f":"[2]!XLSTAT_PDFStudent(B353,23)","v":1.382471436899E-3},353,-2.7632355362999999,-2.7632355362999999,{"$f":"[2]!XLSTAT_PDFStudent(F353,23)","v":1.2654072324732127E-2},353,null,1.8138616476999996,{"$f":"[2]!XLSTAT_PDFStudent(K353,23)","v":7.9326685282478146E-2},353,null,17,15]
[354,51,3.7206267686999999,{"$f":"[2]!XLSTAT_PDFStudent(B354,23)","v":8.1163173797967258E-26},354,51,-2.7632355362999999,{"$f":"[2]!XLSTAT_PDFStudent(F354,23)","v":8.1163173797967258E-26},354,null,1.8315578589000001,{"$f":"[2]!XLSTAT_PDFStudent(K354,23)","v":7.7027714588911292E-2},354,null,18,15]
[355,51,3.7300129570999996,{"$f":"[2]!XLSTAT_PDFStudent(B355,23)","v":8.1163173797967258E-26},355,51,-2.7538493479000001,{"$f":"[2]!XLSTAT_PDFStudent(F355,23)","v":8.1163173797967258E-26},355,null,1.8492540700999998,{"$f":"[2]!XLSTAT_PDFStudent(K355,23)","v":7.4779472287929638E-2},355,null,19,15]
[356,3.7300129570999996,3.7300129570999996,{"$f":"[2]!XLSTAT_PDFStudent(B356,23)","v":1.351367123356652E-3},356,-2.7538493479000001,-2.7538493479000001,{"$f":"[2]!XLSTAT_PDFStudent(F356,23)","v":1.2913591269501794E-2},356,null,1.8669502812999994,{"$f":"[2]!XLSTAT_PDFStudent(K356,23)","v":7.2581546443508227E-2},356,null,20,15]
[357,3.7393991455000002,3.7393991455000002,{"$f":"[2]!XLSTAT_PDFStudent(B357,23)","v":1.3209440008345552E-3},357,-2.7444631594999995,-2.7444631594999995,{"$f":"[2]!XLSTAT_PDFStudent(F357,23)","v":1.3177973369878374E-2},357,null,1.8846464924999999,{"$f":"[2]!XLSTAT_PDFStudent(K357,23)","v":7.0433494486538559E-2},357,null,21,15]
[358,51,3.7393991455000002,{"$f":"[2]!XLSTAT_PDFStudent(B358,23)","v":8.1163173797967258E-26},358,51,-2.7444631594999995,{"$f":"[2]!XLSTAT_PDFStudent(F358,23)","v":8.1163173797967258E-26},358,null,1.9023427036999996,{"$f":"[2]!XLSTAT_PDFStudent(K358,23)","v":6.8334844963854433E-2},358,null,22,15]
[359,51,3.7487853338999999,{"$f":"[2]!XLSTAT_PDFStudent(B359,23)","v":8.1163173797967258E-26},359,51,-2.7350769710999998,{"$f":"[2]!XLSTAT_PDFStudent(F359,23)","v":8.1163173797967258E-26},359,null,1.9200389149000001,{"$f":"[2]!XLSTAT_PDFStudent(K359,23)","v":6.6285099261442326E-2},359,null,23,15]
[360,3.7487853338999999,3.7487853338999999,{"$f":"[2]!XLSTAT_PDFStudent(B360,23)","v":1.29118779102685E-3},360,-2.7350769710999998,-2.7350769710999998,{"$f":"[2]!XLSTAT_PDFStudent(F360,23)","v":1.3447296415148597E-2},360,null,1.9377351260999998,{"$f":"[2]!XLSTAT_PDFStudent(K360,23)","v":6.4283733299512924E-2},360,null,24,15]
[361,3.7581715222999996,3.7581715222999996,{"$f":"[2]!XLSTAT_PDFStudent(B361,23)","v":1.262084494245993E-3},361,-2.7256907827000001,-2.7256907827000001,{"$f":"[2]!XLSTAT_PDFStudent(F361,23)","v":1.3721639062419962E-2},361,null,1.9554313372999994,{"$f":"[2]!XLSTAT_PDFStudent(K361,23)","v":6.2330199197284678E-2},361,null,1,16]
[362,51,3.7581715222999996,{"$f":"[2]!XLSTAT_PDFStudent(B362,23)","v":8.1163173797967258E-26},362,51,-2.7256907827000001,{"$f":"[2]!XLSTAT_PDFStudent(F362,23)","v":8.1163173797967258E-26},362,null,1.9731275484999999,{"$f":"[2]!XLSTAT_PDFStudent(K362,23)","v":6.0423926905507415E-2},362,null,2,16]
[363,51,3.7675577106999998,{"$f":"[2]!XLSTAT_PDFStudent(B363,23)","v":8.1163173797967258E-26},363,51,-2.7163045942999999,{"$f":"[2]!XLSTAT_PDFStudent(F363,23)","v":8.1163173797967258E-26},363,null,1.9908237596999996,{"$f":"[2]!XLSTAT_PDFStudent(K363,23)","v":5.8564325804923024E-2},363,null,3,16]
[364,3.7675577106999998,3.7675577106999998,{"$f":"[2]!XLSTAT_PDFStudent(B364,23)","v":1.2336203846302612E-3},364,-2.7163045942999999,-2.7163045942999999,{"$f":"[2]!XLSTAT_PDFStudent(F364,23)","v":1.4001080835482443E-2},364,null,2.0085199709000001,{"$f":"[2]!XLSTAT_PDFStudent(K364,23)","v":5.6750786269025709E-2},364,null,4,16]
[365,3.7769438990999999,3.7769438990999999,{"$f":"[2]!XLSTAT_PDFStudent(B365,23)","v":1.2057820054137433E-3},365,-2.7069184058999998,-2.7069184058999998,{"$f":"[2]!XLSTAT_PDFStudent(F365,23)","v":1.4285702123281684E-2},365,null,2.0262161820999998,{"$f":"[2]!XLSTAT_PDFStudent(K365,23)","v":5.4982681189653902E-2},365,null,5,16]
[366,51,3.7769438990999999,{"$f":"[2]!XLSTAT_PDFStudent(B366,23)","v":8.1163173797967258E-26},366,51,-2.7069184058999998,{"$f":"[2]!XLSTAT_PDFStudent(F366,23)","v":8.1163173797967258E-26},366,null,2.0439123932999994,{"$f":"[2]!XLSTAT_PDFStudent(K366,23)","v":5.3259367464096249E-2},366,null,6,16]
[367,51,3.7863300874999997,{"$f":"[2]!XLSTAT_PDFStudent(B367,23)","v":8.1163173797967258E-26},367,51,-2.6975322175000001,{"$f":"[2]!XLSTAT_PDFStudent(F367,23)","v":8.1163173797967258E-26},367,null,2.0616086044999999,{"$f":"[2]!XLSTAT_PDFStudent(K367,23)","v":5.1580187442559204E-2},367,null,7,16]
[368,3.7863300874999997,3.7863300874999997,{"$f":"[2]!XLSTAT_PDFStudent(B368,23)","v":1.1785561642587621E-3},368,-2.6975322175000001,-2.6975322175000001,{"$f":"[2]!XLSTAT_PDFStudent(F368,23)","v":1.4575584177992004E-2},368,null,2.0793048156999996,{"$f":"[2]!XLSTAT_PDFStudent(K368,23)","v":4.9944470334986203E-2},368,null,8,16]
[369,3.7957162758999998,3.7957162758999998,{"$f":"[2]!XLSTAT_PDFStudent(B369,23)","v":1.1519299286504615E-3},369,-2.6881460290999999,-2.6881460290999999,{"$f":"[2]!XLSTAT_PDFStudent(F369,23)","v":1.4870809112678393E-2},369,null,2.0970010269000001,{"$f":"[2]!XLSTAT_PDFStudent(K369,23)","v":4.8351533576367837E-2},369,null,9,16]
[370,51,3.7957162758999998,{"$f":"[2]!XLSTAT_PDFStudent(B370,23)","v":8.1163173797967258E-26},370,51,-2.6881460290999999,{"$f":"[2]!XLSTAT_PDFStudent(F370,23)","v":8.1163173797967258E-26},370,null,2.1146972380999998,{"$f":"[2]!XLSTAT_PDFStudent(K370,23)","v":4.6800684149822296E-2},370,null,10,16]
[371,51,3.8051024643,{"$f":"[2]!XLSTAT_PDFStudent(B371,23)","v":8.1163173797967258E-26},371,51,-2.6787598406999997,{"$f":"[2]!XLSTAT_PDFStudent(F371,23)","v":8.1163173797967258E-26},371,null,2.1323934492999994,{"$f":"[2]!XLSTAT_PDFStudent(K371,23)","v":4.5291219866859987E-2},371,null,11,16]
[372,3.8051024643,3.8051024643,{"$f":"[2]!XLSTAT_PDFStudent(B372,23)","v":1.1258906213533783E-3},372,-2.6787598406999997,-2.6787598406999997,{"$f":"[2]!XLSTAT_PDFStudent(F372,23)","v":1.517145989853531E-2},372,null,2.1500896604999999,{"$f":"[2]!XLSTAT_PDFStudent(K372,23)","v":4.3822430604375295E-2},372,null,12,16]
[373,3.8144886526999997,3.8144886526999997,{"$f":"[2]!XLSTAT_PDFStudent(B373,23)","v":1.1004258159296935E-3},373,-2.6693736523,-2.6693736523,{"$f":"[2]!XLSTAT_PDFStudent(F373,23)","v":1.5477620361691953E-2},373,null,2.1677858716999996,{"$f":"[2]!XLSTAT_PDFStudent(K373,23)","v":4.2393599498035041E-2},373,null,13,16]
[374,51,3.8144886526999997,{"$f":"[2]!XLSTAT_PDFStudent(B374,23)","v":8.1163173797967258E-26},374,51,-2.6693736523,{"$f":"[2]!XLSTAT_PDFStudent(F374,23)","v":8.1163173797967258E-26},374,null,2.1854820829000001,{"$f":"[2]!XLSTAT_PDFStudent(K374,23)","v":4.1004004091846555E-2},374,null,14,16]
[375,51,3.8238748410999999,{"$f":"[2]!XLSTAT_PDFStudent(B375,23)","v":8.1163173797967258E-26},375,51,-2.6599874638999998,{"$f":"[2]!XLSTAT_PDFStudent(F375,23)","v":8.1163173797967258E-26},375,null,2.2031782940999998,{"$f":"[2]!XLSTAT_PDFStudent(K375,23)","v":3.9652917443808319E-2},375,null,15,16]
[376,3.8238748410999999,3.8238748410999999,{"$f":"[2]!XLSTAT_PDFStudent(B376,23)","v":1.0755233323189307E-3},376,-2.6599874638999998,-2.6599874638999998,{"$f":"[2]!XLSTAT_PDFStudent(F376,23)","v":1.57893751795712E-2},376,null,2.2208745052999994,{"$f":"[2]!XLSTAT_PDFStudent(K376,23)","v":3.8339609187645736E-2},376,null,16,16]
[377,3.8332610295,3.8332610295,{"$f":"[2]!XLSTAT_PDFStudent(B377,23)","v":1.0511712324788125E-3},377,-2.6506012754999997,-2.6506012754999997,{"$f":"[2]!XLSTAT_PDFStudent(F377,23)","v":1.6106809876791157E-2},377,null,2.2385707164999999,{"$f":"[2]!XLSTAT_PDFStudent(K377,23)","v":3.7063346550740874E-2},377,null,17,16]
[378,51,3.8332610295,{"$f":"[2]!XLSTAT_PDFStudent(B378,23)","v":8.1163173797967258E-26},378,51,-2.6506012754999997,{"$f":"[2]!XLSTAT_PDFStudent(F378,23)","v":8.1163173797967258E-26},378,null,2.2562669276999996,{"$f":"[2]!XLSTAT_PDFStudent(K378,23)","v":3.5823395328458706E-2},378,null,18,16]
[379,51,3.8426472178999997,{"$f":"[2]!XLSTAT_PDFStudent(B379,23)","v":8.1163173797967258E-26},379,51,-2.6412150871,{"$f":"[2]!XLSTAT_PDFStudent(F379,23)","v":8.1163173797967258E-26},379,null,2.2739631389000001,{"$f":"[2]!XLSTAT_PDFStudent(K379,23)","v":3.4619020815161078E-2},379,null,19,16]
[380,3.8426472178999997,3.8426472178999997,{"$f":"[2]!XLSTAT_PDFStudent(B380,23)","v":1.0273578160869042E-3},380,-2.6412150871,-2.6412150871,{"$f":"[2]!XLSTAT_PDFStudent(F380,23)","v":1.6430010820597453E-2},380,null,2.2916593500999998,{"$f":"[2]!XLSTAT_PDFStudent(K380,23)","v":3.3449488692286256E-2},380,null,20,16]
[381,3.8520334062999999,3.8520334062999999,{"$f":"[2]!XLSTAT_PDFStudent(B381,23)","v":1.0040716163028103E-3},381,-2.6318288986999998,-2.6318288986999998,{"$f":"[2]!XLSTAT_PDFStudent(F381,23)","v":1.6759065215814255E-2},381,null,2.3093555612999994,{"$f":"[2]!XLSTAT_PDFStudent(K381,23)","v":3.2314065873947494E-2},381,null,21,16]
[382,51,3.8520334062999999,{"$f":"[2]!XLSTAT_PDFStudent(B382,23)","v":8.1163173797967258E-26},382,51,-2.6318288986999998,{"$f":"[2]!XLSTAT_PDFStudent(F382,23)","v":8.1163173797967258E-26},382,null,2.3270517724999999,{"$f":"[2]!XLSTAT_PDFStudent(K382,23)","v":3.1212021310578653E-2},382,null,22,16]
[383,51,3.8614195947000001,{"$f":"[2]!XLSTAT_PDFStudent(B383,23)","v":8.1163173797967258E-26},383,51,-2.6224427102999996,{"$f":"[2]!XLSTAT_PDFStudent(F383,23)","v":8.1163173797967258E-26},383,null,2.3447479836999996,{"$f":"[2]!XLSTAT_PDFStudent(K383,23)","v":3.0142626751223187E-2},383,null,23,16]
[384,3.8614195947000001,3.8614195947000001,{"$f":"[2]!XLSTAT_PDFStudent(B384,23)","v":9.8130139559048459E-4},384,-2.6224427102999996,-2.6224427102999996,{"$f":"[2]!XLSTAT_PDFStudent(F384,23)","v":1.7094061099302185E-2},384,null,2.3624441949000001,{"$f":"[2]!XLSTAT_PDFStudent(K384,23)","v":2.9105157465121132E-2},384,null,24,16]
[385,{"$f":"IF(-1^(INT(A385/2)+2)>0,2.0686576103+2*INT(A385/2-1/2)*0.0046930942,51)","v":3.8708057830999998},{"$f":"2.0686576103+2*INT(A385/2-1/2)*0.0046930942","v":3.8708057830999998},{"$f":"[2]!XLSTAT_PDFStudent(B385,23)","v":9.5903614160036026E-4},385,{"$f":"IF(-1^(INT(E385/2)+2)>0,-4.4152046947+2*INT(E385/2-1/2)*0.0046930942,51)","v":-2.6130565218999999},{"$f":"-4.4152046947+2*INT(E385/2-1/2)*0.0046930942","v":-2.6130565218999999},{"$f":"[2]!XLSTAT_PDFStudent(F385,23)","v":1.743508733391062E-2},385,null,{"$f":"-4.4152046947+(I385-1)*0.0176962112","v":2.3801404060999998},{"$f":"[2]!XLSTAT_PDFStudent(K385,23)","v":2.8098892923310231E-2},385,null,{"$f":"M385-24*INT((-1/2+M385)/24)","v":1},{"$f":"1+INT((M385-1/2)/24)","v":17}]
[386,51,3.8708057830999998,{"$f":"[2]!XLSTAT_PDFStudent(B386,23)","v":8.1163173797967258E-26},386,51,-2.6130565218999999,{"$f":"[2]!XLSTAT_PDFStudent(F386,23)","v":8.1163173797967258E-26},386,null,2.3978366172999994,{"$f":"[2]!XLSTAT_PDFStudent(K386,23)","v":2.7123117441006248E-2},386,null,2,17]
[387,51,3.8801919714999999,{"$f":"[2]!XLSTAT_PDFStudent(B387,23)","v":8.1163173797967258E-26},387,51,-2.6036703334999998,{"$f":"[2]!XLSTAT_PDFStudent(F387,23)","v":8.1163173797967258E-26},387,null,2.4155328285,{"$f":"[2]!XLSTAT_PDFStudent(K387,23)","v":2.6177120781574244E-2},387,null,3,17]
[388,3.8801919714999999,3.8801919714999999,{"$f":"[2]!XLSTAT_PDFStudent(B388,23)","v":9.3726506311085178E-4},388,-2.6036703334999998,-2.6036703334999998,{"$f":"[2]!XLSTAT_PDFStudent(F388,23)","v":1.7782233601913382E-2},388,null,2.4332290396999996,{"$f":"[2]!XLSTAT_PDFStudent(K388,23)","v":2.5260198722947162E-2},388,null,4,17]
[389,3.8895781599000001,3.8895781599000001,{"$f":"[2]!XLSTAT_PDFStudent(B389,23)","v":9.1597758602891756E-4},389,-2.5942841450999996,-2.5942841450999996,{"$f":"[2]!XLSTAT_PDFStudent(F389,23)","v":1.8135590397914101E-2},389,null,2.4509252509000001,{"$f":"[2]!XLSTAT_PDFStudent(K389,23)","v":2.4371653587381401E-2},389,null,5,17]
[390,51,3.8895781599000001,{"$f":"[2]!XLSTAT_PDFStudent(B390,23)","v":8.1163173797967258E-26},390,51,-2.5942841450999996,{"$f":"[2]!XLSTAT_PDFStudent(F390,23)","v":8.1163173797967258E-26},390,null,2.4686214620999998,{"$f":"[2]!XLSTAT_PDFStudent(K390,23)","v":2.3510794735476289E-2},390,null,6,17]
[391,51,3.8989643482999998,{"$f":"[2]!XLSTAT_PDFStudent(B391,23)","v":8.1163173797967258E-26},391,51,-2.5848979566999999,{"$f":"[2]!XLSTAT_PDFStudent(F391,23)","v":8.1163173797967258E-26},391,null,2.4863176732999994,{"$f":"[2]!XLSTAT_PDFStudent(K391,23)","v":2.2676939025409317E-2},391,null,7,17]
[392,3.8989643482999998,3.8989643482999998,{"$f":"[2]!XLSTAT_PDFStudent(B392,23)","v":8.9516334944919835E-4},392,-2.5848979566999999,-2.5848979566999999,{"$f":"[2]!XLSTAT_PDFStudent(F392,23)","v":1.8495249021210365E-2},392,null,2.5040138845,{"$f":"[2]!XLSTAT_PDFStudent(K392,23)","v":2.1869411238365825E-2},392,null,8,17]
[393,3.9083505367,3.9083505367,{"$f":"[2]!XLSTAT_PDFStudent(B393,23)","v":8.7481220177133877E-4},393,-2.5755117682999997,-2.5755117682999997,{"$f":"[2]!XLSTAT_PDFStudent(F393,23)","v":1.8861301567603718E-2},393,null,2.5217100956999996,{"$f":"[2]!XLSTAT_PDFStudent(K393,23)","v":2.1087544471161252E-2},393,null,9,17]
[394,51,3.9083505367,{"$f":"[2]!XLSTAT_PDFStudent(B394,23)","v":8.1163173797967258E-26},394,51,-2.5755117682999997,{"$f":"[2]!XLSTAT_PDFStudent(F394,23)","v":8.1163173797967258E-26},394,null,2.5394063069000001,{"$f":"[2]!XLSTAT_PDFStudent(K394,23)","v":2.0330680497070625E-2},394,null,10,17]
[395,51,3.9177367251000002,{"$f":"[2]!XLSTAT_PDFStudent(B395,23)","v":8.1163173797967258E-26},395,51,-2.5661255798999996,{"$f":"[2]!XLSTAT_PDFStudent(F395,23)","v":8.1163173797967258E-26},395,null,2.5571025180999998,{"$f":"[2]!XLSTAT_PDFStudent(K395,23)","v":1.9598170095894062E-2},395,null,11,17]
[396,3.9177367251000002,3.9177367251000002,{"$f":"[2]!XLSTAT_PDFStudent(B396,23)","v":8.5491419687507822E-4},396,-2.5661255798999996,-2.5661255798999996,{"$f":"[2]!XLSTAT_PDFStudent(F396,23)","v":1.9233840920643099E-2},396,null,2.5747987292999994,{"$f":"[2]!XLSTAT_PDFStudent(K396,23)","v":1.8889373354295302E-2},396,null,12,17]
[397,3.9271229134999999,3.9271229134999999,{"$f":"[2]!XLSTAT_PDFStudent(B397,23)","v":8.3545959035262463E-4},397,-2.5567393914999998,-2.5567393914999998,{"$f":"[2]!XLSTAT_PDFStudent(F397,23)","v":1.9612960742290086E-2},397,null,2.5924949405,{"$f":"[2]!XLSTAT_PDFStudent(K397,23)","v":1.8203659937458226E-2},397,null,13,17]
[398,51,3.9271229134999999,{"$f":"[2]!XLSTAT_PDFStudent(B398,23)","v":8.1163173797967258E-26},398,51,-2.5567393914999998,{"$f":"[2]!XLSTAT_PDFStudent(F398,23)","v":8.1163173797967258E-26},398,null,2.6101911516999996,{"$f":"[2]!XLSTAT_PDFStudent(K398,23)","v":1.7540409333108582E-2},398,null,14,17]
[399,51,3.9365091018999996,{"$f":"[2]!XLSTAT_PDFStudent(B399,23)","v":8.1163173797967258E-26},399,51,-2.5473532031000001,{"$f":"[2]!XLSTAT_PDFStudent(F399,23)","v":8.1163173797967258E-26},399,null,2.6278873629000001,{"$f":"[2]!XLSTAT_PDFStudent(K399,23)","v":1.6899011068949022E-2},399,null,15,17]
[400,3.9365091018999996,3.9365091018999996,{"$f":"[2]!XLSTAT_PDFStudent(B400,23)","v":8.1643883579788181E-4},400,-2.5473532031000001,-2.5473532031000001,{"$f":"[2]!XLSTAT_PDFStudent(F400,23)","v":1.9998755462992578E-2},400,null,2.6455835740999998,{"$f":"[2]!XLSTAT_PDFStudent(K400,23)","v":1.6278864904553981E-2},400,null,16,17]
[401,3.9458952903000002,3.9458952903000002,{"$f":"[2]!XLSTAT_PDFStudent(B401,23)","v":7.9784258115203491E-4},401,-2.5379670146999995,-2.5379670146999995,{"$f":"[2]!XLSTAT_PDFStudent(F401,23)","v":2.0391320271155419E-2},401,null,2.6632797852999994,{"$f":"[2]!XLSTAT_PDFStudent(K401,23)","v":1.5679380998764633E-2},401,null,17,17]
[402,51,3.9458952903000002,{"$f":"[2]!XLSTAT_PDFStudent(B402,23)","v":8.1163173797967258E-26},402,51,-2.5379670146999995,{"$f":"[2]!XLSTAT_PDFStudent(F402,23)","v":8.1163173797967258E-26},402,null,2.6809759965,{"$f":"[2]!XLSTAT_PDFStudent(K402,23)","v":1.5099980053619328E-2},402,null,18,17]
[403,51,3.9552814786999999,{"$f":"[2]!XLSTAT_PDFStudent(B403,23)","v":8.1163173797967258E-26},403,51,-2.5285808262999998,{"$f":"[2]!XLSTAT_PDFStudent(F403,23)","v":8.1163173797967258E-26},403,null,2.6986722076999996,{"$f":"[2]!XLSTAT_PDFStudent(K403,23)","v":1.4540093435843577E-2},403,null,19,17]
[404,3.9552814786999999,3.9552814786999999,{"$f":"[2]!XLSTAT_PDFStudent(B404,23)","v":7.7966166510506604E-4},404,-2.5285808262999998,-2.5285808262999998,{"$f":"[2]!XLSTAT_PDFStudent(F404,23)","v":2.0790751101994923E-2},404,null,2.7163684189000001,{"$f":"[2]!XLSTAT_PDFStudent(K404,23)","v":1.3999163276913397E-2},404,null,20,17]
[405,3.9646676670999996,3.9646676670999996,{"$f":"[2]!XLSTAT_PDFStudent(B405,23)","v":7.618871135526362E-4},405,-2.5191946379000001,-2.5191946379000001,{"$f":"[2]!XLSTAT_PDFStudent(F405,23)","v":2.1197144625765513E-2},405,null,2.7340646300999998,{"$f":"[2]!XLSTAT_PDFStudent(K405,23)","v":1.3476642552693372E-2},405,null,21,17]
[406,51,3.9646676670999996,{"$f":"[2]!XLSTAT_PDFStudent(B406,23)","v":8.1163173797967258E-26},406,51,-2.5191946379000001,{"$f":"[2]!XLSTAT_PDFStudent(F406,23)","v":8.1163173797967258E-26},406,null,2.7517608412999994,{"$f":"[2]!XLSTAT_PDFStudent(K406,23)","v":1.2971995143634039E-2},406,null,22,17]
[407,51,3.9740538555000002,{"$f":"[2]!XLSTAT_PDFStudent(B407,23)","v":8.1163173797967258E-26},407,51,-2.5098084494999995,{"$f":"[2]!XLSTAT_PDFStudent(F407,23)","v":8.1163173797967258E-26},407,null,2.7694570525,{"$f":"[2]!XLSTAT_PDFStudent(K407,23)","v":1.2484695876498851E-2},407,null,23,17]
[408,3.9740538555000002,3.9740538555000002,{"$f":"[2]!XLSTAT_PDFStudent(B408,23)","v":7.4451013610789957E-4},408,-2.5098084494999995,-2.5098084494999995,{"$f":"[2]!XLSTAT_PDFStudent(F408,23)","v":2.1610598235345755E-2},408,null,2.7871532636999996,{"$f":"[2]!XLSTAT_PDFStudent(K408,23)","v":1.2014230548572301E-2},408,null,24,17]
[409,3.9834400438999999,3.9834400438999999,{"$f":"[2]!XLSTAT_PDFStudent(B409,23)","v":7.2752212266773153E-4},409,-2.5004222610999998,-2.5004222610999998,{"$f":"[2]!XLSTAT_PDFStudent(F409,23)","v":2.203121003317085E-2},409,null,2.8048494749000001,{"$f":"[2]!XLSTAT_PDFStudent(K409,23)","v":1.156009593528117E-2},409,null,1,18]
[410,51,3.9834400438999999,{"$f":"[2]!XLSTAT_PDFStudent(B410,23)","v":8.1163173797967258E-26},410,51,-2.5004222610999998,{"$f":"[2]!XLSTAT_PDFStudent(F410,23)","v":8.1163173797967258E-26},410,null,2.8225456860999998,{"$f":"[2]!XLSTAT_PDFStudent(K410,23)","v":1.1121799782142266E-2},410,null,2,18]
[411,51,3.9928262322999997,{"$f":"[2]!XLSTAT_PDFStudent(B411,23)","v":8.1163173797967258E-26},411,51,-2.4910360727,{"$f":"[2]!XLSTAT_PDFStudent(F411,23)","v":8.1163173797967258E-26},411,null,2.8402418972999994,{"$f":"[2]!XLSTAT_PDFStudent(K411,23)","v":1.0698860781927126E-2},411,null,3,18]
[412,3.9928262322999997,3.9928262322999997,{"$f":"[2]!XLSTAT_PDFStudent(B412,23)","v":7.109146400328287E-4},412,-2.4910360727,-2.4910360727,{"$f":"[2]!XLSTAT_PDFStudent(F412,23)","v":2.2459078817501022E-2},412,null,2.8579381085,{"$f":"[2]!XLSTAT_PDFStudent(K412,23)","v":1.0290808537913802E-2},412,null,4,18]
[413,4.0022124206999994,4.0022124206999994,{"$f":"[2]!XLSTAT_PDFStudent(B413,23)","v":6.9467942858119822E-4},413,-2.4816498842999999,-2.4816498842999999,{"$f":"[2]!XLSTAT_PDFStudent(F413,23)","v":2.2894304068011465E-2},413,null,2.8756343196999996,{"$f":"[2]!XLSTAT_PDFStudent(K413,23)","v":9.8971835140714524E-3},413,null,5,18]
[414,51,4.0022124206999994,{"$f":"[2]!XLSTAT_PDFStudent(B414,23)","v":8.1163173797967258E-26},414,51,-2.4816498842999999,{"$f":"[2]!XLSTAT_PDFStudent(F414,23)","v":8.1163173797967258E-26},414,null,2.8933305309000001,{"$f":"[2]!XLSTAT_PDFStudent(K414,23)","v":9.5175369730012612E-3},414,null,6,18]
[415,51,4.0115986091,{"$f":"[2]!XLSTAT_PDFStudent(B415,23)","v":8.1163173797967258E-26},415,51,-2.4722636958999997,{"$f":"[2]!XLSTAT_PDFStudent(F415,23)","v":8.1163173797967258E-26},415,null,2.9110267420999998,{"$f":"[2]!XLSTAT_PDFStudent(K415,23)","v":9.1514309024330869E-3},415,null,7,18]
[416,4.0115986091,4.0115986091,{"$f":"[2]!XLSTAT_PDFStudent(B416,23)","v":6.7880839899448484E-4},416,-2.4722636958999997,-2.4722636958999997,{"$f":"[2]!XLSTAT_PDFStudent(F416,23)","v":2.3336985930692833E-2},416,null,2.9287229532999994,{"$f":"[2]!XLSTAT_PDFStudent(K416,23)","v":8.7984379310519223E-3},416,null,8,18]
[417,4.0209847974999997,4.0209847974999997,{"$f":"[2]!XLSTAT_PDFStudent(B417,23)","v":6.632936290366404E-4},417,-2.4628775075,-2.4628775075,{"$f":"[2]!XLSTAT_PDFStudent(F417,23)","v":2.3787225202049952E-2},417,null,2.9464191645,{"$f":"[2]!XLSTAT_PDFStudent(K417,23)","v":8.4581412344050862E-3},417,null,9,18]
[418,51,4.0209847974999997,{"$f":"[2]!XLSTAT_PDFStudent(B418,23)","v":8.1163173797967258E-26},418,51,-2.4628775075,{"$f":"[2]!XLSTAT_PDFStudent(F418,23)","v":8.1163173797967258E-26},418,null,2.9641153756999996,{"$f":"[2]!XLSTAT_PDFStudent(K418,23)","v":8.1301344316147325E-3},418,null,10,18]
[419,51,4.0303709858999994,{"$f":"[2]!XLSTAT_PDFStudent(B419,23)","v":8.1163173797967258E-26},419,51,-2.4534913190999998,{"$f":"[2]!XLSTAT_PDFStudent(F419,23)","v":8.1163173797967258E-26},419,null,2.9818115869000001,{"$f":"[2]!XLSTAT_PDFStudent(K419,23)","v":7.8140214735958249E-3},419,null,11,18]
[420,4.0303709858999994,4.0303709858999994,{"$f":"[2]!XLSTAT_PDFStudent(B420,23)","v":6.4812736038432988E-4},420,-2.4534913190999998,-2.4534913190999998,{"$f":"[2]!XLSTAT_PDFStudent(F420,23)","v":2.4245123312586676E-2},420,null,2.9995077980999998,{"$f":"[2]!XLSTAT_PDFStudent(K420,23)","v":7.5094165234548677E-3},420,null,12,18]
[421,4.0397571743,4.0397571743,{"$f":"[2]!XLSTAT_PDFStudent(B421,23)","v":6.3330199550861702E-4},421,-2.4441051306999997,-2.4441051306999997,{"$f":"[2]!XLSTAT_PDFStudent(F421,23)","v":2.4710782309564448E-2},421,null,3.0172040092999994,{"$f":"[2]!XLSTAT_PDFStudent(K421,23)","v":7.2159438297183746E-3},421,null,13,18]
[422,51,4.0397571743,{"$f":"[2]!XLSTAT_PDFStudent(B422,23)","v":8.1163173797967258E-26},422,51,-2.4441051306999997,{"$f":"[2]!XLSTAT_PDFStudent(F422,23)","v":8.1163173797967258E-26},422,null,3.0349002205,{"$f":"[2]!XLSTAT_PDFStudent(K422,23)","v":6.9332375930163731E-3},422,null,14,18]
[423,51,4.0491433626999997,{"$f":"[2]!XLSTAT_PDFStudent(B423,23)","v":8.1163173797967258E-26},423,51,-2.4347189423,{"$f":"[2]!XLSTAT_PDFStudent(F423,23)","v":8.1163173797967258E-26},423,null,3.0525964316999996,{"$f":"[2]!XLSTAT_PDFStudent(K423,23)","v":6.6609418268202339E-3},423,null,15,18]
[424,4.0491433626999997,4.0491433626999997,{"$f":"[2]!XLSTAT_PDFStudent(B424,23)","v":6.1881009460732948E-4},424,-2.4347189423,-2.4347189423,{"$f":"[2]!XLSTAT_PDFStudent(F424,23)","v":2.5184304839023286E-2},424,null,3.0702926429000001,{"$f":"[2]!XLSTAT_PDFStudent(K424,23)","v":6.3987102128094967E-3},424,null,16,18]
[425,4.0585295510999995,4.0585295510999995,{"$f":"[2]!XLSTAT_PDFStudent(B425,23)","v":6.0464437258754848E-4},425,-2.4253327538999998,-2.4253327538999998,{"$f":"[2]!XLSTAT_PDFStudent(F425,23)","v":2.5665794127052992E-2},425,null,3.0879888540999998,{"$f":"[2]!XLSTAT_PDFStudent(K425,23)","v":6.1462059514183843E-3},425,null,17,18]
[426,51,4.0585295510999995,{"$f":"[2]!XLSTAT_PDFStudent(B426,23)","v":8.1163173797967258E-26},426,51,-2.4253327538999998,{"$f":"[2]!XLSTAT_PDFStudent(F426,23)","v":8.1163173797967258E-26},426,null,3.1056850652999994,{"$f":"[2]!XLSTAT_PDFStudent(K426,23)","v":5.9031016080877312E-3},426,null,18,18]
[427,51,4.0679157395000001,{"$f":"[2]!XLSTAT_PDFStudent(B427,23)","v":8.1163173797967258E-26},427,51,-2.4159465654999996,{"$f":"[2]!XLSTAT_PDFStudent(F427,23)","v":8.1163173797967258E-26},427,null,3.1233812765,{"$f":"[2]!XLSTAT_PDFStudent(K427,23)","v":5.6690789557245734E-3},427,null,19,18]
[428,4.0679157395000001,4.0679157395000001,{"$f":"[2]!XLSTAT_PDFStudent(B428,23)","v":5.9079769609772514E-4},428,-2.4159465654999996,-2.4159465654999996,{"$f":"[2]!XLSTAT_PDFStudent(F428,23)","v":2.6155353960303288E-2},428,null,3.1410774876999996,{"$f":"[2]!XLSTAT_PDFStudent(K428,23)","v":5.4438288138481091E-3},428,null,20,18]
[429,4.0773019278999998,4.0773019278999998,{"$f":"[2]!XLSTAT_PDFStudent(B429,23)","v":5.7726308060879715E-4},429,-2.4065603770999999,-2.4065603770999999,{"$f":"[2]!XLSTAT_PDFStudent(F429,23)","v":2.665308866572088E-2},429,null,3.1587736989000001,{"$f":"[2]!XLSTAT_PDFStudent(K429,23)","v":5.2270508848773533E-3},429,null,21,18]
[430,51,4.0773019278999998,{"$f":"[2]!XLSTAT_PDFStudent(B430,23)","v":8.1163173797967258E-26},430,51,-2.4065603770999999,{"$f":"[2]!XLSTAT_PDFStudent(F430,23)","v":8.1163173797967258E-26},430,null,3.1764699100999998,{"$f":"[2]!XLSTAT_PDFStudent(K430,23)","v":5.0184535879935566E-3},430,null,22,18]
[431,51,4.0866881162999995,{"$f":"[2]!XLSTAT_PDFStudent(B431,23)","v":8.1163173797967258E-26},431,51,-2.3971741886999998,{"$f":"[2]!XLSTAT_PDFStudent(F431,23)","v":8.1163173797967258E-26},431,null,3.1941661212999994,{"$f":"[2]!XLSTAT_PDFStudent(K431,23)","v":4.8177538909879416E-3},431,null,23,18]
[432,4.0866881162999995,4.0866881162999995,{"$f":"[2]!XLSTAT_PDFStudent(B432,23)","v":5.6403368754379373E-4},432,-2.3971741886999998,-2.3971741886999998,{"$f":"[2]!XLSTAT_PDFStudent(F432,23)","v":2.7159103089502555E-2},432,null,3.2118623325,{"$f":"[2]!XLSTAT_PDFStudent(K432,23)","v":4.6246771404839203E-3},432,null,24,18]
[433,4.0960743047000001,4.0960743047000001,{"$f":"[2]!XLSTAT_PDFStudent(B433,23)","v":5.5110282145535701E-4},433,-2.3877880002999996,-2.3877880002999996,{"$f":"[2]!XLSTAT_PDFStudent(F433,23)","v":2.7673502575253008E-2},433,null,3.2295585436999996,{"$f":"[2]!XLSTAT_PDFStudent(K433,23)","v":4.4389568909016641E-3},433,null,1,19]
[434,51,4.0960743047000001,{"$f":"[2]!XLSTAT_PDFStudent(B434,23)","v":8.1163173797967258E-26},434,51,-2.3877880002999996,{"$f":"[2]!XLSTAT_PDFStudent(F434,23)","v":8.1163173797967258E-26},434,null,3.2472547549000002,{"$f":"[2]!XLSTAT_PDFStudent(K434,23)","v":4.2603347325123296E-3},434,null,2,19]
[435,51,4.1054604930999998,{"$f":"[2]!XLSTAT_PDFStudent(B435,23)","v":8.1163173797967258E-26},435,51,-2.3784018118999999,{"$f":"[2]!XLSTAT_PDFStudent(F435,23)","v":8.1163173797967258E-26},435,null,3.2649509660999998,{"$f":"[2]!XLSTAT_PDFStudent(K435,23)","v":4.0885601189093491E-3},435,null,3,19]
[436,4.1054604930999998,4.1054604930999998,{"$f":"[2]!XLSTAT_PDFStudent(B436,23)","v":5.3846392725060885E-4},436,-2.3784018118999999,-2.3784018118999999,{"$f":"[2]!XLSTAT_PDFStudent(F436,23)","v":2.8196392941335767E-2},436,null,3.2826471772999994,{"$f":"[2]!XLSTAT_PDFStudent(K436,23)","v":3.9233901942046651E-3},436,null,4,19]
[437,4.1148466814999995,4.1148466814999995,{"$f":"[2]!XLSTAT_PDFStudent(B437,23)","v":5.2611058746280972E-4},437,-2.3690156234999997,-2.3690156234999997,{"$f":"[2]!XLSTAT_PDFStudent(F437,23)","v":2.8727880457407737E-2},437,null,3.3003433885,{"$f":"[2]!XLSTAT_PDFStudent(K437,23)","v":3.7645896202389822E-3},437,null,5,19]
[438,51,4.1148466814999995,{"$f":"[2]!XLSTAT_PDFStudent(B438,23)","v":8.1163173797967258E-26},438,51,-2.3690156234999997,{"$f":"[2]!XLSTAT_PDFStudent(F438,23)","v":8.1163173797967258E-26},438,null,3.3180395996999996,{"$f":"[2]!XLSTAT_PDFStudent(K438,23)","v":3.6119304040767826E-3},438,null,6,19]
[439,51,4.1242328699000002,{"$f":"[2]!XLSTAT_PDFStudent(B439,23)","v":8.1163173797967258E-26},439,51,-2.3596294351,{"$f":"[2]!XLSTAT_PDFStudent(F439,23)","v":8.1163173797967258E-26},439,null,3.3357358109000002,{"$f":"[2]!XLSTAT_PDFStudent(K439,23)","v":3.4651917260394524E-3},439,null,7,19]
[440,4.1242328699000002,4.1242328699000002,{"$f":"[2]!XLSTAT_PDFStudent(B440,23)","v":5.1403651956922645E-4},440,-2.3596294351,-2.3596294351,{"$f":"[2]!XLSTAT_PDFStudent(F440,23)","v":2.9268071820124884E-2},440,null,3.3534320220999998,{"$f":"[2]!XLSTAT_PDFStudent(K440,23)","v":3.324159768512486E-3},440,null,8,19]
[441,4.1336190582999999,4.1336190582999999,{"$f":"[2]!XLSTAT_PDFStudent(B441,23)","v":5.0223557335467588E-4},441,-2.3502432466999998,-2.3502432466999998,{"$f":"[2]!XLSTAT_PDFStudent(F441,23)","v":2.981707412801067E-2},441,null,3.3711282332999994,{"$f":"[2]!XLSTAT_PDFStudent(K441,23)","v":3.1886275457466717E-3},441,null,9,19]
[442,51,4.1336190582999999,{"$f":"[2]!XLSTAT_PDFStudent(B442,23)","v":8.1163173797967258E-26},442,51,-2.3502432466999998,{"$f":"[2]!XLSTAT_PDFStudent(F442,23)","v":8.1163173797967258E-26},442,null,3.3888244445,{"$f":"[2]!XLSTAT_PDFStudent(K442,23)","v":3.058394734857057E-3},442,null,10,19]
[443,51,4.1430052466999996,{"$f":"[2]!XLSTAT_PDFStudent(B443,23)","v":8.1163173797967258E-26},443,51,-2.3408570582999997,{"$f":"[2]!XLSTAT_PDFStudent(F443,23)","v":8.1163173797967258E-26},443,null,3.4065206556999996,{"$f":"[2]!XLSTAT_PDFStudent(K443,23)","v":2.9332675082085163E-3},443,null,11,19]
[444,4.1430052466999996,4.1430052466999996,{"$f":"[2]!XLSTAT_PDFStudent(B444,23)","v":4.9070172832013474E-4},444,-2.3408570582999997,-2.3408570582999997,{"$f":"[2]!XLSTAT_PDFStudent(F444,23)","v":3.0374994855475308E-2},444,null,3.4242168669000002,{"$f":"[2]!XLSTAT_PDFStudent(K444,23)","v":2.8130583673619458E-3},444,null,12,19]
[445,4.1523914351000002,4.1523914351000002,{"$f":"[2]!XLSTAT_PDFStudent(B445,23)","v":4.7942909113589112E-4},445,-2.3314708699,-2.3314708699,{"$f":"[2]!XLSTAT_PDFStudent(F445,23)","v":3.0941941825977069E-2},445,null,3.4419130780999998,{"$f":"[2]!XLSTAT_PDFStudent(K445,23)","v":2.6975859787413074E-3},445,null,13,19]
[446,51,4.1523914351000002,{"$f":"[2]!XLSTAT_PDFStudent(B446,23)","v":8.1163173797967258E-26},446,51,-2.3314708699,{"$f":"[2]!XLSTAT_PDFStudent(F446,23)","v":8.1163173797967258E-26},446,null,3.4596092892999994,{"$f":"[2]!XLSTAT_PDFStudent(K446,23)","v":2.586675011168103E-3},446,null,14,19]
[447,51,4.1617776234999999,{"$f":"[2]!XLSTAT_PDFStudent(B447,23)","v":8.1163173797967258E-26},447,51,-2.3220846814999998,{"$f":"[2]!XLSTAT_PDFStudent(F447,23)","v":8.1163173797967258E-26},447,null,3.4773055005,{"$f":"[2]!XLSTAT_PDFStudent(K447,23)","v":2.4801559753972547E-3},447,null,15,19]
[448,4.1617776234999999,4.1617776234999999,{"$f":"[2]!XLSTAT_PDFStudent(B448,23)","v":4.6841189313863999E-4},448,-2.3220846814999998,-2.3220846814999998,{"$f":"[2]!XLSTAT_PDFStudent(F448,23)","v":3.1518023184315437E-2},448,null,3.4950017116999996,{"$f":"[2]!XLSTAT_PDFStudent(K448,23)","v":2.3778650657760069E-3},448,null,16,19]
[449,{"$f":"IF(-1^(INT(A449/2)+2)>0,2.0686576103+2*INT(A449/2-1/2)*0.0046930942,51)","v":4.1711638118999996},{"$f":"2.0686576103+2*INT(A449/2-1/2)*0.0046930942","v":4.1711638118999996},{"$f":"[2]!XLSTAT_PDFStudent(B449,23)","v":4.5764448787197291E-4},449,{"$f":"IF(-1^(INT(E449/2)+2)>0,-4.4152046947+2*INT(E449/2-1/2)*0.0046930942,51)","v":-2.3126984930999996},{"$f":"-4.4152046947+2*INT(E449/2-1/2)*0.0046930942","v":-2.3126984930999996},{"$f":"[2]!XLSTAT_PDFStudent(F449,23)","v":3.2103347368047007E-2},449,null,{"$f":"-4.4152046947+(I449-1)*0.0176962112","v":3.5126979228999993},{"$f":"[2]!XLSTAT_PDFStudent(K449,23)","v":2.2796440041356891E-3},449,null,{"$f":"M449-24*INT((-1/2+M449)/24)","v":17},{"$f":"1+INT((M449-1/2)/24)","v":19}]
[450,51,4.1711638118999996,{"$f":"[2]!XLSTAT_PDFStudent(B450,23)","v":8.1163173797967258E-26},450,51,-2.3126984930999996,{"$f":"[2]!XLSTAT_PDFStudent(F450,23)","v":8.1163173797967258E-26},450,null,3.5303941340999998,{"$f":"[2]!XLSTAT_PDFStudent(K450,23)","v":2.185339886015214E-3},450,null,18,19]
[451,51,4.1805500003000002,{"$f":"[2]!XLSTAT_PDFStudent(B451,23)","v":8.1163173797967258E-26},451,51,-2.3033123046999999,{"$f":"[2]!XLSTAT_PDFStudent(F451,23)","v":8.1163173797967258E-26},451,null,3.5480903452999994,{"$f":"[2]!XLSTAT_PDFStudent(K451,23)","v":2.0948050293045461E-3},451,null,19,19]
[452,4.1805500003000002,4.1805500003000002,{"$f":"[2]!XLSTAT_PDFStudent(B452,23)","v":4.4712134866969005E-4},452,-2.3033123046999999,-2.3033123046999999,{"$f":"[2]!XLSTAT_PDFStudent(F452,23)","v":3.2698023078014865E-2},452,null,3.5657865565,{"$f":"[2]!XLSTAT_PDFStudent(K452,23)","v":2.0078968253861235E-3},452,null,20,19]
[453,4.1899361887,4.1899361887,{"$f":"[2]!XLSTAT_PDFStudent(B453,23)","v":4.3683706628138476E-4},453,-2.2939261162999998,-2.2939261162999998,{"$f":"[2]!XLSTAT_PDFStudent(F453,23)","v":3.330215924798318E-2},453,null,3.5834827676999996,{"$f":"[2]!XLSTAT_PDFStudent(K453,23)","v":1.9244775928430255E-3},453,null,21,19]
[454,51,4.1899361887,{"$f":"[2]!XLSTAT_PDFStudent(B454,23)","v":8.1163173797967258E-26},454,51,-2.2939261162999998,{"$f":"[2]!XLSTAT_PDFStudent(F454,23)","v":8.1163173797967258E-26},454,null,3.6011789789000002,{"$f":"[2]!XLSTAT_PDFStudent(K454,23)","v":1.8444144337932428E-3},454,null,22,19]
[455,51,4.1993223770999997,{"$f":"[2]!XLSTAT_PDFStudent(B455,23)","v":8.1163173797967258E-26},455,51,-2.2845399278999996,{"$f":"[2]!XLSTAT_PDFStudent(F455,23)","v":8.1163173797967258E-26},455,null,3.6188751900999989,{"$f":"[2]!XLSTAT_PDFStudent(K455,23)","v":1.7675790929012004E-3},455,null,23,19]
[456,4.1993223770999997,4.1993223770999997,{"$f":"[2]!XLSTAT_PDFStudent(B456,23)","v":4.2678634653971139E-4},456,-2.2845399278999996,-2.2845399278999996,{"$f":"[2]!XLSTAT_PDFStudent(F456,23)","v":3.3915865013367387E-2},456,null,3.6365714012999995,{"$f":"[2]!XLSTAT_PDFStudent(K456,23)","v":1.6938478191092891E-3},456,null,24,19]
[457,4.2087085655000003,4.2087085655000003,{"$f":"[2]!XLSTAT_PDFStudent(B457,23)","v":4.1696400806880179E-4},457,-2.2751537394999999,-2.2751537394999999,{"$f":"[2]!XLSTAT_PDFStudent(F457,23)","v":3.4539249679053849E-2},457,null,3.6542676125,{"$f":"[2]!XLSTAT_PDFStudent(K457,23)","v":1.6231012301248964E-3},457,null,1,20]
[458,51,4.2087085655000003,{"$f":"[2]!XLSTAT_PDFStudent(B458,23)","v":8.1163173797967258E-26},458,51,-2.2751537394999999,{"$f":"[2]!XLSTAT_PDFStudent(F458,23)","v":8.1163173797967258E-26},458,null,3.6719638237000005,{"$f":"[2]!XLSTAT_PDFStudent(K458,23)","v":1.5552241796908787E-3},458,null,2,20]
[459,51,4.2180947539,{"$f":"[2]!XLSTAT_PDFStudent(B459,23)","v":8.1163173797967258E-26},459,51,-2.2657675510999997,{"$f":"[2]!XLSTAT_PDFStudent(F459,23)","v":8.1163173797967258E-26},459,null,3.6896600348999993,{"$f":"[2]!XLSTAT_PDFStudent(K459,23)","v":1.4901056276610037E-3},459,null,3,20]
[460,4.2180947539,4.2180947539,{"$f":"[2]!XLSTAT_PDFStudent(B460,23)","v":4.0736498003326278E-4},460,-2.2657675510999997,-2.2657675510999997,{"$f":"[2]!XLSTAT_PDFStudent(F460,23)","v":3.517242268629895E-2},460,null,3.7073562460999998,{"$f":"[2]!XLSTAT_PDFStudent(K460,23)","v":1.427638512895324E-3},460,null,4,20]
[461,4.2274809422999997,4.2274809422999997,{"$f":"[2]!XLSTAT_PDFStudent(B461,23)","v":3.9798429992718236E-4},461,-2.2563813627,-2.2563813627,{"$f":"[2]!XLSTAT_PDFStudent(F461,23)","v":3.5815493578702819E-2},461,null,3.7250524573000003,{"$f":"[2]!XLSTAT_PDFStudent(K461,23)","v":1.3677196289847884E-3},461,null,5,20]
[462,51,4.2274809422999997,{"$f":"[2]!XLSTAT_PDFStudent(B462,23)","v":8.1163173797967258E-26},462,51,-2.2563813627,{"$f":"[2]!XLSTAT_PDFStudent(F462,23)","v":8.1163173797967258E-26},462,null,3.7427486684999991,{"$f":"[2]!XLSTAT_PDFStudent(K462,23)","v":1.31024950280857E-3},462,null,6,20]
[463,51,4.2368671307000003,{"$f":"[2]!XLSTAT_PDFStudent(B463,23)","v":8.1163173797967258E-26},463,51,-2.2469951742999998,{"$f":"[2]!XLSTAT_PDFStudent(F463,23)","v":8.1163173797967258E-26},463,null,3.7604448796999996,{"$f":"[2]!XLSTAT_PDFStudent(K463,23)","v":1.2551322759226482E-3},463,null,7,20]
[464,4.2368671307000003,4.2368671307000003,{"$f":"[2]!XLSTAT_PDFStudent(B464,23)","v":3.8881711140261859E-4},464,-2.2469951742999998,-2.2469951742999998,{"$f":"[2]!XLSTAT_PDFStudent(F464,23)","v":3.6468571967248307E-2},464,null,3.7781410909000002,{"$f":"[2]!XLSTAT_PDFStudent(K464,23)","v":1.2022755887733606E-3},464,null,8,20]
[465,4.2462533191,4.2462533191,{"$f":"[2]!XLSTAT_PDFStudent(B465,23)","v":3.7985866213699834E-4},465,-2.2376089858999997,-2.2376089858999997,{"$f":"[2]!XLSTAT_PDFStudent(F465,23)","v":3.7131767494400759E-2},465,null,3.7958373020999989,{"$f":"[2]!XLSTAT_PDFStudent(K465,23)","v":1.1515904677250547E-3},465,null,9,20]
[466,51,4.2462533191,{"$f":"[2]!XLSTAT_PDFStudent(B466,23)","v":8.1163173797967258E-26},466,51,-2.2376089858999997,{"$f":"[2]!XLSTAT_PDFStudent(F466,23)","v":8.1163173797967258E-26},466,null,3.8135335132999995,{"$f":"[2]!XLSTAT_PDFStudent(K466,23)","v":1.1029912148869993E-3},466,null,10,20]
[467,51,4.2556395074999998,{"$f":"[2]!XLSTAT_PDFStudent(B467,23)","v":8.1163173797967258E-26},467,51,-2.2282227975,{"$f":"[2]!XLSTAT_PDFStudent(F467,23)","v":8.1163173797967258E-26},467,null,3.8312297245,{"$f":"[2]!XLSTAT_PDFStudent(K467,23)","v":1.0563953007208446E-3},467,null,11,20]
[468,4.2556395074999998,4.2556395074999998,{"$f":"[2]!XLSTAT_PDFStudent(B468,23)","v":3.711043017388748E-4},468,-2.2282227975,-2.2282227975,{"$f":"[2]!XLSTAT_PDFStudent(F468,23)","v":3.7805189797261149E-2},468,null,3.8489259357000005,{"$f":"[2]!XLSTAT_PDFStudent(K468,23)","v":1.0117232594063564E-3},468,null,12,20]
[469,4.2650256959000004,4.2650256959000004,{"$f":"[2]!XLSTAT_PDFStudent(B469,23)","v":3.6254947969151214E-4},469,-2.2188366090999998,-2.2188366090999998,{"$f":"[2]!XLSTAT_PDFStudent(F469,23)","v":3.8488948469767775E-2},469,null,3.8666221468999993,{"$f":"[2]!XLSTAT_PDFStudent(K469,23)","v":9.688985869400423E-4},469,null,13,20]
[470,51,4.2650256959000004,{"$f":"[2]!XLSTAT_PDFStudent(B470,23)","v":8.1163173797967258E-26},470,51,-2.2188366090999998,{"$f":"[2]!XLSTAT_PDFStudent(F470,23)","v":8.1163173797967258E-26},470,null,3.8843183580999998,{"$f":"[2]!XLSTAT_PDFStudent(K470,23)","v":9.278476419382147E-4},470,null,14,20]
[471,51,4.2744118843000001,{"$f":"[2]!XLSTAT_PDFStudent(B471,23)","v":8.1163173797967258E-26},471,51,-2.2094504206999996,{"$f":"[2]!XLSTAT_PDFStudent(F471,23)","v":8.1163173797967258E-26},471,null,3.9020145693000003,{"$f":"[2]!XLSTAT_PDFStudent(K471,23)","v":8.8849954911351242E-4},471,null,15,20]
[472,4.2744118843000001,4.2744118843000001,{"$f":"[2]!XLSTAT_PDFStudent(B472,23)","v":3.5418974333374322E-4},472,-2.2094504206999996,-2.2094504206999996,{"$f":"[2]!XLSTAT_PDFStudent(F472,23)","v":3.9183153023941028E-2},472,null,3.9197107804999991,{"$f":"[2]!XLSTAT_PDFStudent(K472,23)","v":8.5078610539125765E-4},472,null,16,20]
[473,4.2837980726999998,4.2837980726999998,{"$f":"[2]!XLSTAT_PDFStudent(B473,23)","v":3.4602073587755946E-4},473,-2.2000642322999999,-2.2000642322999999,{"$f":"[2]!XLSTAT_PDFStudent(F473,23)","v":3.9887912850166594E-2},473,null,3.9374069916999996,{"$f":"[2]!XLSTAT_PDFStudent(K473,23)","v":8.1464168863000085E-4},473,null,17,20]
[474,51,4.2837980726999998,{"$f":"[2]!XLSTAT_PDFStudent(B474,23)","v":8.1163173797967258E-26},474,51,-2.2000642322999999,{"$f":"[2]!XLSTAT_PDFStudent(F474,23)","v":8.1163173797967258E-26},474,null,3.9551032029000002,{"$f":"[2]!XLSTAT_PDFStudent(K474,23)","v":7.8000316890856263E-4},474,null,18,20]
[475,51,4.2931842611000004,{"$f":"[2]!XLSTAT_PDFStudent(B475,23)","v":8.1163173797967258E-26},475,51,-2.1906780438999998,{"$f":"[2]!XLSTAT_PDFStudent(F475,23)","v":8.1163173797967258E-26},475,null,3.9727994140999989,{"$f":"[2]!XLSTAT_PDFStudent(K475,23)","v":7.468098223400941E-4},475,null,19,20]
[476,4.2931842611000004,4.2931842611000004,{"$f":"[2]!XLSTAT_PDFStudent(B476,23)","v":3.3803819446189638E-4},476,-2.1906780438999998,-2.1906780438999998,{"$f":"[2]!XLSTAT_PDFStudent(F476,23)","v":4.0603337176513543E-2},476,null,3.9904956252999995,{"$f":"[2]!XLSTAT_PDFStudent(K476,23)","v":7.1500324737210487E-4},476,null,20,20]
[477,4.3025704495000001,4.3025704495000001,{"$f":"[2]!XLSTAT_PDFStudent(B477,23)","v":3.3023794824209128E-4},477,-2.1812918554999996,-2.1812918554999996,{"$f":"[2]!XLSTAT_PDFStudent(F477,23)","v":4.1329535027082268E-2},477,null,4.0081918365,{"$f":"[2]!XLSTAT_PDFStudent(K477,23)","v":6.8452728353016223E-4},477,null,21,20]
[478,51,4.3025704495000001,{"$f":"[2]!XLSTAT_PDFStudent(B478,23)","v":8.1163173797967258E-26},478,51,-2.1812918554999996,{"$f":"[2]!XLSTAT_PDFStudent(F478,23)","v":8.1163173797967258E-26},478,null,4.0258880477000005,{"$f":"[2]!XLSTAT_PDFStudent(K478,23)","v":6.5532793256151839E-4},478,null,22,20]
[479,51,4.3119566378999998,{"$f":"[2]!XLSTAT_PDFStudent(B479,23)","v":8.1163173797967258E-26},479,51,-2.1719056670999999,{"$f":"[2]!XLSTAT_PDFStudent(F479,23)","v":8.1163173797967258E-26},479,null,4.0435842588999993,{"$f":"[2]!XLSTAT_PDFStudent(K479,23)","v":6.2735328193416144E-4},479,null,23,20]
[480,4.3119566378999998,4.3119566378999998,{"$f":"[2]!XLSTAT_PDFStudent(B480,23)","v":3.2261591651446681E-4},480,-2.1719056670999999,-2.1719056670999999,{"$f":"[2]!XLSTAT_PDFStudent(F480,23)","v":4.2066615179381386E-2},480,null,4.0612804700999998,{"$f":"[2]!XLSTAT_PDFStudent(K480,23)","v":6.0055343064571297E-4},480,null,24,20]
[481,4.3213428263000004,4.3213428263000004,{"$f":"[2]!XLSTAT_PDFStudent(B481,23)","v":3.1516810687551896E-4},481,-2.1625194786999997,-2.1625194786999997,{"$f":"[2]!XLSTAT_PDFStudent(F481,23)","v":4.2814686120729174E-2},481,null,4.0789766813000004,{"$f":"[2]!XLSTAT_PDFStudent(K481,23)","v":5.7488041729600108E-4},481,null,1,21]
[482,51,4.3213428263000004,{"$f":"[2]!XLSTAT_PDFStudent(B482,23)","v":8.1163173797967258E-26},482,51,-2.1625194786999997,{"$f":"[2]!XLSTAT_PDFStudent(F482,23)","v":8.1163173797967258E-26},482,null,4.0966728924999991,{"$f":"[2]!XLSTAT_PDFStudent(K482,23)","v":5.5028815037645588E-4},482,null,2,21]
[483,51,4.3307290146999993,{"$f":"[2]!XLSTAT_PDFStudent(B483,23)","v":8.1163173797967258E-26},483,51,-2.1531332903,{"$f":"[2]!XLSTAT_PDFStudent(F483,23)","v":8.1163173797967258E-26},483,null,4.1143691036999996,{"$f":"[2]!XLSTAT_PDFStudent(K483,23)","v":5.267323407290882E-4},483,null,3,21]
[484,4.3307290146999993,4.3307290146999993,{"$f":"[2]!XLSTAT_PDFStudent(B484,23)","v":3.0789061341520568E-4},484,-2.1531332903,-2.1531332903,{"$f":"[2]!XLSTAT_PDFStudent(F484,23)","v":4.3573856003678364E-2},484,null,4.1320653149000002,{"$f":"[2]!XLSTAT_PDFStudent(K484,23)","v":5.0417043612747037E-4},484,null,4,21]
[485,4.3401152030999999,4.3401152030999999,{"$f":"[2]!XLSTAT_PDFStudent(B485,23)","v":3.007796149437804E-4},485,-2.1437471018999998,-2.1437471018999998,{"$f":"[2]!XLSTAT_PDFStudent(F485,23)","v":4.4344232600463891E-2},485,null,4.1497615260999989,{"$f":"[2]!XLSTAT_PDFStudent(K485,23)","v":4.825615579318767E-4},485,null,5,21]
[486,51,4.3401152030999999,{"$f":"[2]!XLSTAT_PDFStudent(B486,23)","v":8.1163173797967258E-26},486,51,-2.1437471018999998,{"$f":"[2]!XLSTAT_PDFStudent(F486,23)","v":8.1163173797967258E-26},486,null,4.1674577372999995,{"$f":"[2]!XLSTAT_PDFStudent(K486,23)","v":4.618664397706651E-4},486,null,6,21]
[487,51,4.3495013915000005,{"$f":"[2]!XLSTAT_PDFStudent(B487,23)","v":8.1163173797967258E-26},487,51,-2.1343609134999997,{"$f":"[2]!XLSTAT_PDFStudent(F487,23)","v":8.1163173797967258E-26},487,null,4.1851539485,{"$f":"[2]!XLSTAT_PDFStudent(K487,23)","v":4.4204736819999002E-4},487,null,7,21]
[488,4.3495013915000005,4.3495013915000005,{"$f":"[2]!XLSTAT_PDFStudent(B488,23)","v":2.9383137325170058E-4},488,-2.1343609134999997,-2.1343609134999997,{"$f":"[2]!XLSTAT_PDFStudent(F488,23)","v":4.5125923256471301E-2},488,null,4.2028501597000005,{"$f":"[2]!XLSTAT_PDFStudent(K488,23)","v":4.2306812529391378E-4},488,null,8,21]
[489,4.3588875798999993,4.3588875798999993,{"$f":"[2]!XLSTAT_PDFStudent(B489,23)","v":2.8704223140206531E-4},489,-2.1249747251,-2.1249747251,{"$f":"[2]!XLSTAT_PDFStudent(F489,23)","v":4.5919034842726934E-2},489,null,4.2205463708999993,{"$f":"[2]!XLSTAT_PDFStudent(K489,23)","v":4.0489393311728334E-4},489,null,9,21]
[490,51,4.3588875798999993,{"$f":"[2]!XLSTAT_PDFStudent(B490,23)","v":8.1163173797967258E-26},490,51,-2.1249747251,{"$f":"[2]!XLSTAT_PDFStudent(F490,23)","v":8.1163173797967258E-26},490,null,4.2382425820999998,{"$f":"[2]!XLSTAT_PDFStudent(K490,23)","v":3.8749140003383739E-4},490,null,10,21]
[491,51,4.3682737682999999,{"$f":"[2]!XLSTAT_PDFStudent(B491,23)","v":8.1163173797967258E-26},491,51,-2.1155885366999998,{"$f":"[2]!XLSTAT_PDFStudent(F491,23)","v":8.1163173797967258E-26},491,null,4.2559387933000004,{"$f":"[2]!XLSTAT_PDFStudent(K491,23)","v":3.708284688024364E-4},491,null,11,21]
[492,4.3682737682999999,4.3682737682999999,{"$f":"[2]!XLSTAT_PDFStudent(B492,23)","v":2.8040861205508853E-4},492,-2.1155885366999998,-2.1155885366999998,{"$f":"[2]!XLSTAT_PDFStudent(F492,23)","v":4.6723673707410679E-2},492,null,4.2736350044999991,{"$f":"[2]!XLSTAT_PDFStudent(K492,23)","v":3.5487436641457764E-4},492,null,12,21]
[493,4.3776599567000005,4.3776599567000005,{"$f":"[2]!XLSTAT_PDFStudent(B493,23)","v":2.7392701582412552E-4},493,-2.1062023482999996,-2.1062023482999996,{"$f":"[2]!XLSTAT_PDFStudent(F493,23)","v":4.7539945626391376E-2},493,null,4.2913312156999996,{"$f":"[2]!XLSTAT_PDFStudent(K493,23)","v":3.3959955562686467E-4},493,null,13,21]
[494,51,4.3776599567000005,{"$f":"[2]!XLSTAT_PDFStudent(B494,23)","v":8.1163173797967258E-26},494,51,-2.1062023482999996,{"$f":"[2]!XLSTAT_PDFStudent(F494,23)","v":8.1163173797967258E-26},494,null,4.3090274269000002,{"$f":"[2]!XLSTAT_PDFStudent(K494,23)","v":3.2497568814257133E-4},494,null,14,21]
[495,51,4.3870461450999994,{"$f":"[2]!XLSTAT_PDFStudent(B495,23)","v":8.1163173797967258E-26},495,51,-2.0968161598999999,{"$f":"[2]!XLSTAT_PDFStudent(F495,23)","v":8.1163173797967258E-26},495,null,4.3267236380999989,{"$f":"[2]!XLSTAT_PDFStudent(K495,23)","v":3.1097555939693574E-4},495,null,15,21]
[496,4.3870461450999994,4.3870461450999994,{"$f":"[2]!XLSTAT_PDFStudent(B496,23)","v":2.6759401966272155E-4},496,-2.0968161598999999,-2.0968161598999999,{"$f":"[2]!XLSTAT_PDFStudent(F496,23)","v":4.8367955752788357E-2},496,null,4.3444198492999995,{"$f":"[2]!XLSTAT_PDFStudent(K496,23)","v":2.9757306490145875E-4},496,null,16,21]
[497,4.3964323335,4.3964323335,{"$f":"[2]!XLSTAT_PDFStudent(B497,23)","v":2.6140627528221602E-4},497,-2.0874299714999998,-2.0874299714999998,{"$f":"[2]!XLSTAT_PDFStudent(F497,23)","v":4.9207808565561617E-2},497,null,4.3621160605,{"$f":"[2]!XLSTAT_PDFStudent(K497,23)","v":2.8474315810307036E-4},497,null,17,21]
[498,51,4.3964323335,{"$f":"[2]!XLSTAT_PDFStudent(B498,23)","v":8.1163173797967258E-26},498,51,-2.0874299714999998,{"$f":"[2]!XLSTAT_PDFStudent(F498,23)","v":8.1163173797967258E-26},498,null,4.3798122717000005,{"$f":"[2]!XLSTAT_PDFStudent(K498,23)","v":2.7246180971468597E-4},498,null,18,21]
[499,51,4.4058185219000006,{"$f":"[2]!XLSTAT_PDFStudent(B499,23)","v":8.1163173797967258E-26},499,51,-2.0780437830999996,{"$f":"[2]!XLSTAT_PDFStudent(F499,23)","v":8.1163173797967258E-26},499,null,4.3975084828999993,{"$f":"[2]!XLSTAT_PDFStudent(K499,23)","v":2.6070596847436051E-4},499,null,19,21]
[500,4.4058185219000006,4.4058185219000006,{"$f":"[2]!XLSTAT_PDFStudent(B500,23)","v":2.5536050759941042E-4},500,-2.0780437830999996,-2.0780437830999996,{"$f":"[2]!XLSTAT_PDFStudent(F500,23)","v":5.0059607817132472E-2},500,null,4.4152046940999998,{"$f":"[2]!XLSTAT_PDFStudent(K500,23)","v":2.4945352329098732E-4},500,null,20,21]
[null,null,null,null,null,null,null,null,null,null,null,null,501,null,21,21]
[null,null,null,null,null,null,null,null,null,null,null,null,502,null,22,21]
[null,null,null,null,null,null,null,null,null,null,null,null,503,null,23,21]
[null,null,null,null,null,null,null,null,null,null,null,null,504,null,24,21]
[null,null,null,null,null,null,null,null,null,null,null,null,505,null,1,22]
[null,null,null,null,null,null,null,null,null,null,null,null,506,null,2,22]
[null,null,null,null,null,null,null,null,null,null,null,null,507,null,3,22]
[null,null,null,null,null,null,null,null,null,null,null,null,508,null,4,22]
[null,null,null,null,null,null,null,null,null,null,null,null,509,null,5,22]
[null,null,null,null,null,null,null,null,null,null,null,null,510,null,6,22]
[null,null,null,null,null,null,null,null,null,null,null,null,511,null,7,22]
[null,null,null,null,null,null,null,null,null,null,null,null,512,null,8,22]
[null,null,null,null,null,null,null,null,null,null,null,null,513,null,{"$f":"M513-24*INT((-1/2+M513)/24)","v":9},{"$f":"1+INT((M513-1/2)/24)","v":22}]
[null,null,null,null,null,null,null,null,null,null,null,null,514,null,10,22]
[null,null,null,null,null,null,null,null,null,null,null,null,515,null,11,22]
[null,null,null,null,null,null,null,null,null,null,null,null,516,null,12,22]
[null,null,null,null,null,null,null,null,null,null,null,null,517,null,13,22]
[null,null,null,null,null,null,null,null,null,null,null,null,518,null,14,22]
[null,null,null,null,null,null,null,null,null,null,null,null,519,null,15,22]
[null,null,null,null,null,null,null,null,null,null,null,null,520,null,16,22]
[null,null,null,null,null,null,null,null,null,null,null,null,521,null,17,22]
[null,null,null,null,null,null,null,null,null,null,null,null,522,null,18,22]
[null,null,null,null,null,null,null,null,null,null,null,null,523,null,19,22]
[null,null,null,null,null,null,null,null,null,null,null,null,524,null,20,22]
[null,null,null,null,null,null,null,null,null,null,null,null,525,null,21,22]
[null,null,null,null,null,null,null,null,null,null,null,null,526,null,22,22]
[null,null,null,null,null,null,null,null,null,null,null,null,527,null,23,22]
[null,null,null,null,null,null,null,null,null,null,null,null,528,null,24,22]
[null,null,null,null,null,null,null,null,null,null,null,null,529,null,1,23]
[null,null,null,null,null,null,null,null,null,null,null,null,530,null,2,23]
[null,null,null,null,null,null,null,null,null,null,null,null,531,null,3,23]
[null,null,null,null,null,null,null,null,null,null,null,null,532,null,4,23]
[null,null,null,null,null,null,null,null,null,null,null,null,533,null,5,23]
[null,null,null,null,null,null,null,null,null,null,null,null,534,null,6,23]
[null,null,null,null,null,null,null,null,null,null,null,null,535,null,7,23]
[null,null,null,null,null,null,null,null,null,null,null,null,536,null,8,23]
[null,null,null,null,null,null,null,null,null,null,null,null,537,null,9,23]
[null,null,null,null,null,null,null,null,null,null,null,null,538,null,10,23]
[null,null,null,null,null,null,null,null,null,null,null,null,539,null,11,23]
[null,null,null,null,null,null,null,null,null,null,null,null,540,null,12,23]
[null,null,null,null,null,null,null,null,null,null,null,null,541,null,13,23]
[null,null,null,null,null,null,null,null,null,null,null,null,542,null,14,23]
[null,null,null,null,null,null,null,null,null,null,null,null,543,null,15,23]
[null,null,null,null,null,null,null,null,null,null,null,null,544,null,16,23]
[null,null,null,null,null,null,null,null,null,null,null,null,545,null,17,23]
[null,null,null,null,null,null,null,null,null,null,null,null,546,null,18,23]
[null,null,null,null,null,null,null,null,null,null,null,null,547,null,19,23]
[null,null,null,null,null,null,null,null,null,null,null,null,548,null,20,23]
[null,null,null,null,null,null,null,null,null,null,null,null,549,null,21,23]
[null,null,null,null,null,null,null,null,null,null,null,null,550,null,22,23]
[null,null,null,null,null,null,null,null,null,null,null,null,551,null,23,23]
[null,null,null,null,null,null,null,null,null,null,null,null,552,null,24,23]
[null,null,null,null,null,null,null,null,null,null,null,null,553,null,1,24]
[null,null,null,null,null,null,null,null,null,null,null,null,554,null,2,24]
[null,null,null,null,null,null,null,null,null,null,null,null,555,null,3,24]
[null,null,null,null,null,null,null,null,null,null,null,null,556,null,4,24]
[null,null,null,null,null,null,null,null,null,null,null,null,557,null,5,24]
[null,null,null,null,null,null,null,null,null,null,null,null,558,null,6,24]
[null,null,null,null,null,null,null,null,null,null,null,null,559,null,7,24]
[null,null,null,null,null,null,null,null,null,null,null,null,560,null,8,24]
[null,null,null,null,null,null,null,null,null,null,null,null,561,null,9,24]
[null,null,null,null,null,null,null,null,null,null,null,null,562,null,10,24]
[null,null,null,null,null,null,null,null,null,null,null,null,563,null,11,24]
[null,null,null,null,null,null,null,null,null,null,null,null,564,null,12,24]
[null,null,null,null,null,null,null,null,null,null,null,null,565,null,13,24]
[null,null,null,null,null,null,null,null,null,null,null,null,566,null,14,24]
[null,null,null,null,null,null,null,null,null,null,null,null,567,null,15,24]
[null,null,null,null,null,null,null,null,null,null,null,null,568,null,16,24]
[null,null,null,null,null,null,null,null,null,null,null,null,569,null,17,24]
[null,null,null,null,null,null,null,null,null,null,null,null,570,null,18,24]
[null,null,null,null,null,null,null,null,null,null,null,null,571,null,19,24]
[null,null,null,null,null,null,null,null,null,null,null,null,572,null,20,24]
[null,null,null,null,null,null,null,null,null,null,null,null,573,null,21,24]
[null,null,null,null,null,null,null,null,null,null,null,null,574,null,22,24]
[null,null,null,null,null,null,null,null,null,null,null,null,575,null,23,24]
[null,null,null,null,null,null,null,null,null,null,null,null,576,null,24,24]

{"sheet":"Test t et z (2 échant.)_HID","index":5,"n_rows":24,"n_cols":4,"rows_kept":24,"cut":false,"hidden":true,"merged":[]}
[1,138,2,31]
[0.94,150,1.8,38]
[1.06,150,2.2000000000000002,48]
[1.04,220,1.8666666666666667,60]
[0.96,222,2.1333333333333333,62]
[1.08,263,1.9333333333333333,68]
[0.92,275,2.0666666666666669,70]
[1.0266666666666666,282,2,94]
[0.97333333333333338,292,1.9142857142857144,94]
[1.2,296,2.0857142857142859,104]
[0.8,300,2,132]
[1.1555555555555557,309,1.9142857142857144,138]
[0.84444444444444444,310,2.0857142857142859,139]
[1.1111111111111112,310,2.0571428571428569,175]
[0.88888888888888884,316,1.9428571428571428,186]
[1.0666666666666667,317,2.0571428571428569,238]
[0.93333333333333335,319,1.9428571428571428,245]
[1.0222222222222221,321,2,271]
[0.97777777777777775,329,1.9142857142857144,291]
[1.04,338,2.0857142857142859,300]
[0.96,362,2.0571428571428569,329]
[1.04,375,1.9428571428571428,335]
[0.96,376,2.0571428571428569,364]
[1,447,1.9428571428571428,402]

{"sheet":"Test t et z (2 échant.)_HID1","index":6,"n_rows":48,"n_cols":4,"rows_kept":48,"cut":false,"hidden":true,"merged":[]}
[0.85,138,1.85,31]
[1.1499999999999999,138,2.15,31]
[0.85,150,1.85,38]
[1.1499999999999999,150,2.15,38]
[0.85,150,1.85,48]
[1.1499999999999999,150,2.15,48]
[0.85,220,1.85,60]
[1.1499999999999999,220,2.15,60]
[0.85,222,1.85,62]
[1.1499999999999999,222,2.15,62]
[0.85,263,1.85,68]
[1.1499999999999999,263,2.15,68]
[0.85,275,1.85,70]
[1.1499999999999999,275,2.15,70]
[0.85,282,1.85,94]
[1.1499999999999999,282,2.15,94]
[0.85,292,1.85,94]
[1.1499999999999999,292,2.15,94]
[0.85,296,1.85,104]
[1.1499999999999999,296,2.15,104]
[0.85,300,1.85,132]
[1.1499999999999999,300,2.15,132]
[0.85,309,1.85,138]
[1.1499999999999999,309,2.15,138]
[0.85,310,1.85,139]
[1.1499999999999999,310,2.15,139]
[0.85,310,1.85,175]
[1.1499999999999999,310,2.15,175]
[0.85,316,1.85,186]
[1.1499999999999999,316,2.15,186]
[0.85,317,1.85,238]
[1.1499999999999999,317,2.15,238]
[0.85,319,1.85,245]
[1.1499999999999999,319,2.15,245]
[0.85,321,1.85,271]
[1.1499999999999999,321,2.15,271]
[0.85,329,1.85,291]
[1.1499999999999999,329,2.15,291]
[0.85,338,1.85,300]
[1.1499999999999999,338,2.15,300]
[0.85,362,1.85,329]
[1.1499999999999999,362,2.15,329]
[0.85,375,1.85,335]
[1.1499999999999999,375,2.15,335]
[0.85,376,1.85,364]
[1.1499999999999999,376,2.15,364]
[0.85,447,1.85,402]
[1.1499999999999999,447,2.15,402]

{"sheet":"2 samples t test_HID","index":7,"n_rows":24,"n_cols":4,"rows_kept":24,"cut":false,"hidden":true,"merged":[]}
[1,138,2,31]
[0.94,150,1.8,38]
[1.06,150,2.2000000000000002,48]
[1.04,220,1.8666666666666667,60]
[0.96,222,2.1333333333333333,62]
[1.08,263,1.9333333333333333,68]
[0.92,275,2.0666666666666669,70]
[1.0266666666666666,282,2,94]
[0.97333333333333338,292,1.9142857142857144,94]
[1.2,296,2.0857142857142859,104]
[0.8,300,2,132]
[1.1555555555555557,309,1.9142857142857144,138]
[0.84444444444444444,310,2.0857142857142859,139]
[1.1111111111111112,310,2.0571428571428569,175]
[0.88888888888888884,316,1.9428571428571428,186]
[1.0666666666666667,317,2.0571428571428569,238]
[0.93333333333333335,319,1.9428571428571428,245]
[1.0222222222222221,321,2,271]
[0.97777777777777775,329,1.9142857142857144,291]
[1.04,338,2.0857142857142859,300]
[0.96,362,2.0571428571428569,329]
[1.04,375,1.9428571428571428,335]
[0.96,376,2.0571428571428569,364]
[1,447,1.9428571428571428,402]

{"sheet":"2 samples t test_HID1","index":8,"n_rows":48,"n_cols":4,"rows_kept":48,"cut":false,"hidden":true,"merged":[]}
[0.85,138,1.85,31]
[1.1499999999999999,138,2.15,31]
[0.85,150,1.85,38]
[1.1499999999999999,150,2.15,38]
[0.85,150,1.85,48]
[1.1499999999999999,150,2.15,48]
[0.85,220,1.85,60]
[1.1499999999999999,220,2.15,60]
[0.85,222,1.85,62]
[1.1499999999999999,222,2.15,62]
[0.85,263,1.85,68]
[1.1499999999999999,263,2.15,68]
[0.85,275,1.85,70]
[1.1499999999999999,275,2.15,70]
[0.85,282,1.85,94]
[1.1499999999999999,282,2.15,94]
[0.85,292,1.85,94]
[1.1499999999999999,292,2.15,94]
[0.85,296,1.85,104]
[1.1499999999999999,296,2.15,104]
[0.85,300,1.85,132]
[1.1499999999999999,300,2.15,132]
[0.85,309,1.85,138]
[1.1499999999999999,309,2.15,138]
[0.85,310,1.85,139]
[1.1499999999999999,310,2.15,139]
[0.85,310,1.85,175]
[1.1499999999999999,310,2.15,175]
[0.85,316,1.85,186]
[1.1499999999999999,316,2.15,186]
[0.85,317,1.85,238]
[1.1499999999999999,317,2.15,238]
[0.85,319,1.85,245]
[1.1499999999999999,319,2.15,245]
[0.85,321,1.85,271]
[1.1499999999999999,321,2.15,271]
[0.85,329,1.85,291]
[1.1499999999999999,329,2.15,291]
[0.85,338,1.85,300]
[1.1499999999999999,338,2.15,300]
[0.85,362,1.85,329]
[1.1499999999999999,362,2.15,329]
[0.85,375,1.85,335]
[1.1499999999999999,375,2.15,335]
[0.85,376,1.85,364]
[1.1499999999999999,376,2.15,364]
[0.85,447,1.85,402]
[1.1499999999999999,447,2.15,402]

{"sheet":"Prueba t (2 muestras)_HID","index":9,"n_rows":24,"n_cols":4,"rows_kept":24,"cut":false,"hidden":true,"merged":[]}
[1,138,2,31]
[0.94,150,1.8,38]
[1.06,150,2.2000000000000002,48]
[1.04,220,1.8666666666666667,60]
[0.96,222,2.1333333333333333,62]
[1.08,263,1.9333333333333333,68]
[0.92,275,2.0666666666666669,70]
[1.0266666666666666,282,2,94]
[0.97333333333333338,292,1.9142857142857144,94]
[1.2,296,2.0857142857142859,104]
[0.8,300,2,132]
[1.1555555555555557,309,1.9142857142857144,138]
[0.84444444444444444,310,2.0857142857142859,139]
[1.1111111111111112,310,2.0571428571428569,175]
[0.88888888888888884,316,1.9428571428571428,186]
[1.0666666666666667,317,2.0571428571428569,238]
[0.93333333333333335,319,1.9428571428571428,245]
[1.0222222222222221,321,2,271]
[0.97777777777777775,329,1.9142857142857144,291]
[1.04,338,2.0857142857142859,300]
[0.96,362,2.0571428571428569,329]
[1.04,375,1.9428571428571428,335]
[0.96,376,2.0571428571428569,364]
[1,447,1.9428571428571428,402]

{"sheet":"Prueba t (2 muestras)_HID1","index":10,"n_rows":48,"n_cols":4,"rows_kept":48,"cut":false,"hidden":true,"merged":[]}
[0.85,138,1.85,31]
[1.1499999999999999,138,2.15,31]
[0.85,150,1.85,38]
[1.1499999999999999,150,2.15,38]
[0.85,150,1.85,48]
[1.1499999999999999,150,2.15,48]
[0.85,220,1.85,60]
[1.1499999999999999,220,2.15,60]
[0.85,222,1.85,62]
[1.1499999999999999,222,2.15,62]
[0.85,263,1.85,68]
[1.1499999999999999,263,2.15,68]
[0.85,275,1.85,70]
[1.1499999999999999,275,2.15,70]
[0.85,282,1.85,94]
[1.1499999999999999,282,2.15,94]
[0.85,292,1.85,94]
[1.1499999999999999,292,2.15,94]
[0.85,296,1.85,104]
[1.1499999999999999,296,2.15,104]
[0.85,300,1.85,132]
[1.1499999999999999,300,2.15,132]
[0.85,309,1.85,138]
[1.1499999999999999,309,2.15,138]
[0.85,310,1.85,139]
[1.1499999999999999,310,2.15,139]
[0.85,310,1.85,175]
[1.1499999999999999,310,2.15,175]
[0.85,316,1.85,186]
[1.1499999999999999,316,2.15,186]
[0.85,317,1.85,238]
[1.1499999999999999,317,2.15,238]
[0.85,319,1.85,245]
[1.1499999999999999,319,2.15,245]
[0.85,321,1.85,271]
[1.1499999999999999,321,2.15,271]
[0.85,329,1.85,291]
[1.1499999999999999,329,2.15,291]
[0.85,338,1.85,300]
[1.1499999999999999,338,2.15,300]
[0.85,362,1.85,329]
[1.1499999999999999,362,2.15,329]
[0.85,375,1.85,335]
[1.1499999999999999,375,2.15,335]
[0.85,376,1.85,364]
[1.1499999999999999,376,2.15,364]
[0.85,447,1.85,402]
[1.1499999999999999,447,2.15,402]

{"sheet":"2 samples t test1_HID","index":11,"n_rows":24,"n_cols":4,"rows_kept":24,"cut":false,"hidden":true,"merged":[]}
[1,138,2,31]
[0.94,150,1.8,38]
[1.06,150,2.2000000000000002,48]
[1.04,220,1.8666666666666667,60]
[0.96,222,2.1333333333333333,62]
[1.08,263,1.9333333333333333,68]
[0.92,275,2.0666666666666669,70]
[1.0266666666666666,282,2,94]
[0.97333333333333338,292,1.9142857142857144,94]
[1.2,296,2.0857142857142859,104]
[0.8,300,2,132]
[1.1555555555555557,309,1.9142857142857144,138]
[0.84444444444444444,310,2.0857142857142859,139]
[1.1111111111111112,310,2.0571428571428569,175]
[0.88888888888888884,316,1.9428571428571428,186]
[1.0666666666666667,317,2.0571428571428569,238]
[0.93333333333333335,319,1.9428571428571428,245]
[1.0222222222222221,321,2,271]
[0.97777777777777775,329,1.9142857142857144,291]
[1.04,338,2.0857142857142859,300]
[0.96,362,2.0571428571428569,329]
[1.04,375,1.9428571428571428,335]
[0.96,376,2.0571428571428569,364]
[1,447,1.9428571428571428,402]

{"sheet":"2 samples t test1_HID1","index":12,"n_rows":48,"n_cols":4,"rows_kept":48,"cut":false,"hidden":true,"merged":[]}
[0.85,138,1.85,31]
[1.1499999999999999,138,2.15,31]
[0.85,150,1.85,38]
[1.1499999999999999,150,2.15,38]
[0.85,150,1.85,48]
[1.1499999999999999,150,2.15,48]
[0.85,220,1.85,60]
[1.1499999999999999,220,2.15,60]
[0.85,222,1.85,62]
[1.1499999999999999,222,2.15,62]
[0.85,263,1.85,68]
[1.1499999999999999,263,2.15,68]
[0.85,275,1.85,70]
[1.1499999999999999,275,2.15,70]
[0.85,282,1.85,94]
[1.1499999999999999,282,2.15,94]
[0.85,292,1.85,94]
[1.1499999999999999,292,2.15,94]
[0.85,296,1.85,104]
[1.1499999999999999,296,2.15,104]
[0.85,300,1.85,132]
[1.1499999999999999,300,2.15,132]
[0.85,309,1.85,138]
[1.1499999999999999,309,2.15,138]
[0.85,310,1.85,139]
[1.1499999999999999,310,2.15,139]
[0.85,310,1.85,175]
[1.1499999999999999,310,2.15,175]
[0.85,316,1.85,186]
[1.1499999999999999,316,2.15,186]
[0.85,317,1.85,238]
[1.1499999999999999,317,2.15,238]
[0.85,319,1.85,245]
[1.1499999999999999,319,2.15,245]
[0.85,321,1.85,271]
[1.1499999999999999,321,2.15,271]
[0.85,329,1.85,291]
[1.1499999999999999,329,2.15,291]
[0.85,338,1.85,300]
[1.1499999999999999,338,2.15,300]
[0.85,362,1.85,329]
[1.1499999999999999,362,2.15,329]
[0.85,375,1.85,335]
[1.1499999999999999,375,2.15,335]
[0.85,376,1.85,364]
[1.1499999999999999,376,2.15,364]
[0.85,447,1.85,402]
[1.1499999999999999,447,2.15,402]

{"sheet":"2 samples t test1_HID2","index":13,"n_rows":24,"n_cols":4,"rows_kept":24,"cut":false,"hidden":true,"merged":[]}
[1,138,2,31]
[0.94,150,1.8,38]
[1.06,150,2.2000000000000002,48]
[1.04,220,1.8666666666666667,60]
[0.96,222,2.1333333333333333,62]
[1.08,263,1.9333333333333333,68]
[0.92,275,2.0666666666666669,70]
[1.0266666666666666,282,2,94]
[0.97333333333333338,292,1.9142857142857144,94]
[1.2,296,2.0857142857142859,104]
[0.8,300,2,132]
[1.1555555555555557,309,1.9142857142857144,138]
[0.84444444444444444,310,2.0857142857142859,139]
[1.1111111111111112,310,2.0571428571428569,175]
[0.88888888888888884,316,1.9428571428571428,186]
[1.0666666666666667,317,2.0571428571428569,238]
[0.93333333333333335,319,1.9428571428571428,245]
[1.0222222222222221,321,2,271]
[0.97777777777777775,329,1.9142857142857144,291]
[1.04,338,2.0857142857142859,300]
[0.96,362,2.0571428571428569,329]
[1.04,375,1.9428571428571428,335]
[0.96,376,2.0571428571428569,364]
[1,447,1.9428571428571428,402]

{"sheet":"2 samples t test1_HID3","index":14,"n_rows":48,"n_cols":4,"rows_kept":48,"cut":false,"hidden":true,"merged":[]}
[0.85,138,1.85,31]
[1.1499999999999999,138,2.15,31]
[0.85,150,1.85,38]
[1.1499999999999999,150,2.15,38]
[0.85,150,1.85,48]
[1.1499999999999999,150,2.15,48]
[0.85,220,1.85,60]
[1.1499999999999999,220,2.15,60]
[0.85,222,1.85,62]
[1.1499999999999999,222,2.15,62]
[0.85,263,1.85,68]
[1.1499999999999999,263,2.15,68]
[0.85,275,1.85,70]
[1.1499999999999999,275,2.15,70]
[0.85,282,1.85,94]
[1.1499999999999999,282,2.15,94]
[0.85,292,1.85,94]
[1.1499999999999999,292,2.15,94]
[0.85,296,1.85,104]
[1.1499999999999999,296,2.15,104]
[0.85,300,1.85,132]
[1.1499999999999999,300,2.15,132]
[0.85,309,1.85,138]
[1.1499999999999999,309,2.15,138]
[0.85,310,1.85,139]
[1.1499999999999999,310,2.15,139]
[0.85,310,1.85,175]
[1.1499999999999999,310,2.15,175]
[0.85,316,1.85,186]
[1.1499999999999999,316,2.15,186]
[0.85,317,1.85,238]
[1.1499999999999999,317,2.15,238]
[0.85,319,1.85,245]
[1.1499999999999999,319,2.15,245]
[0.85,321,1.85,271]
[1.1499999999999999,321,2.15,271]
[0.85,329,1.85,291]
[1.1499999999999999,329,2.15,291]
[0.85,338,1.85,300]
[1.1499999999999999,338,2.15,300]
[0.85,362,1.85,329]
[1.1499999999999999,362,2.15,329]
[0.85,375,1.85,335]
[1.1499999999999999,375,2.15,335]
[0.85,376,1.85,364]
[1.1499999999999999,376,2.15,364]
[0.85,447,1.85,402]
[1.1499999999999999,447,2.15,402]