{"text_format":"1","workbook":"xlsx","n_sheets":4,"sheets":["Data","Wicoxon","XLSTAT_20230912_172054_1_HID","XLSTAT_20230912_123413_1_HID"],"not_rendered":{"charts":3,"images":5,"macros":1,"external_links":1,"defined_names":16,"comments":0,"pivot_tables":0},"unopened":[],"bounds":{"document_bytes":16777216,"sheet_cells":100000,"rows_first":2000,"rows_last":500,"rows_between":2000,"halvings":0,"cell_chars":16384,"cell_head_chars":4096},"cells_cut":0,"cells_raw":0,"read":"whole","date_system":"1900"}

{"sheet":"Data","index":0,"n_rows":25,"n_cols":2,"rows_kept":25,"cut":false,"hidden":false,"merged":[]}
["dv0","dv6"]
[296,175]
[376,329]
[309,238]
[222,60]
[150,271]
[316,291]
[321,364]
[447,402]
[220,70]
[375,335]
[310,300]
[310,245]
[282,186]
[317,31]
[362,104]
[338,132]
[263,94]
[138,38]
[329,62]
[292,139]
[275,94]
[150,48]
[319,68]
[300,138]

{"sheet":"Wicoxon","index":1,"n_rows":126,"n_cols":9,"rows_kept":126,"cut":false,"hidden":false,"merged":[[30,1,31,9],[47,1,48,9]]}
[null,"XLSTAT 2023.2.0.1411 - Comparison of two samples (Wilcoxon, Mann-Whitney, ...) - Start time: 12/09/2023 at 17:21:05 / End time: 12/09/2023 at 17:21:06 / Microsoft Excel 16.016731"]
[null,"Sample 1: Workbook = demoWilcoxon_FR.xlsm / Sheet = Data / Range = Data!$A:$A / 24 rows and 1 column"]
[null,"Sample 2: Workbook = demoWilcoxon_FR.xlsm / Sheet = Data / Range = Data!$B:$B / 24 rows and 1 column"]
[null,"Hypothesized difference (D): 0"]
[null,"Significance level (%): 5"]
[null,"p-value: Exact p-value"]
[null,"Management of ties: Hollander & Wolfe"]
[]
[]
[]
[]
[null,"Summary statistics:"]
[]
[null,"Variable","Observations","Obs. with missing data","Obs. without missing data","Minimum","Maximum","Mean","Std. deviation"]
[null,"dv0",24,0,24,138,447,292.375,73.867573929707945]
[null,"dv6",24,0,24,31,402,175.58333333333334,116.21266737310101]
[]
[]
[null,"Sign test / Two-tailed test:"]
[]
[null,"N+",22]
[null,"Expected value",12]
[null,"Variance (N+)",6]
[null,"p-value (Two-tailed)",3.5881996154785156E-5]
[null,"alpha",0.05]
[null,"The p-value is computed using an exact method."]
[]
[null,"Test interpretation:"]
[null,"H0: The two samples follow the same distribution."]
[null,"Ha: The distributions of the two samples are different."]
[null,"As the computed p-value is lower than the significance level alpha=0,05, one should reject the null hypothesis H0, and accept the alternative hypothesis Ha."]
[]
[]
[]
[null,"Wilcoxon signed-rank test / Two-tailed test:"]
[]
[null,"V",283.5]
[null,"V (standardized)",3.8146749866972285]
[null,"Expected value",150]
[null,"Variance (V)",1224.75]
[null,"p-value (Two-tailed)",1.3636228324731547E-4]
[null,"alpha",0.05]
[null,"The exact p-value could not be computed. An approximation has been used to compute the p-value."]
[]
[null,"Test interpretation:"]
[null,"H0: The two samples follow the same distribution."]
[null,"Ha: The distributions of the two samples are different."]
[null,"As the computed p-value is lower than the significance level alpha=0,05, one should reject the null hypothesis H0, and accept the alternative hypothesis Ha."]
[]
[]
[]
[null,"Ties have been detected in the data and the appropriate corrections have been applied."]
[]
[]
[]
[]
[]
[]
[]
[]
[]
[]
[]
[]
[]
[]
[]
[]
[]
[]
[]
[]
[]
[null,null,null,null,null,null," "]
[]
[]
[null,"Dominance diagram:"]
[]
[]
[]
[]
[]
[]
[]
[]
[]
[]
[]
[]
[]
[]
[]
[]
[]
[]
[]
[]
[null,null,null,null,null,null," "]
[]
[]
[]
[]
[]
[]
[]
[]
[]
[]
[]
[]
[]
[]
[]
[]
[]
[]
[]
[]
[]
[null,null,null,null,null,null," "]
[]
[]
[null,"Summary (p-values):"]
[]
[null,"Variable\\Subsamples","Sign test","Wilcoxon signed-rank test"]
[null,"dv0 - dv6",3.5881996154785156E-5,1.3636228324731547E-4]

{"sheet":"XLSTAT_20230912_172054_1_HID","index":2,"n_rows":576,"n_cols":16,"rows_kept":576,"cut":false,"hidden":true,"merged":[]}
[1,{"$f":"IF(-1^(INT(A1/2)+2)>0,1.9599639845+2*INT(A1/2-1/2)*0.004080072,51)","v":1.9599639845000001},{"$f":"1.9599639845+2*INT(A1/2-1/2)*0.004080072","v":1.9599639845000001},{"$f":"[1]!XLSTAT_PDFNormal(B1,0,1)","v":5.8445069809623572E-2},1,{"$f":"IF(-1^(INT(E1/2)+2)>0,-4+2*INT(E1/2-1/2)*0.004080072,51)","v":-4},{"$f":"-4+2*INT(E1/2-1/2)*0.004080072","v":-4},{"$f":"[1]!XLSTAT_PDFNormal(F1,0,1)","v":1.3383022576488537E-4},1,null,{"$f":"-4+(I1-1)*0.0160320641","v":-4},{"$f":"[1]!XLSTAT_PDFNormal(K1,0,1)","v":1.3383022576488537E-4},1,null,{"$f":"M1-24*INT((-1/2+M1)/24)","v":1},{"$f":"1+INT((M1-1/2)/24)","v":1}]
[2,51,1.9599639845000001,{"$f":"[1]!XLSTAT_PDFNormal(B2,0,1)","v":0},2,51,-4,{"$f":"[1]!XLSTAT_PDFNormal(F2,0,1)","v":0},2,null,-3.9839679359,{"$f":"[1]!XLSTAT_PDFNormal(K2,0,1)","v":1.4267534972498572E-4},2,null,2,1]
[3,51,1.9681241285000002,{"$f":"[1]!XLSTAT_PDFNormal(B3,0,1)","v":0},3,51,-3.9918398559999999,{"$f":"[1]!XLSTAT_PDFNormal(F3,0,1)","v":0},3,null,-3.9679358718,{"$f":"[1]!XLSTAT_PDFNormal(K3,0,1)","v":1.5206597662297284E-4},3,null,3,1]
[4,1.9681241285000002,1.9681241285000002,{"$f":"[1]!XLSTAT_PDFNormal(B4,0,1)","v":5.7515843741895348E-2},4,-3.9918398559999999,-3.9918398559999999,{"$f":"[1]!XLSTAT_PDFNormal(F4,0,1)","v":1.382659918021654E-4},4,null,-3.9519038076999999,{"$f":"[1]!XLSTAT_PDFNormal(K4,0,1)","v":1.6203302493873045E-4},4,null,4,1]
[5,1.9762842725,1.9762842725,{"$f":"[1]!XLSTAT_PDFNormal(B5,0,1)","v":5.6597622719910097E-2},5,-3.9836797119999998,-3.9836797119999998,{"$f":"[1]!XLSTAT_PDFNormal(F5,0,1)","v":1.428392683944131E-4},5,null,-3.9358717435999999,{"$f":"[1]!XLSTAT_PDFNormal(K5,0,1)","v":1.7260898493994071E-4},5,null,5,1]
[6,51,1.9762842725,{"$f":"[1]!XLSTAT_PDFNormal(B6,0,1)","v":0},6,51,-3.9836797119999998,{"$f":"[1]!XLSTAT_PDFNormal(F6,0,1)","v":0},6,null,-3.9198396794999999,{"$f":"[1]!XLSTAT_PDFNormal(K6,0,1)","v":1.8382798721471E-4},6,null,6,1]
[7,51,1.9844444165000001,{"$f":"[1]!XLSTAT_PDFNormal(B7,0,1)","v":0},7,51,-3.9755195680000002,{"$f":"[1]!XLSTAT_PDFNormal(F7,0,1)","v":0},7,null,-3.9038076153999999,{"$f":"[1]!XLSTAT_PDFNormal(K7,0,1)","v":1.9572587351051021E-4},7,null,7,1]
[8,1.9844444165000001,1.9844444165000001,{"$f":"[1]!XLSTAT_PDFNormal(B8,0,1)","v":5.569035235658272E-2},8,-3.9755195680000002,-3.9755195680000002,{"$f":"[1]!XLSTAT_PDFNormal(F8,0,1)","v":1.4755398472937633E-4},8,null,-3.8877755512999999,{"$f":"[1]!XLSTAT_PDFNormal(K8,0,1)","v":2.0834026991720569E-4},8,null,8,1]
[9,1.9926045605,1.9926045605,{"$f":"[1]!XLSTAT_PDFNormal(B9,0,1)","v":5.4793976964949927E-2},9,-3.9673594240000001,-3.9673594240000001,{"$f":"[1]!XLSTAT_PDFNormal(F9,0,1)","v":1.524141711013302E-4},9,null,-3.8717434871999998,{"$f":"[1]!XLSTAT_PDFNormal(K9,0,1)","v":2.2171066243004643E-4},9,null,9,1]
[10,51,1.9926045605,{"$f":"[1]!XLSTAT_PDFNormal(B10,0,1)","v":0},10,51,-3.9673594240000001,{"$f":"[1]!XLSTAT_PDFNormal(F10,0,1)","v":0},10,null,-3.8557114230999998,{"$f":"[1]!XLSTAT_PDFNormal(K10,0,1)","v":2.3587847492641918E-4},10,null,10,1]
[11,51,2.0007647044999999,{"$f":"[1]!XLSTAT_PDFNormal(B11,0,1)","v":0},11,51,-3.95919928,{"$f":"[1]!XLSTAT_PDFNormal(F11,0,1)","v":0},11,null,-3.8396793589999998,{"$f":"[1]!XLSTAT_PDFNormal(K11,0,1)","v":2.5088714958784741E-4},11,null,11,1]
[12,2.0007647044999999,2.0007647044999999,{"$f":"[1]!XLSTAT_PDFNormal(B12,0,1)","v":5.390843959371934E-2},12,-3.95919928,-3.95919928,{"$f":"[1]!XLSTAT_PDFNormal(F12,0,1)","v":1.5742396115719641E-4},12,null,-3.8236472948999998,{"$f":"[1]!XLSTAT_PDFNormal(K12,0,1)","v":2.6678222979621826E-4},12,null,12,1]
[13,2.0089248485,2.0089248485,{"$f":"[1]!XLSTAT_PDFNormal(B13,0,1)","v":5.3033682062665261E-2},13,-3.9510391359999999,-3.9510391359999999,{"$f":"[1]!XLSTAT_PDFNormal(F13,0,1)","v":1.6258759418175171E-4},13,null,-3.8076152308000002,{"$f":"[1]!XLSTAT_PDFNormal(K13,0,1)","v":2.8361144553047939E-4},13,null,13,1]
[14,51,2.0089248485,{"$f":"[1]!XLSTAT_PDFNormal(B14,0,1)","v":0},14,51,-3.9510391359999999,{"$f":"[1]!XLSTAT_PDFNormal(F14,0,1)","v":0},14,null,-3.7915831667000002,{"$f":"[1]!XLSTAT_PDFNormal(K14,0,1)","v":3.0142480128708899E-4},14,null,14,1]
[15,51,2.0170849925000001,{"$f":"[1]!XLSTAT_PDFNormal(B15,0,1)","v":0},15,51,-3.9428789919999998,{"$f":"[1]!XLSTAT_PDFNormal(F15,0,1)","v":0},15,null,-3.7755511026000002,{"$f":"[1]!XLSTAT_PDFNormal(K15,0,1)","v":3.2027466654427686E-4},15,null,15,1]
[16,2.0170849925000001,2.0170849925000001,{"$f":"[1]!XLSTAT_PDFNormal(B16,0,1)","v":5.2169644997859477E-2},16,-3.9428789919999998,-3.9428789919999998,{"$f":"[1]!XLSTAT_PDFNormal(F16,0,1)","v":1.6790941742228071E-4},16,null,-3.7595190385000001,{"$f":"[1]!XLSTAT_PDFNormal(K16,0,1)","v":3.4021586878675873E-4},16,null,16,1]
[17,2.0252451365000002,2.0252451365000002,{"$f":"[1]!XLSTAT_PDFNormal(B17,0,1)","v":5.1316267866725447E-2},17,-3.9347188480000002,-3.9347188480000002,{"$f":"[1]!XLSTAT_PDFNormal(F17,0,1)","v":1.7339388845302731E-4},17,null,-3.7434869744000001,{"$f":"[1]!XLSTAT_PDFNormal(K17,0,1)","v":3.6130578910380858E-4},17,null,17,1]
[18,51,2.0252451365000002,{"$f":"[1]!XLSTAT_PDFNormal(B18,0,1)","v":0},18,51,-3.9347188480000002,{"$f":"[1]!XLSTAT_PDFNormal(F18,0,1)","v":0},18,null,-3.7274549103000001,{"$f":"[1]!XLSTAT_PDFNormal(K18,0,1)","v":3.8360446036965782E-4},18,null,18,1]
[19,51,2.0334052805000002,{"$f":"[1]!XLSTAT_PDFNormal(B19,0,1)","v":0},19,51,-3.9265587040000001,{"$f":"[1]!XLSTAT_PDFNormal(F19,0,1)","v":0},19,null,-3.7114228462000001,{"$f":"[1]!XLSTAT_PDFNormal(K19,0,1)","v":4.0717466801094474E-4},19,null,19,1]
[20,2.0334052805000002,2.0334052805000002,{"$f":"[1]!XLSTAT_PDFNormal(B20,0,1)","v":5.0473489012905534E-2},20,-3.9265587040000001,-3.9265587040000001,{"$f":"[1]!XLSTAT_PDFNormal(F20,0,1)","v":1.7904557757979144E-4},20,null,-3.6953907821,{"$f":"[1]!XLSTAT_PDFNormal(K20,0,1)","v":4.3208205336144062E-4},20,null,20,1]
[21,2.0415654244999999,2.0415654244999999,{"$f":"[1]!XLSTAT_PDFNormal(B21,0,1)","v":4.9641245690929731E-2},21,-3.91839856,-3.91839856,{"$f":"[1]!XLSTAT_PDFNormal(F21,0,1)","v":1.8486917028500517E-4},21,null,-3.679358718,{"$f":"[1]!XLSTAT_PDFNormal(K21,0,1)","v":4.583952195995039E-4},21,null,21,1]
[22,51,2.0415654244999999,{"$f":"[1]!XLSTAT_PDFNormal(B22,0,1)","v":0},22,51,-3.91839856,{"$f":"[1]!XLSTAT_PDFNormal(F22,0,1)","v":0},22,null,-3.6633266539,{"$f":"[1]!XLSTAT_PDFNormal(K22,0,1)","v":4.8618584025863099E-4},22,null,22,1]
[23,51,2.0497255685,{"$f":"[1]!XLSTAT_PDFNormal(B23,0,1)","v":0},23,51,-3.9102384159999999,{"$f":"[1]!XLSTAT_PDFNormal(F23,0,1)","v":0},23,null,-3.6472945898,{"$f":"[1]!XLSTAT_PDFNormal(K23,0,1)","v":5.1552877029612909E-4},23,null,23,1]
[24,2.0497255685,2.0497255685,{"$f":"[1]!XLSTAT_PDFNormal(B24,0,1)","v":4.8819474100675914E-2},24,-3.9102384159999999,-3.9102384159999999,{"$f":"[1]!XLSTAT_PDFNormal(F24,0,1)","v":1.9086946971362184E-4},24,null,-3.6312625257,{"$f":"[1]!XLSTAT_PDFNormal(K24,0,1)","v":5.4650215969927521E-4},24,null,24,1]
[25,2.0578857125000001,2.0578857125000001,{"$f":"[1]!XLSTAT_PDFNormal(B25,0,1)","v":4.800810942161151E-2},25,-3.9020782719999998,-3.9020782719999998,{"$f":"[1]!XLSTAT_PDFNormal(F25,0,1)","v":1.9705139920013647E-4},25,null,-3.6152304615999999,{"$f":"[1]!XLSTAT_PDFNormal(K25,0,1)","v":5.7918756960236603E-4},25,null,1,2]
[26,51,2.0578857125000001,{"$f":"[1]!XLSTAT_PDFNormal(B26,0,1)","v":0},26,51,-3.9020782719999998,{"$f":"[1]!XLSTAT_PDFNormal(F26,0,1)","v":0},26,null,-3.5991983974999999,{"$f":"[1]!XLSTAT_PDFNormal(K26,0,1)","v":6.1367009088181843E-4},26,null,2,2]
[27,51,2.0660458565000002,{"$f":"[1]!XLSTAT_PDFNormal(B27,0,1)","v":0},27,51,-3.8939181280000001,{"$f":"[1]!XLSTAT_PDFNormal(F27,0,1)","v":0},27,null,-3.5831663333999999,{"$f":"[1]!XLSTAT_PDFNormal(K27,0,1)","v":6.5003846518989379E-4},27,null,3,2]
[28,2.0660458565000002,2.0660458565000002,{"$f":"[1]!XLSTAT_PDFNormal(B28,0,1)","v":4.7207085846805885E-2},28,-3.8939181280000001,-3.8939181280000001,{"$f":"[1]!XLSTAT_PDFNormal(F28,0,1)","v":2.0342000483705079E-4},28,null,-3.5671342692999999,{"$f":"[1]!XLSTAT_PDFNormal(K28,0,1)","v":6.8838520838075852E-4},28,null,4,2]
[29,2.0742060005000003,2.0742060005000003,{"$f":"[1]!XLSTAT_PDFNormal(B29,0,1)","v":4.64163366167046E-2},29,-3.8857579840000001,-3.8857579840000001,{"$f":"[1]!XLSTAT_PDFNormal(F29,0,1)","v":2.0998045808508461E-4},29,null,-3.5511022051999999,{"$f":"[1]!XLSTAT_PDFNormal(K29,0,1)","v":7.2880673627538314E-4},29,null,5,2]
[30,51,2.0742060005000003,{"$f":"[1]!XLSTAT_PDFNormal(B30,0,1)","v":0},30,51,-3.8857579840000001,{"$f":"[1]!XLSTAT_PDFNormal(F30,0,1)","v":0},30,null,-3.5350701410999998,{"$f":"[1]!XLSTAT_PDFNormal(K30,0,1)","v":7.7140349270429657E-4},30,null,6,2]
[31,51,2.0823661444999999,{"$f":"[1]!XLSTAT_PDFNormal(B31,0,1)","v":0},31,51,-3.87759784,{"$f":"[1]!XLSTAT_PDFNormal(F31,0,1)","v":0},31,null,-3.5190380769999998,{"$f":"[1]!XLSTAT_PDFNormal(K31,0,1)","v":8.1628007975936574E-4},31,null,7,2]
[32,2.0823661444999999,2.0823661444999999,{"$f":"[1]!XLSTAT_PDFNormal(B32,0,1)","v":4.5635794052655658E-2},32,-3.87759784,-3.87759784,{"$f":"[1]!XLSTAT_PDFNormal(F32,0,1)","v":2.1673805842542507E-4},32,null,-3.5030060129000002,{"$f":"[1]!XLSTAT_PDFNormal(K32,0,1)","v":8.6354539017765197E-4},32,null,8,2]
[33,2.0905262885,2.0905262885,{"$f":"[1]!XLSTAT_PDFNormal(B33,0,1)","v":4.4865389590178502E-2},33,-3.8694376959999999,-3.8694376959999999,{"$f":"[1]!XLSTAT_PDFNormal(F33,0,1)","v":2.2369823605429927E-4},33,null,-3.4869739488000002,{"$f":"[1]!XLSTAT_PDFNormal(K33,0,1)","v":9.1331274177193142E-4},33,null,9,2]
[34,51,2.0905262885,{"$f":"[1]!XLSTAT_PDFNormal(B34,0,1)","v":0},34,51,-3.8694376959999999,{"$f":"[1]!XLSTAT_PDFNormal(F34,0,1)","v":0},34,null,-3.4709418847000002,{"$f":"[1]!XLSTAT_PDFNormal(K34,0,1)","v":9.6570001381369563E-4},34,null,10,2]
[35,51,2.0986864325000001,{"$f":"[1]!XLSTAT_PDFNormal(B35,0,1)","v":0},35,51,-3.8612775519999998,{"$f":"[1]!XLSTAT_PDFNormal(F35,0,1)","v":0},35,null,-3.4549098206000002,{"$f":"[1]!XLSTAT_PDFNormal(K35,0,1)","v":1.0208297852653894E-3},35,null,11,2]
[36,2.0986864325000001,2.0986864325000001,{"$f":"[1]!XLSTAT_PDFNormal(B36,0,1)","v":4.4105053811967561E-2},36,-3.8612775519999998,-3.8612775519999998,{"$f":"[1]!XLSTAT_PDFNormal(F36,0,1)","v":2.3086655462013623E-4},36,null,-3.4388777565000002,{"$f":"[1]!XLSTAT_PDFNormal(K36,0,1)","v":1.0788294747492344E-3},36,null,12,2]
[37,2.1068465765000002,2.1068465765000002,{"$f":"[1]!XLSTAT_PDFNormal(B37,0,1)","v":4.3354716480620788E-2},37,-3.8531174080000001,-3.8531174080000001,{"$f":"[1]!XLSTAT_PDFNormal(F37,0,1)","v":2.3824871400358286E-4},37,null,-3.4228456924000001,{"$f":"[1]!XLSTAT_PDFNormal(K37,0,1)","v":1.1398314821303142E-3},37,null,13,2]
[38,51,2.1068465765000002,{"$f":"[1]!XLSTAT_PDFNormal(B38,0,1)","v":0},38,51,-3.8531174080000001,{"$f":"[1]!XLSTAT_PDFNormal(F38,0,1)","v":0},38,null,-3.4068136283000001,{"$f":"[1]!XLSTAT_PDFNormal(K38,0,1)","v":1.2039733315816123E-3},38,null,14,2]
[39,51,2.1150067205000003,{"$f":"[1]!XLSTAT_PDFNormal(B39,0,1)","v":0},39,51,-3.844957264,{"$f":"[1]!XLSTAT_PDFNormal(F39,0,1)","v":0},39,null,-3.3907815642000001,{"$f":"[1]!XLSTAT_PDFNormal(K39,0,1)","v":1.2713978159884045E-3},39,null,15,2]
[40,2.1150067205000003,2.1150067205000003,{"$f":"[1]!XLSTAT_PDFNormal(B40,0,1)","v":4.2614306571085551E-2},40,-3.844957264,-3.844957264,{"$f":"[1]!XLSTAT_PDFNormal(F40,0,1)","v":2.4585055314061972E-4},40,null,-3.3747495001000001,{"$f":"[1]!XLSTAT_PDFNormal(K40,0,1)","v":1.342253142538871E-3},40,null,16,2]
[41,2.1231668644999999,2.1231668644999999,{"$f":"[1]!XLSTAT_PDFNormal(B41,0,1)","v":4.1883752302813652E-2},41,-3.8367971199999999,-3.8367971199999999,{"$f":"[1]!XLSTAT_PDFNormal(F41,0,1)","v":2.5367805288900765E-4},41,null,-3.3587174360000001,{"$f":"[1]!XLSTAT_PDFNormal(K41,0,1)","v":1.4166930793369443E-3},41,null,17,2]
[42,51,2.1231668644999999,{"$f":"[1]!XLSTAT_PDFNormal(B42,0,1)","v":0},42,51,-3.8367971199999999,{"$f":"[1]!XLSTAT_PDFNormal(F42,0,1)","v":0},42,null,-3.3426853719,{"$f":"[1]!XLSTAT_PDFNormal(K42,0,1)","v":1.4948771028623358E-3},42,null,18,2]
[43,51,2.1313270085,{"$f":"[1]!XLSTAT_PDFNormal(B43,0,1)","v":0},43,51,-3.8286369759999999,{"$f":"[1]!XLSTAT_PDFNormal(F43,0,1)","v":0},43,null,-3.3266533078,{"$f":"[1]!XLSTAT_PDFNormal(K43,0,1)","v":1.5769705460913076E-3},43,null,19,2]
[44,2.1313270085,2.1313270085,{"$f":"[1]!XLSTAT_PDFNormal(B44,0,1)","v":4.1162981171617423E-2},44,-3.8286369759999999,-3.8286369759999999,{"$f":"[1]!XLSTAT_PDFNormal(F44,0,1)","v":2.6173733893829665E-4},44,null,-3.3106212437,{"$f":"[1]!XLSTAT_PDFNormal(K44,0,1)","v":1.6631447470802105E-3},44,null,20,2]
[45,2.1394871525000001,2.1394871525000001,{"$f":"[1]!XLSTAT_PDFNormal(B45,0,1)","v":4.0451919981219928E-2},45,-3.8204768320000002,-3.8204768320000002,{"$f":"[1]!XLSTAT_PDFNormal(F45,0,1)","v":2.7003468476359668E-4},45,null,-3.2945891796,{"$f":"[1]!XLSTAT_PDFNormal(K45,0,1)","v":1.7535771978019724E-3},45,null,21,2]
[46,51,2.1394871525000001,{"$f":"[1]!XLSTAT_PDFNormal(B46,0,1)","v":0},46,51,-3.8204768320000002,{"$f":"[1]!XLSTAT_PDFNormal(F46,0,1)","v":0},46,null,-3.2785571155,{"$f":"[1]!XLSTAT_PDFNormal(K46,0,1)","v":1.8484516930137277E-3},46,null,22,2]
[47,51,2.1476472965000002,{"$f":"[1]!XLSTAT_PDFNormal(B47,0,1)","v":0},47,51,-3.8123166880000001,{"$f":"[1]!XLSTAT_PDFNormal(F47,0,1)","v":0},47,null,-3.2625250513999999,{"$f":"[1]!XLSTAT_PDFNormal(K47,0,1)","v":1.9479584789215388E-3},47,null,23,2]
[48,2.1476472965000002,2.1476472965000002,{"$f":"[1]!XLSTAT_PDFNormal(B48,0,1)","v":3.9750494874491421E-2},48,-3.8123166880000001,-3.8123166880000001,{"$f":"[1]!XLSTAT_PDFNormal(F48,0,1)","v":2.7857651462331206E-4},48,null,-3.2464929872999999,{"$f":"[1]!XLSTAT_PDFNormal(K48,0,1)","v":2.0522944013958325E-3},48,null,24,2]
[49,2.1558074405000003,2.1558074405000003,{"$f":"[1]!XLSTAT_PDFNormal(B49,0,1)","v":3.9058631364365541E-2},49,-3.804156544,-3.804156544,{"$f":"[1]!XLSTAT_PDFNormal(F49,0,1)","v":2.8736940660101164E-4},49,null,-3.2304609231999999,{"$f":"[1]!XLSTAT_PDFNormal(K49,0,1)","v":2.1616630534785895E-3},49,null,1,3]
[50,51,2.1558074405000003,{"$f":"[1]!XLSTAT_PDFNormal(B50,0,1)","v":0},50,51,-3.804156544,{"$f":"[1]!XLSTAT_PDFNormal(F50,0,1)","v":0},50,null,-3.2144288590999999,{"$f":"[1]!XLSTAT_PDFNormal(K50,0,1)","v":2.2762749219106711E-3},50,null,2,3]
[51,51,2.1639675844999999,{"$f":"[1]!XLSTAT_PDFNormal(B51,0,1)","v":0},51,51,-3.7959963999999999,{"$f":"[1]!XLSTAT_PDFNormal(F51,0,1)","v":0},51,null,-3.1983967949999998,{"$f":"[1]!XLSTAT_PDFNormal(K51,0,1)","v":2.3963475323949502E-3},51,null,3,3]
[52,2.1639675844999999,2.1639675844999999,{"$f":"[1]!XLSTAT_PDFNormal(B52,0,1)","v":3.8376254364428188E-2},52,-3.7959963999999999,-3.7959963999999999,{"$f":"[1]!XLSTAT_PDFNormal(F52,0,1)","v":2.9642009569161006E-4},52,null,-3.1823647308999998,{"$f":"[1]!XLSTAT_PDFNormal(K52,0,1)","v":2.5221055932979556E-3},52,null,4,3]
[53,2.1721277285,2.1721277285,{"$f":"[1]!XLSTAT_PDFNormal(B53,0,1)","v":3.7703288219172883E-2},53,-3.7878362559999998,-3.7878362559999998,{"$f":"[1]!XLSTAT_PDFNormal(F53,0,1)","v":3.0573547693199895E-4},53,null,-3.1663326667999998,{"$f":"[1]!XLSTAT_PDFNormal(K53,0,1)","v":2.6537811374799233E-3},53,null,5,3]
[54,51,2.1721277285,{"$f":"[1]!XLSTAT_PDFNormal(B54,0,1)","v":0},54,51,-3.7878362559999998,{"$f":"[1]!XLSTAT_PDFNormal(F54,0,1)","v":0},54,null,-3.1503006026999998,{"$f":"[1]!XLSTAT_PDFNormal(K54,0,1)","v":2.7916136619301314E-3},54,null,6,3]
[55,51,2.1802878725000001,{"$f":"[1]!XLSTAT_PDFNormal(B55,0,1)","v":0},55,51,-3.7796761120000002,{"$f":"[1]!XLSTAT_PDFNormal(F55,0,1)","v":0},55,null,-3.1342685385999998,{"$f":"[1]!XLSTAT_PDFNormal(K55,0,1)","v":2.9358502648715069E-3},55,null,7,3]
[56,2.1802878725000001,2.1802878725000001,{"$f":"[1]!XLSTAT_PDFNormal(B56,0,1)","v":3.703965673391648E-2},56,-3.7796761120000002,-3.7796761120000002,{"$f":"[1]!XLSTAT_PDFNormal(F56,0,1)","v":3.1532260857626722E-4},56,null,-3.1182364744999997,{"$f":"[1]!XLSTAT_PDFNormal(K56,0,1)","v":3.0867457799855095E-3},56,null,8,3]
[57,2.1884480165000002,2.1884480165000002,{"$f":"[1]!XLSTAT_PDFNormal(B57,0,1)","v":3.6385283204369012E-2},57,-3.7715159680000001,-3.7715159680000001,{"$f":"[1]!XLSTAT_PDFNormal(F57,0,1)","v":3.2518871531562581E-4},57,null,-3.1022044103999997,{"$f":"[1]!XLSTAT_PDFNormal(K57,0,1)","v":3.2445629073955076E-3},57,null,9,3]
[58,51,2.1884480165000002,{"$f":"[1]!XLSTAT_PDFNormal(B58,0,1)","v":0},58,51,-3.7715159680000001,{"$f":"[1]!XLSTAT_PDFNormal(F58,0,1)","v":0},58,null,-3.0861723463000001,{"$f":"[1]!XLSTAT_PDFNormal(K58,0,1)","v":3.4095723410340565E-3},58,null,10,3]
[59,51,2.1966081605000003,{"$f":"[1]!XLSTAT_PDFNormal(B59,0,1)","v":0},59,51,-3.763355824,{"$f":"[1]!XLSTAT_PDFNormal(F59,0,1)","v":0},59,null,-3.0701402822000001,{"$f":"[1]!XLSTAT_PDFNormal(K59,0,1)","v":3.5820528920069072E-3},59,null,11,3]
[60,2.1966081605000003,2.1966081605000003,{"$f":"[1]!XLSTAT_PDFNormal(B60,0,1)","v":3.5740090445852267E-2},60,-3.763355824,-3.763355824,{"$f":"[1]!XLSTAT_PDFNormal(F60,0,1)","v":3.3534119154313027E-4},60,null,-3.0541082181000001,{"$f":"[1]!XLSTAT_PDFNormal(K60,0,1)","v":3.7622916075540085E-3},60,null,12,3]
[61,2.2047683044999999,2.2047683044999999,{"$f":"[1]!XLSTAT_PDFNormal(B61,0,1)","v":3.5104000822161752E-2},61,-3.7551956799999999,-3.7551956799999999,{"$f":"[1]!XLSTAT_PDFNormal(F61,0,1)","v":3.4578760466328799E-4},61,null,-3.0380761540000001,{"$f":"[1]!XLSTAT_PDFNormal(K61,0,1)","v":3.9505838851956561E-3},61,null,13,3]
[62,51,2.2047683044999999,{"$f":"[1]!XLSTAT_PDFNormal(B62,0,1)","v":0},62,51,-3.7551956799999999,{"$f":"[1]!XLSTAT_PDFNormal(F62,0,1)","v":0},62,null,-3.0220440899000001,{"$f":"[1]!XLSTAT_PDFNormal(K62,0,1)","v":4.1472335816398198E-3},62,null,14,3]
[63,51,2.2129284485,{"$f":"[1]!XLSTAT_PDFNormal(B63,0,1)","v":0},63,51,-3.7470355359999998,{"$f":"[1]!XLSTAT_PDFNormal(F63,0,1)","v":0},63,null,-3.0060120258,{"$f":"[1]!XLSTAT_PDFNormal(K63,0,1)","v":4.3525531160149662E-3},63,null,15,3]
[64,2.2129284485,2.2129284485,{"$f":"[1]!XLSTAT_PDFNormal(B64,0,1)","v":3.4476936274066547E-2},64,-3.7470355359999998,-3.7470355359999998,{"$f":"[1]!XLSTAT_PDFNormal(F64,0,1)","v":3.5653569844660752E-4},64,null,-2.9899799617,{"$f":"[1]!XLSTAT_PDFNormal(K64,0,1)","v":4.5668635669813638E-3},64,null,16,3]
[65,{"$f":"IF(-1^(INT(A65/2)+2)>0,1.9599639845+2*INT(A65/2-1/2)*0.004080072,51)","v":2.2210885925000001},{"$f":"1.9599639845+2*INT(A65/2-1/2)*0.004080072","v":2.2210885925000001},{"$f":"[1]!XLSTAT_PDFNormal(B65,0,1)","v":3.3858818347442879E-2},65,{"$f":"IF(-1^(INT(E65/2)+2)>0,-4+2*INT(E65/2-1/2)*0.004080072,51)","v":-3.7388753920000002},{"$f":"-4+2*INT(E65/2-1/2)*0.004080072","v":-3.7388753920000002},{"$f":"[1]!XLSTAT_PDFNormal(F65,0,1)","v":3.6759339642913246E-4},65,null,{"$f":"-4+(I65-1)*0.0160320641","v":-2.9739478976},{"$f":"[1]!XLSTAT_PDFNormal(K65,0,1)","v":4.7904947632627258E-3},65,null,{"$f":"M65-24*INT((-1/2+M65)/24)","v":17},{"$f":"1+INT((M65-1/2)/24)","v":3}]
[66,51,2.2210885925000001,{"$f":"[1]!XLSTAT_PDFNormal(B66,0,1)","v":0},66,51,-3.7388753920000002,{"$f":"[1]!XLSTAT_PDFNormal(F66,0,1)","v":0},66,null,-2.9579158335,{"$f":"[1]!XLSTAT_PDFNormal(K66,0,1)","v":5.0237853671295258E-3},66,null,18,3]
[67,51,2.2292487365000002,{"$f":"[1]!XLSTAT_PDFNormal(B67,0,1)","v":0},67,51,-3.7307152480000001,{"$f":"[1]!XLSTAT_PDFNormal(F67,0,1)","v":0},67,null,-2.9418837694,{"$f":"[1]!XLSTAT_PDFNormal(K67,0,1)","v":5.2670829503551203E-3},67,null,19,3]
[68,2.2292487365000002,2.2292487365000002,{"$f":"[1]!XLSTAT_PDFNormal(B68,0,1)","v":3.3249568221035933E-2},68,-3.7307152480000001,-3.7307152480000001,{"$f":"[1]!XLSTAT_PDFNormal(F68,0,1)","v":3.7896880535698692E-4},68,null,-2.9258517052999999,{"$f":"[1]!XLSTAT_PDFNormal(K68,0,1)","v":5.52074406215621E-3},68,null,20,3]
[69,2.2374088805000003,2.2374088805000003,{"$f":"[1]!XLSTAT_PDFNormal(B69,0,1)","v":3.2649106733846307E-2},69,-3.722555104,-3.722555104,{"$f":"[1]!XLSTAT_PDFNormal(F69,0,1)","v":3.9067021867592191E-4},69,null,-2.9098196411999999,{"$f":"[1]!XLSTAT_PDFNormal(K69,0,1)","v":5.785134288620008E-3},69,null,21,3]
[70,51,2.2374088805000003,{"$f":"[1]!XLSTAT_PDFNormal(B70,0,1)","v":0},70,51,-3.722555104,{"$f":"[1]!XLSTAT_PDFNormal(F70,0,1)","v":0},70,null,-2.8937875770999999,{"$f":"[1]!XLSTAT_PDFNormal(K70,0,1)","v":6.0606283031121129E-3},70,null,22,3]
[71,51,2.2455690245,{"$f":"[1]!XLSTAT_PDFNormal(B71,0,1)","v":0},71,51,-3.7143949599999999,{"$f":"[1]!XLSTAT_PDFNormal(F71,0,1)","v":0},71,null,-2.8777555130000003,{"$f":"[1]!XLSTAT_PDFNormal(K71,0,1)","v":6.3476099071511725E-3},71,null,23,3]
[72,2.2455690245,2.2455690245,{"$f":"[1]!XLSTAT_PDFNormal(B72,0,1)","v":3.2057354412136509E-2},72,-3.7143949599999999,-3.7143949599999999,{"$f":"[1]!XLSTAT_PDFNormal(F72,0,1)","v":4.0270612006585837E-4},72,null,-2.8617234489000003,{"$f":"[1]!XLSTAT_PDFNormal(K72,0,1)","v":6.6464720612293875E-3},72,null,24,3]
[73,2.2537291685,2.2537291685,{"$f":"[1]!XLSTAT_PDFNormal(B73,0,1)","v":3.1474231496053731E-2},73,-3.7062348160000003,-3.7062348160000003,{"$f":"[1]!XLSTAT_PDFNormal(F73,0,1)","v":4.1508518702037514E-4},73,null,-2.8456913848000003,{"$f":"[1]!XLSTAT_PDFNormal(K73,0,1)","v":6.9576169050513618E-3},73,null,1,4]
[74,51,2.2537291685,{"$f":"[1]!XLSTAT_PDFNormal(B74,0,1)","v":0},74,51,-3.7062348160000003,{"$f":"[1]!XLSTAT_PDFNormal(F74,0,1)","v":0},74,null,-2.8296593207000003,{"$f":"[1]!XLSTAT_PDFNormal(K74,0,1)","v":7.2814557666585388E-3},74,null,2,4]
[75,51,2.2618893125000001,{"$f":"[1]!XLSTAT_PDFNormal(B75,0,1)","v":0},75,51,-3.6980746720000002,{"$f":"[1]!XLSTAT_PDFNormal(F75,0,1)","v":0},75,null,-2.8136272566000002,{"$f":"[1]!XLSTAT_PDFNormal(K75,0,1)","v":7.6184091599014658E-3},75,null,3,4]
[76,2.2618893125000001,2.2618893125000001,{"$f":"[1]!XLSTAT_PDFNormal(B76,0,1)","v":3.0899657965865714E-2},76,-3.6980746720000002,-3.6980746720000002,{"$f":"[1]!XLSTAT_PDFNormal(F76,0,1)","v":4.2781629447108106E-4},76,null,-2.7975951925000002,{"$f":"[1]!XLSTAT_PDFNormal(K76,0,1)","v":7.9689067697185523E-3},76,null,4,4]
[77,2.2700494565000002,2.2700494565000002,{"$f":"[1]!XLSTAT_PDFNormal(B77,0,1)","v":3.0333553567805614E-2},77,-3.6899145280000001,-3.6899145280000001,{"$f":"[1]!XLSTAT_PDFNormal(F77,0,1)","v":4.409085184567806E-4},77,null,-2.7815631284000002,{"$f":"[1]!XLSTAT_PDFNormal(K77,0,1)","v":8.3333874246770134E-3},77,null,5,4]
[78,51,2.2700494565000002,{"$f":"[1]!XLSTAT_PDFNormal(B78,0,1)","v":0},78,51,-3.6899145280000001,{"$f":"[1]!XLSTAT_PDFNormal(F78,0,1)","v":0},78,null,-2.7655310643000002,{"$f":"[1]!XLSTAT_PDFNormal(K78,0,1)","v":8.7122990562299718E-3},78,null,6,4]
[79,51,2.2782096004999999,{"$f":"[1]!XLSTAT_PDFNormal(B79,0,1)","v":0},79,51,-3.681754384,{"$f":"[1]!XLSTAT_PDFNormal(F79,0,1)","v":0},79,null,-2.7494990002000002,{"$f":"[1]!XLSTAT_PDFNormal(K79,0,1)","v":9.1060986441428952E-3},79,null,7,4]
[80,2.2782096004999999,2.2782096004999999,{"$f":"[1]!XLSTAT_PDFNormal(B80,0,1)","v":2.9775837839523301E-2},80,-3.681754384,-3.681754384,{"$f":"[1]!XLSTAT_PDFNormal(F80,0,1)","v":4.5437113983732923E-4},80,null,-2.7334669361000001,{"$f":"[1]!XLSTAT_PDFNormal(K80,0,1)","v":9.5152521475429068E-3},80,null,8,4]
[81,2.2863697445,2.2863697445,{"$f":"[1]!XLSTAT_PDFNormal(B81,0,1)","v":2.9226430135139928E-2},81,-3.6735942399999999,-3.6735942399999999,{"$f":"[1]!XLSTAT_PDFNormal(F81,0,1)","v":4.6821364805203211E-4},81,null,-2.7174348720000001,{"$f":"[1]!XLSTAT_PDFNormal(K81,0,1)","v":9.9402344210460444E-3},81,null,9,4]
[82,51,2.2863697445,{"$f":"[1]!XLSTAT_PDFNormal(B82,0,1)","v":0},82,51,-3.6735942399999999,{"$f":"[1]!XLSTAT_PDFNormal(F82,0,1)","v":0},82,null,-2.7014028079000001,{"$f":"[1]!XLSTAT_PDFNormal(K82,0,1)","v":1.0381529115420294E-2},82,null,10,4]
[83,51,2.2945298885000001,{"$f":"[1]!XLSTAT_PDFNormal(B83,0,1)","v":0},83,51,-3.6654340960000003,{"$f":"[1]!XLSTAT_PDFNormal(F83,0,1)","v":0},83,null,-2.6853707438000001,{"$f":"[1]!XLSTAT_PDFNormal(K83,0,1)","v":1.0839628562246191E-2},83,null,11,4]
[84,2.2945298885000001,2.2945298885000001,{"$f":"[1]!XLSTAT_PDFNormal(B84,0,1)","v":2.8685249649903381E-2},84,-3.6654340960000003,-3.6654340960000003,{"$f":"[1]!XLSTAT_PDFNormal(F84,0,1)","v":4.8244574492243539E-4},84,null,-2.6693386797,{"$f":"[1]!XLSTAT_PDFNormal(K84,0,1)","v":1.1315033642042166E-2},84,null,12,4]
[85,2.3026900325000002,2.3026900325000002,{"$f":"[1]!XLSTAT_PDFNormal(B85,0,1)","v":2.8152215444441863E-2},85,-3.6572739520000002,-3.6572739520000002,{"$f":"[1]!XLSTAT_PDFNormal(F85,0,1)","v":4.9707734849931866E-4},85,null,-2.6533066156,{"$f":"[1]!XLSTAT_PDFNormal(K85,0,1)","v":1.1808253635328423E-2},85,null,13,4]
[86,51,2.3026900325000002,{"$f":"[1]!XLSTAT_PDFNormal(B86,0,1)","v":0},86,51,-3.6572739520000002,{"$f":"[1]!XLSTAT_PDFNormal(F86,0,1)","v":0},86,null,-2.6372745515,{"$f":"[1]!XLSTAT_PDFNormal(K86,0,1)","v":1.2319806056111243E-2},86,null,14,4]
[87,51,2.3108501765000002,{"$f":"[1]!XLSTAT_PDFNormal(B87,0,1)","v":0},87,51,-3.6491138080000001,{"$f":"[1]!XLSTAT_PDFNormal(F87,0,1)","v":0},87,null,-2.6212424874,{"$f":"[1]!XLSTAT_PDFNormal(K87,0,1)","v":1.2850216467279095E-2},87,null,15,4]
[88,2.3108501765000002,2.3108501765000002,{"$f":"[1]!XLSTAT_PDFNormal(B88,0,1)","v":2.76272464686136E-2},88,-3.6491138080000001,-3.6491138080000001,{"$f":"[1]!XLSTAT_PDFNormal(F88,0,1)","v":5.121185969536677E-4},88,null,-2.6052104233,{"$f":"[1]!XLSTAT_PDFNormal(K88,0,1)","v":1.3400018277413023E-2},88,null,16,4]
[89,2.3190103204999999,2.3190103204999999,{"$f":"[1]!XLSTAT_PDFNormal(B89,0,1)","v":2.7110261584950782E-2},89,-3.640953664,-3.640953664,{"$f":"[1]!XLSTAT_PDFNormal(F89,0,1)","v":5.275798525114034E-4},89,null,-2.5891783591999999,{"$f":"[1]!XLSTAT_PDFNormal(K89,0,1)","v":1.3969752518526194E-2},89,null,17,4]
[90,51,2.3190103204999999,{"$f":"[1]!XLSTAT_PDFNormal(B90,0,1)","v":0},90,51,-3.640953664,{"$f":"[1]!XLSTAT_PDFNormal(F90,0,1)","v":0},90,null,-2.5731462950999999,{"$f":"[1]!XLSTAT_PDFNormal(K90,0,1)","v":1.455996760426167E-2},90,null,18,4]
[91,51,2.3271704645,{"$f":"[1]!XLSTAT_PDFNormal(B91,0,1)","v":0},91,51,-3.6327935199999999,{"$f":"[1]!XLSTAT_PDFNormal(F91,0,1)","v":0},91,null,-2.5571142309999999,{"$f":"[1]!XLSTAT_PDFNormal(K91,0,1)","v":1.5171219068093119E-2},91,null,19,4]
[92,2.3271704645,2.3271704645,{"$f":"[1]!XLSTAT_PDFNormal(B92,0,1)","v":2.6601179591695782E-2},92,-3.6327935199999999,-3.6327935199999999,{"$f":"[1]!XLSTAT_PDFNormal(F92,0,1)","v":5.4347170543158165E-4},92,null,-2.5410821668999999,{"$f":"[1]!XLSTAT_PDFNormal(K92,0,1)","v":1.5804069281090481E-2},92,null,20,4]
[93,2.3353306085000001,2.3353306085000001,{"$f":"[1]!XLSTAT_PDFNormal(B93,0,1)","v":2.6099919245428455E-2},93,-3.6246333760000002,-3.6246333760000002,{"$f":"[1]!XLSTAT_PDFNormal(F93,0,1)","v":5.5980497802777358E-4},93,null,-2.5250501027999999,{"$f":"[1]!XLSTAT_PDFNormal(K93,0,1)","v":1.6459087148831628E-2},93,null,21,4]
[94,51,2.3353306085000001,{"$f":"[1]!XLSTAT_PDFNormal(B94,0,1)","v":0},94,51,-3.6246333760000002,{"$f":"[1]!XLSTAT_PDFNormal(F94,0,1)","v":0},94,null,-2.5090180386999998,{"$f":"[1]!XLSTAT_PDFNormal(K94,0,1)","v":1.7136847787061604E-2},94,null,22,4]
[95,51,2.3434907525000002,{"$f":"[1]!XLSTAT_PDFNormal(B95,0,1)","v":0},95,51,-3.6164732320000001,{"$f":"[1]!XLSTAT_PDFNormal(F95,0,1)","v":0},95,null,-2.4929859745999998,{"$f":"[1]!XLSTAT_PDFNormal(K95,0,1)","v":1.7837932175723541E-2},95,null,23,4]
[96,2.3434907525000002,2.3434907525000002,{"$f":"[1]!XLSTAT_PDFNormal(B96,0,1)","v":2.5606399283282805E-2},96,-3.6164732320000001,-3.6164732320000001,{"$f":"[1]!XLSTAT_PDFNormal(F96,0,1)","v":5.7659072873230408E-4},96,null,-2.4769539104999998,{"$f":"[1]!XLSTAT_PDFNormal(K96,0,1)","v":1.856292679100921E-2},96,null,24,4]
[97,2.3516508964999998,2.3516508964999998,{"$f":"[1]!XLSTAT_PDFNormal(B97,0,1)","v":2.5120538444752413E-2},97,-3.6083130880000001,-3.6083130880000001,{"$f":"[1]!XLSTAT_PDFNormal(F97,0,1)","v":5.9384025620297755E-4},97,null,-2.4609218463999998,{"$f":"[1]!XLSTAT_PDFNormal(K97,0,1)","v":1.9312423215103174E-2},97,null,1,5]
[98,51,2.3516508964999998,{"$f":"[1]!XLSTAT_PDFNormal(B98,0,1)","v":0},98,51,-3.6083130880000001,{"$f":"[1]!XLSTAT_PDFNormal(F98,0,1)","v":0},98,null,-2.4448897822999998,{"$f":"[1]!XLSTAT_PDFNormal(K98,0,1)","v":2.0087017723321981E-2},98,null,2,5]
[99,51,2.3598110404999999,{"$f":"[1]!XLSTAT_PDFNormal(B99,0,1)","v":0},99,51,-3.600152944,{"$f":"[1]!XLSTAT_PDFNormal(F99,0,1)","v":0},99,null,-2.4288577181999997,{"$f":"[1]!XLSTAT_PDFNormal(K99,0,1)","v":2.0887310848379071E-2},99,null,3,5]
[100,2.3598110404999999,2.3598110404999999,{"$f":"[1]!XLSTAT_PDFNormal(B100,0,1)","v":2.4642255493083152E-2},100,-3.600152944,-3.600152944,{"$f":"[1]!XLSTAT_PDFNormal(F100,0,1)","v":6.1156510347191463E-4},100,null,-2.4128256540999997,{"$f":"[1]!XLSTAT_PDFNormal(K100,0,1)","v":2.1713906921537268E-2},100,null,4,5]
[101,2.3679711845,2.3679711845,{"$f":"[1]!XLSTAT_PDFNormal(B101,0,1)","v":2.4171469236253264E-2},101,-3.5919927999999999,-3.5919927999999999,{"$f":"[1]!XLSTAT_PDFNormal(F101,0,1)","v":6.2977706213608261E-4},101,null,-2.3967935899999997,{"$f":"[1]!XLSTAT_PDFNormal(K101,0,1)","v":2.2567413590443459E-2},101,null,5,5]
[102,51,2.3679711845,{"$f":"[1]!XLSTAT_PDFNormal(B102,0,1)","v":0},102,51,-3.5919927999999999,{"$f":"[1]!XLSTAT_PDFNormal(F102,0,1)","v":0},102,null,-2.3807615258999997,{"$f":"[1]!XLSTAT_PDFNormal(K102,0,1)","v":2.3448441313474691E-2},102,null,6,5]
[103,51,2.3761313285000001,{"$f":"[1]!XLSTAT_PDFNormal(B103,0,1)","v":0},103,51,-3.5838326560000002,{"$f":"[1]!XLSTAT_PDFNormal(F103,0,1)","v":0},103,null,-2.3647294618000001,{"$f":"[1]!XLSTAT_PDFNormal(K103,0,1)","v":2.4357602830461043E-2},103,null,7,5]
[104,2.3761313285000001,2.3761313285000001,{"$f":"[1]!XLSTAT_PDFNormal(B104,0,1)","v":2.370809854753967E-2},104,-3.5838326560000002,-3.5838326560000002,{"$f":"[1]!XLSTAT_PDFNormal(F104,0,1)","v":6.484881765890495E-4},104,null,-2.3486973977000001,{"$f":"[1]!XLSTAT_PDFNormal(K104,0,1)","v":2.5295512609689128E-2},104,null,8,5]
[105,2.3842914725000002,2.3842914725000002,{"$f":"[1]!XLSTAT_PDFNormal(B105,0,1)","v":2.3252062385670562E-2},105,-3.5756725120000001,-3.5756725120000001,{"$f":"[1]!XLSTAT_PDFNormal(F105,0,1)","v":6.6771074829350297E-4},105,null,-2.3326653336000001,{"$f":"[1]!XLSTAT_PDFNormal(K105,0,1)","v":2.6262786271128762E-2},105,null,9,5]
[106,51,2.3842914725000002,{"$f":"[1]!XLSTAT_PDFNormal(B106,0,1)","v":0},106,51,-3.5756725120000001,{"$f":"[1]!XLSTAT_PDFNormal(F106,0,1)","v":0},106,null,-2.3166332695,{"$f":"[1]!XLSTAT_PDFNormal(K106,0,1)","v":2.7260039985868224E-2},106,null,10,5]
[107,51,2.3924516164999998,{"$f":"[1]!XLSTAT_PDFNormal(B107,0,1)","v":0},107,51,-3.567512368,{"$f":"[1]!XLSTAT_PDFNormal(F107,0,1)","v":0},107,null,-2.3006012054,{"$f":"[1]!XLSTAT_PDFNormal(K107,0,1)","v":2.8287889851785212E-2},107,null,11,5]
[108,2.3924516164999998,2.3924516164999998,{"$f":"[1]!XLSTAT_PDFNormal(B108,0,1)","v":2.2803279814564238E-2},108,-3.567512368,-3.567512368,{"$f":"[1]!XLSTAT_PDFNormal(F108,0,1)","v":6.874573400939886E-4},108,null,-2.2845691413,{"$f":"[1]!XLSTAT_PDFNormal(K108,0,1)","v":2.9346951245525731E-2},108,null,12,5]
[109,2.4006117604999999,2.4006117604999999,{"$f":"[1]!XLSTAT_PDFNormal(B109,0,1)","v":2.2361670022654073E-2},109,-3.559352224,-3.559352224,{"$f":"[1]!XLSTAT_PDFNormal(F109,0,1)","v":7.0774078056933779E-4},109,null,-2.2685370772,{"$f":"[1]!XLSTAT_PDFNormal(K109,0,1)","v":3.0437838150909606E-2},109,null,13,5]
[110,51,2.4006117604999999,{"$f":"[1]!XLSTAT_PDFNormal(B110,0,1)","v":0},110,51,-3.559352224,{"$f":"[1]!XLSTAT_PDFNormal(F110,0,1)","v":0},110,null,-2.2525050131,{"$f":"[1]!XLSTAT_PDFNormal(K110,0,1)","v":3.1561162463928503E-2},110,null,14,5]
[111,51,2.4087719045,{"$f":"[1]!XLSTAT_PDFNormal(B111,0,1)","v":0},111,51,-3.5511920799999999,{"$f":"[1]!XLSTAT_PDFNormal(F111,0,1)","v":0},111,null,-2.2364729489999999,{"$f":"[1]!XLSTAT_PDFNormal(K111,0,1)","v":3.271753327455159E-2},111,null,15,5]
[112,2.4087719045,2.4087719045,{"$f":"[1]!XLSTAT_PDFNormal(B112,0,1)","v":2.1927152341800333E-2},112,-3.5511920799999999,-3.5511920799999999,{"$f":"[1]!XLSTAT_PDFNormal(F112,0,1)","v":7.2857416842417842E-4},112,null,-2.2204408848999999,{"$f":"[1]!XLSTAT_PDFNormal(K112,0,1)","v":3.3907556125604831E-2},112,null,16,5]
[113,2.4169320485000001,2.4169320485000001,{"$f":"[1]!XLSTAT_PDFNormal(B113,0,1)","v":2.1499646265788829E-2},113,-3.5430319360000002,-3.5430319360000002,{"$f":"[1]!XLSTAT_PDFNormal(F113,0,1)","v":7.499708769189181E-4},113,null,-2.2044088207999999,{"$f":"[1]!XLSTAT_PDFNormal(K113,0,1)","v":3.5131832249041262E-2},113,null,17,5]
[114,51,2.4169320485000001,{"$f":"[1]!XLSTAT_PDFNormal(B114,0,1)","v":0},114,51,-3.5430319360000002,{"$f":"[1]!XLSTAT_PDFNormal(F114,0,1)","v":0},114,null,-2.1883767567000003,{"$f":"[1]!XLSTAT_PDFNormal(K114,0,1)","v":3.6390957779972907E-2},114,null,18,5]
[115,51,2.4250921925000002,{"$f":"[1]!XLSTAT_PDFNormal(B115,0,1)","v":0},115,51,-3.5348717920000001,{"$f":"[1]!XLSTAT_PDFNormal(F115,0,1)","v":0},115,null,-2.1723446926000003,{"$f":"[1]!XLSTAT_PDFNormal(K115,0,1)","v":3.7685522948889459E-2},115,null,19,5]
[116,2.4250921925000002,2.4250921925000002,{"$f":"[1]!XLSTAT_PDFNormal(B116,0,1)","v":2.1079071468417494E-2},116,-3.5348717920000001,-3.5348717920000001,{"$f":"[1]!XLSTAT_PDFNormal(F116,0,1)","v":7.719445583375343E-4},116,null,-2.1563126285000003,{"$f":"[1]!XLSTAT_PDFNormal(K116,0,1)","v":3.9016111252543388E-2},116,null,20,5]
[117,2.4332523364999998,2.4332523364999998,{"$f":"[1]!XLSTAT_PDFNormal(B117,0,1)","v":2.0665347821171572E-2},117,-3.526711648,-3.526711648,{"$f":"[1]!XLSTAT_PDFNormal(F117,0,1)","v":7.945091484924617E-4},117,null,-2.1402805644000003,{"$f":"[1]!XLSTAT_PDFNormal(K117,0,1)","v":4.0383298604038893E-2},117,null,21,5]
[118,51,2.4332523364999998,{"$f":"[1]!XLSTAT_PDFNormal(B118,0,1)","v":0},118,51,-3.526711648,{"$f":"[1]!XLSTAT_PDFNormal(F118,0,1)","v":0},118,null,-2.1242485003000002,{"$f":"[1]!XLSTAT_PDFNormal(K118,0,1)","v":4.1787652462717692E-2},118,null,22,5]
[119,51,2.4414124804999999,{"$f":"[1]!XLSTAT_PDFNormal(B119,0,1)","v":0},119,51,-3.5185515039999999,{"$f":"[1]!XLSTAT_PDFNormal(F119,0,1)","v":0},119,null,-2.1082164362000002,{"$f":"[1]!XLSTAT_PDFNormal(K119,0,1)","v":4.3229730944493845E-2},119,null,23,5]
[120,2.4414124804999999,2.4414124804999999,{"$f":"[1]!XLSTAT_PDFNormal(B120,0,1)","v":2.0258395410488371E-2},120,-3.5185515039999999,-3.5185515039999999,{"$f":"[1]!XLSTAT_PDFNormal(F120,0,1)","v":8.176788712658628E-4},120,null,-2.0921843721000002,{"$f":"[1]!XLSTAT_PDFNormal(K120,0,1)","v":4.4710081913348271E-2},120,null,24,5]
[121,2.4495726245,2.4495726245,{"$f":"[1]!XLSTAT_PDFNormal(B121,0,1)","v":1.9858134554613029E-2},121,-3.5103913599999998,-3.5103913599999998,{"$f":"[1]!XLSTAT_PDFNormal(F121,0,1)","v":8.4146824318649075E-4},121,null,-2.0761523080000002,{"$f":"[1]!XLSTAT_PDFNormal(K121,0,1)","v":4.622924205475204E-2},121,null,1,6]
[122,51,2.4495726245,{"$f":"[1]!XLSTAT_PDFNormal(B122,0,1)","v":0},122,51,-3.5103913599999998,{"$f":"[1]!XLSTAT_PDFNormal(F122,0,1)","v":0},122,null,-2.0601202439000001,{"$f":"[1]!XLSTAT_PDFNormal(K122,0,1)","v":4.7787735931848922E-2},122,null,2,6]
[123,51,2.4577327685000001,{"$f":"[1]!XLSTAT_PDFNormal(B123,0,1)","v":0},123,51,-3.5022312160000002,{"$f":"[1]!XLSTAT_PDFNormal(F123,0,1)","v":0},123,null,-2.0440881798000001,{"$f":"[1]!XLSTAT_PDFNormal(K123,0,1)","v":4.9386075025286011E-2},123,null,3,6]
[124,2.4577327685000001,2.4577327685000001,{"$f":"[1]!XLSTAT_PDFNormal(B124,0,1)","v":1.9464485820046361E-2},124,-3.5022312160000002,-3.5022312160000002,{"$f":"[1]!XLSTAT_PDFNormal(F124,0,1)","v":8.6589207804133104E-4},124,null,-2.0280561157000001,{"$f":"[1]!XLSTAT_PDFNormal(K124,0,1)","v":5.1024756757642432E-2},124,null,4,6]
[125,2.4658929125000002,2.4658929125000002,{"$f":"[1]!XLSTAT_PDFNormal(B125,0,1)","v":1.907737003758652E-2},125,-3.4940710720000001,-3.4940710720000001,{"$f":"[1]!XLSTAT_PDFNormal(F125,0,1)","v":8.9096549152117746E-4},125,null,-2.0120240516000001,{"$f":"[1]!XLSTAT_PDFNormal(K125,0,1)","v":5.2704263503466395E-2},125,null,5,6]
[126,51,2.4658929125000002,{"$f":"[1]!XLSTAT_PDFNormal(B126,0,1)","v":0},126,51,-3.4940710720000001,{"$f":"[1]!XLSTAT_PDFNormal(F126,0,1)","v":0},126,null,-1.9959919875000001,{"$f":"[1]!XLSTAT_PDFNormal(K126,0,1)","v":5.4425061585990787E-2},126,null,6,6]
[127,51,2.4740530564999998,{"$f":"[1]!XLSTAT_PDFNormal(B127,0,1)","v":0},127,51,-3.485910928,{"$f":"[1]!XLSTAT_PDFNormal(F127,0,1)","v":0},127,null,-1.9799599234,{"$f":"[1]!XLSTAT_PDFNormal(K127,0,1)","v":5.61876002616577E-2},127,null,7,6]
[128,2.4740530564999998,2.4740530564999998,{"$f":"[1]!XLSTAT_PDFNormal(B128,0,1)","v":1.8696708317966042E-2},128,-3.485910928,-3.485910928,{"$f":"[1]!XLSTAT_PDFNormal(F128,0,1)","v":9.1670390589922959E-4},128,null,-1.9639278593,{"$f":"[1]!XLSTAT_PDFNormal(K128,0,1)","v":5.7992310693641927E-2},128,null,8,6]
[129,{"$f":"IF(-1^(INT(A129/2)+2)>0,1.9599639845+2*INT(A129/2-1/2)*0.004080072,51)","v":2.4822132004999999},{"$f":"1.9599639845+2*INT(A129/2-1/2)*0.004080072","v":2.4822132004999999},{"$f":"[1]!XLSTAT_PDFNormal(B129,0,1)","v":1.8322422067086112E-2},129,{"$f":"IF(-1^(INT(E129/2)+2)>0,-4+2*INT(E129/2-1/2)*0.004080072,51)","v":-3.4777507839999999},{"$f":"-4+2*INT(E129/2-1/2)*0.004080072","v":-3.4777507839999999},{"$f":"[1]!XLSTAT_PDFNormal(F129,0,1)","v":9.4312305474178904E-4},129,null,{"$f":"-4+(I129-1)*0.0160320641","v":-1.9478957952},{"$f":"[1]!XLSTAT_PDFNormal(K129,0,1)","v":5.9839604915622416E-2},129,null,{"$f":"M129-24*INT((-1/2+M129)/24)","v":9},{"$f":"1+INT((M129-1/2)/24)","v":6}]
[130,51,2.4822132004999999,{"$f":"[1]!XLSTAT_PDFNormal(B130,0,1)","v":0},130,51,-3.4777507839999999,{"$f":"[1]!XLSTAT_PDFNormal(F130,0,1)","v":0},130,null,-1.9318637311,{"$f":"[1]!XLSTAT_PDFNormal(K130,0,1)","v":6.1729874787109403E-2},130,null,10,6]
[131,51,2.4903733445,{"$f":"[1]!XLSTAT_PDFNormal(B131,0,1)","v":0},131,51,-3.4695906399999998,{"$f":"[1]!XLSTAT_PDFNormal(F131,0,1)","v":0},131,null,-1.915831667,{"$f":"[1]!XLSTAT_PDFNormal(K131,0,1)","v":6.3663490941692172E-2},131,null,11,6]
[132,2.4903733445,2.4903733445,{"$f":"[1]!XLSTAT_PDFNormal(B132,0,1)","v":1.7954433000850215E-2},132,-3.4695906399999998,-3.4695906399999998,{"$f":"[1]!XLSTAT_PDFNormal(F132,0,1)","v":9.7023898765007414E-4},132,null,-1.8997996028999999,{"$f":"[1]!XLSTAT_PDFNormal(K132,0,1)","v":6.5640801729629328E-2},132,null,12,6]
[133,2.4985334885000001,2.4985334885000001,{"$f":"[1]!XLSTAT_PDFNormal(B133,0,1)","v":1.7592663159599009E-2},133,-3.4614304960000002,-3.4614304960000002,{"$f":"[1]!XLSTAT_PDFNormal(F133,0,1)","v":9.9806807503211937E-4},133,null,-1.8837675387999999,{"$f":"[1]!XLSTAT_PDFNormal(K133,0,1)","v":6.7662132156258784E-2},133,null,13,6]
[134,51,2.4985334885000001,{"$f":"[1]!XLSTAT_PDFNormal(B134,0,1)","v":0},134,51,-3.4614304960000002,{"$f":"[1]!XLSTAT_PDFNormal(F134,0,1)","v":0},134,null,-1.8677354746999999,{"$f":"[1]!XLSTAT_PDFNormal(K134,0,1)","v":6.9727782817758321E-2},134,null,14,6]
[135,51,2.5066936325000002,{"$f":"[1]!XLSTAT_PDFNormal(B135,0,1)","v":0},135,51,-3.4532703520000001,{"$f":"[1]!XLSTAT_PDFNormal(F135,0,1)","v":0},135,null,-1.8517034105999999,{"$f":"[1]!XLSTAT_PDFNormal(K135,0,1)","v":7.1838028835841269E-2},135,null,15,6]
[136,2.5066936325000002,2.5066936325000002,{"$f":"[1]!XLSTAT_PDFNormal(B136,0,1)","v":1.723703492214889E-2},136,-3.4532703520000001,-3.4532703520000001,{"$f":"[1]!XLSTAT_PDFNormal(F136,0,1)","v":1.0266270129037042E-3},136,null,-1.8356713464999999,{"$f":"[1]!XLSTAT_PDFNormal(K136,0,1)","v":7.3993118793021354E-2},136,null,16,6]
[137,2.5148537764999999,2.5148537764999999,{"$f":"[1]!XLSTAT_PDFNormal(B137,0,1)","v":1.6887471019436634E-2},137,-3.445110208,-3.445110208,{"$f":"[1]!XLSTAT_PDFNormal(F137,0,1)","v":1.0559328277171896E-3},137,null,-1.8196392823999998,{"$f":"[1]!XLSTAT_PDFNormal(K137,0,1)","v":7.6193273670131137E-2},137,null,17,6]
[138,51,2.5148537764999999,{"$f":"[1]!XLSTAT_PDFNormal(B138,0,1)","v":0},138,51,-3.445110208,{"$f":"[1]!XLSTAT_PDFNormal(F138,0,1)","v":0},138,null,-1.8036072182999998,{"$f":"[1]!XLSTAT_PDFNormal(K138,0,1)","v":7.8438685787824564E-2},138,null,18,6]
[139,51,2.5230139205,{"$f":"[1]!XLSTAT_PDFNormal(B139,0,1)","v":0},139,51,-3.4369500639999999,{"$f":"[1]!XLSTAT_PDFNormal(F139,0,1)","v":0},139,null,-1.7875751541999998,{"$f":"[1]!XLSTAT_PDFNormal(K139,0,1)","v":8.0729517753839672E-2},139,null,19,6]
[140,2.5230139205,2.5230139205,{"$f":"[1]!XLSTAT_PDFNormal(B140,0,1)","v":1.6543894547772553E-2},140,-3.4369500639999999,-3.4369500639999999,{"$f":"[1]!XLSTAT_PDFNormal(F140,0,1)","v":1.0860028812171205E-3},140,null,-1.7715430901000002,{"$f":"[1]!XLSTAT_PDFNormal(K140,0,1)","v":8.3065901417839413E-2},140,null,20,6]
[141,2.5311740645,2.5311740645,{"$f":"[1]!XLSTAT_PDFNormal(B141,0,1)","v":1.6206228981705047E-2},141,-3.4287899199999998,-3.4287899199999998,{"$f":"[1]!XLSTAT_PDFNormal(F141,0,1)","v":1.1168548753213773E-3},141,null,-1.7555110260000002,{"$f":"[1]!XLSTAT_PDFNormal(K141,0,1)","v":8.54479368356897E-2},141,null,21,6]
[142,51,2.5311740645,{"$f":"[1]!XLSTAT_PDFNormal(B142,0,1)","v":0},142,51,-3.4287899199999998,{"$f":"[1]!XLSTAT_PDFNormal(F142,0,1)","v":0},142,null,-1.7394789619000002,{"$f":"[1]!XLSTAT_PDFNormal(K142,0,1)","v":8.7875691245068721E-2},142,null,22,6]
[143,51,2.5393342085000001,{"$f":"[1]!XLSTAT_PDFNormal(B143,0,1)","v":0},143,51,-3.4206297760000002,{"$f":"[1]!XLSTAT_PDFNormal(F143,0,1)","v":0},143,null,-1.7234468978000002,{"$f":"[1]!XLSTAT_PDFNormal(K143,0,1)","v":9.034919805433933E-2},143,null,23,6]
[144,2.5393342085000001,2.5393342085000001,{"$f":"[1]!XLSTAT_PDFNormal(B144,0,1)","v":1.5874398186499092E-2},144,-3.4206297760000002,-3.4206297760000002,{"$f":"[1]!XLSTAT_PDFNormal(F144,0,1)","v":1.1485068570266412E-3},144,null,-1.7074148337000001,{"$f":"[1]!XLSTAT_PDFNormal(K144,0,1)","v":9.2868455846644632E-2},144,null,24,6]
[145,2.5474943525000002,2.5474943525000002,{"$f":"[1]!XLSTAT_PDFNormal(B145,0,1)","v":1.5548326430231728E-2},145,-3.4124696320000001,-3.4124696320000001,{"$f":"[1]!XLSTAT_PDFNormal(F145,0,1)","v":1.1809772233368728E-3},145,null,-1.6913827696000001,{"$f":"[1]!XLSTAT_PDFNormal(K145,0,1)","v":9.5433427401216755E-2},145,null,1,7]
[146,51,2.5474943525000002,{"$f":"[1]!XLSTAT_PDFNormal(B146,0,1)","v":0},146,51,-3.4124696320000001,{"$f":"[1]!XLSTAT_PDFNormal(F146,0,1)","v":0},146,null,-1.6753507055000001,{"$f":"[1]!XLSTAT_PDFNormal(K146,0,1)","v":9.8044038733913458E-2},146,null,2,7]
[147,51,2.5556544964999999,{"$f":"[1]!XLSTAT_PDFNormal(B147,0,1)","v":0},147,51,-3.404309488,{"$f":"[1]!XLSTAT_PDFNormal(F147,0,1)","v":0},147,null,-1.6593186414000001,{"$f":"[1]!XLSTAT_PDFNormal(K147,0,1)","v":0.10070017815901819},147,null,3,7]
[148,2.5556544964999999,2.5556544964999999,{"$f":"[1]!XLSTAT_PDFNormal(B148,0,1)","v":1.5227938395507651E-2},148,-3.404309488,-3.404309488,{"$f":"[1]!XLSTAT_PDFNormal(F148,0,1)","v":1.2142847262134472E-3},148,null,-1.6432865773000001,{"$f":"[1]!XLSTAT_PDFNormal(K148,0,1)","v":0.10340169537435714},148,null,4,7]
[149,2.5638146405,2.5638146405,{"$f":"[1]!XLSTAT_PDFNormal(B149,0,1)","v":1.4913159190797763E-2},149,-3.3961493439999999,-3.3961493439999999,{"$f":"[1]!XLSTAT_PDFNormal(F149,0,1)","v":1.2484484775455826E-3},149,null,-1.6272545132,{"$f":"[1]!XLSTAT_PDFNormal(K149,0,1)","v":0.10614840057180078},149,null,5,7]
[150,51,2.5638146405,{"$f":"[1]!XLSTAT_PDFNormal(B150,0,1)","v":0},150,51,-3.3961493439999999,{"$f":"[1]!XLSTAT_PDFNormal(F150,0,1)","v":0},150,null,-1.6112224491,{"$f":"[1]!XLSTAT_PDFNormal(K150,0,1)","v":0.10894006357522758},150,null,6,7]
[151,51,2.5719747845000001,{"$f":"[1]!XLSTAT_PDFNormal(B151,0,1)","v":0},151,51,-3.3879891999999998,{"$f":"[1]!XLSTAT_PDFNormal(F151,0,1)","v":0},151,null,-1.595190385,{"$f":"[1]!XLSTAT_PDFNormal(K151,0,1)","v":0.11177641300803286},151,null,7,7]
[152,2.5719747845000001,2.5719747845000001,{"$f":"[1]!XLSTAT_PDFNormal(B152,0,1)","v":1.4603914361404405E-2},152,-3.3879891999999998,-3.3879891999999998,{"$f":"[1]!XLSTAT_PDFNormal(F152,0,1)","v":1.2834879541396031E-3},152,null,-1.5791583209,{"$f":"[1]!XLSTAT_PDFNormal(K152,0,1)","v":0.11465713549226852},152,null,8,7]
[153,2.5801349285000001,2.5801349285000001,{"$f":"[1]!XLSTAT_PDFNormal(B153,0,1)","v":1.4300129900056158E-2},153,-3.3798290560000002,-3.3798290560000002,{"$f":"[1]!XLSTAT_PDFNormal(F153,0,1)","v":1.3194230027255411E-3},153,null,-1.5631262567999999,{"$f":"[1]!XLSTAT_PDFNormal(K153,0,1)","v":0.11758187488149574},153,null,9,7]
[154,51,2.5801349285000001,{"$f":"[1]!XLSTAT_PDFNormal(B154,0,1)","v":0},154,51,-3.3798290560000002,{"$f":"[1]!XLSTAT_PDFNormal(F154,0,1)","v":0},154,null,-1.5470941926999999,{"$f":"[1]!XLSTAT_PDFNormal(K154,0,1)","v":0.12055023152942658},154,null,10,7]
[155,51,2.5882950725000002,{"$f":"[1]!XLSTAT_PDFNormal(B155,0,1)","v":0},155,51,-3.3716689120000001,{"$f":"[1]!XLSTAT_PDFNormal(F155,0,1)","v":0},155,null,-1.5310621285999999,{"$f":"[1]!XLSTAT_PDFNormal(K155,0,1)","v":0.12356176159641909},155,null,11,7]
[156,2.5882950725000002,2.5882950725000002,{"$f":"[1]!XLSTAT_PDFNormal(B156,0,1)","v":1.4001732257135958E-2},156,-3.3716689120000001,-3.3716689120000001,{"$f":"[1]!XLSTAT_PDFNormal(F156,0,1)","v":1.3562738449795656E-3},156,null,-1.5150300644999999,{"$f":"[1]!XLSTAT_PDFNormal(K156,0,1)","v":0.12661597639587338},156,null,12,7]
[157,2.5964552164999999,2.5964552164999999,{"$f":"[1]!XLSTAT_PDFNormal(B157,0,1)","v":1.3708648350546051E-2},157,-3.363508768,-3.363508768,{"$f":"[1]!XLSTAT_PDFNormal(F157,0,1)","v":1.394061082560599E-3},157,null,-1.4989980003999999,{"$f":"[1]!XLSTAT_PDFNormal(K157,0,1)","v":0.12971234178255714},157,null,13,7]
[158,51,2.5964552164999999,{"$f":"[1]!XLSTAT_PDFNormal(B158,0,1)","v":0},158,51,-3.363508768,{"$f":"[1]!XLSTAT_PDFNormal(F158,0,1)","v":0},158,null,-1.4829659362999998,{"$f":"[1]!XLSTAT_PDFNormal(K158,0,1)","v":0.13285027758486159},158,null,14,7]
[159,51,2.6046153605,{"$f":"[1]!XLSTAT_PDFNormal(B159,0,1)","v":0},159,51,-3.3553486239999999,{"$f":"[1]!XLSTAT_PDFNormal(F159,0,1)","v":0},159,null,-1.4669338721999998,{"$f":"[1]!XLSTAT_PDFNormal(K159,0,1)","v":0.13602915708296096},159,null,15,7]
[160,2.6046153605,2.6046153605,{"$f":"[1]!XLSTAT_PDFNormal(B160,0,1)","v":1.3420805575213296E-2},160,-3.3553486239999999,-3.3553486239999999,{"$f":"[1]!XLSTAT_PDFNormal(F160,0,1)","v":1.4328057021595396E-3},160,null,-1.4509018080999998,{"$f":"[1]!XLSTAT_PDFNormal(K160,0,1)","v":0.13924830653481088},160,null,16,7]
[161,2.6127755045000001,2.6127755045000001,{"$f":"[1]!XLSTAT_PDFNormal(B161,0,1)","v":1.3138131812238853E-2},161,-3.3471884799999998,-3.3471884799999998,{"$f":"[1]!XLSTAT_PDFNormal(F161,0,1)","v":1.472529080559345E-3},161,null,-1.4348697440000002,{"$f":"[1]!XLSTAT_PDFNormal(K161,0,1)","v":0.14250700475188377},161,null,17,7]
[162,51,2.6127755045000001,{"$f":"[1]!XLSTAT_PDFNormal(B162,0,1)","v":0},162,51,-3.3471884799999998,{"$f":"[1]!XLSTAT_PDFNormal(F162,0,1)","v":0},162,null,-1.4188376799000002,{"$f":"[1]!XLSTAT_PDFNormal(K162,0,1)","v":0.14580448272649199},162,null,18,7]
[163,51,2.6209356485000002,{"$f":"[1]!XLSTAT_PDFNormal(B163,0,1)","v":0},163,51,-3.3390283360000002,{"$f":"[1]!XLSTAT_PDFNormal(F163,0,1)","v":0},163,null,-1.4028056158000002,{"$f":"[1]!XLSTAT_PDFNormal(K163,0,1)","v":0.14913992331250117},163,null,19,7]
[164,2.6209356485000002,2.6209356485000002,{"$f":"[1]!XLSTAT_PDFNormal(B164,0,1)","v":1.2860555437695719E-2},164,-3.3390283360000002,-3.3390283360000002,{"$f":"[1]!XLSTAT_PDFNormal(F164,0,1)","v":1.5132529897042546E-3},164,null,-1.3867735517000002,{"$f":"[1]!XLSTAT_PDFNormal(K164,0,1)","v":0.15251246096118137},164,null,20,7]
[165,2.6290957925000003,2.6290957925000003,{"$f":"[1]!XLSTAT_PDFNormal(B165,0,1)","v":1.2588005331078313E-2},165,-3.3308681920000001,-3.3308681920000001,{"$f":"[1]!XLSTAT_PDFNormal(F165,0,1)","v":1.5549996017763571E-3},165,null,-1.3707414876000001,{"$f":"[1]!XLSTAT_PDFNormal(K165,0,1)","v":0.15592118151388304},165,null,21,7]
[166,51,2.6290957925000003,{"$f":"[1]!XLSTAT_PDFNormal(B166,0,1)","v":0},166,51,-3.3308681920000001,{"$f":"[1]!XLSTAT_PDFNormal(F166,0,1)","v":0},166,null,-1.3547094235000001,{"$f":"[1]!XLSTAT_PDFNormal(K166,0,1)","v":0.15936512205316117},166,null,22,7]
[167,51,2.6372559364999999,{"$f":"[1]!XLSTAT_PDFNormal(B167,0,1)","v":0},167,51,-3.322708048,{"$f":"[1]!XLSTAT_PDFNormal(F167,0,1)","v":0},167,null,-1.3386773594000001,{"$f":"[1]!XLSTAT_PDFNormal(K167,0,1)","v":0.16284327081390129},167,null,23,7]
[168,2.6372559364999999,2.6372559364999999,{"$f":"[1]!XLSTAT_PDFNormal(B168,0,1)","v":1.2320410883408009E-2},168,-3.322708048,-3.322708048,{"$f":"[1]!XLSTAT_PDFNormal(F168,0,1)","v":1.5977914942776224E-3},168,null,-1.3226452953000001,{"$f":"[1]!XLSTAT_PDFNormal(K168,0,1)","v":0.16635456715592672},168,null,24,7]
[169,2.6454160805,2.6454160805,{"$f":"[1]!XLSTAT_PDFNormal(B169,0,1)","v":1.2057702004998543E-2},169,-3.3145479040000003,-3.3145479040000003,{"$f":"[1]!XLSTAT_PDFNormal(F169,0,1)","v":1.6416516551155211E-3},169,null,-1.3066132312000001,{"$f":"[1]!XLSTAT_PDFNormal(K169,0,1)","v":0.16989790159948731},169,null,1,8]
[170,51,2.6454160805,{"$f":"[1]!XLSTAT_PDFNormal(B170,0,1)","v":0},170,51,-3.3145479040000003,{"$f":"[1]!XLSTAT_PDFNormal(F170,0,1)","v":0},170,null,-1.2905811671,{"$f":"[1]!XLSTAT_PDFNormal(K170,0,1)","v":0.17347211592494705},170,null,2,8]
[171,51,2.6535762245000001,{"$f":"[1]!XLSTAT_PDFNormal(B171,0,1)","v":0},171,51,-3.3063877599999998,{"$f":"[1]!XLSTAT_PDFNormal(F171,0,1)","v":0},171,null,-1.274549103,{"$f":"[1]!XLSTAT_PDFNormal(K171,0,1)","v":0.17707600333789889},171,null,3,8]
[172,2.6535762245000001,2.6535762245000001,{"$f":"[1]!XLSTAT_PDFNormal(B172,0,1)","v":1.1799809132885766E-2},172,-3.3063877599999998,-3.3063877599999998,{"$f":"[1]!XLSTAT_PDFNormal(F172,0,1)","v":1.6866034876902704E-3},172,null,-1.2585170389,{"$f":"[1]!XLSTAT_PDFNormal(K172,0,1)","v":0.18070830870084326},172,null,4,8]
[173,2.6617363685000002,2.6617363685000002,{"$f":"[1]!XLSTAT_PDFNormal(B173,0,1)","v":1.1546663237925562E-2},173,-3.2982276160000001,-3.2982276160000001,{"$f":"[1]!XLSTAT_PDFNormal(F173,0,1)","v":1.7326708159816388E-3},173,null,-1.2424849748,{"$f":"[1]!XLSTAT_PDFNormal(K173,0,1)","v":0.1843677288324691},173,null,5,8]
[174,51,2.6617363685000002,{"$f":"[1]!XLSTAT_PDFNormal(B174,0,1)","v":0},174,51,-3.2982276160000001,{"$f":"[1]!XLSTAT_PDFNormal(F174,0,1)","v":0},174,null,-1.2264529107,{"$f":"[1]!XLSTAT_PDFNormal(K174,0,1)","v":0.18805291287547596},174,null,6,8]
[175,51,2.6698965125000003,{"$f":"[1]!XLSTAT_PDFNormal(B175,0,1)","v":0},175,51,-3.290067472,{"$f":"[1]!XLSTAT_PDFNormal(F175,0,1)","v":0},175,null,-1.2104208465999999,{"$f":"[1]!XLSTAT_PDFNormal(K175,0,1)","v":0.19176246273376957},175,null,7,8]
[176,2.6698965125000003,2.6698965125000003,{"$f":"[1]!XLSTAT_PDFNormal(B176,0,1)","v":1.1298195831564444E-2},176,-3.290067472,-3.290067472,{"$f":"[1]!XLSTAT_PDFNormal(F176,0,1)","v":1.7798778896333373E-3},176,null,-1.1943887824999999,{"$f":"[1]!XLSTAT_PDFNormal(K176,0,1)","v":0.19549493357975525},176,null,8,8]
[177,2.6780566564999999,2.6780566564999999,{"$f":"[1]!XLSTAT_PDFNormal(B177,0,1)","v":1.1054338972287098E-2},177,-3.281907328,-3.281907328,{"$f":"[1]!XLSTAT_PDFNormal(F177,0,1)","v":1.8282493890327582E-3},177,null,-1.1783567183999999,{"$f":"[1]!XLSTAT_PDFNormal(K177,0,1)","v":0.19924883443233954},177,null,9,8]
[178,51,2.6780566564999999,{"$f":"[1]!XLSTAT_PDFNormal(B178,0,1)","v":0},178,51,-3.281907328,{"$f":"[1]!XLSTAT_PDFNormal(F178,0,1)","v":0},178,null,-1.1623246542999999,{"$f":"[1]!XLSTAT_PDFNormal(K178,0,1)","v":0.20302262880613547},178,null,10,8]
[179,51,2.6862168005,{"$f":"[1]!XLSTAT_PDFNormal(B179,0,1)","v":0},179,51,-3.2737471840000003,{"$f":"[1]!XLSTAT_PDFNormal(F179,0,1)","v":0},179,null,-1.1462925901999999,{"$f":"[1]!XLSTAT_PDFNormal(K179,0,1)","v":0.2068147354322461},179,null,11,8]
[180,2.6862168005,2.6862168005,{"$f":"[1]!XLSTAT_PDFNormal(B180,0,1)","v":1.081502527174516E-2},180,-3.2737471840000003,-3.2737471840000003,{"$f":"[1]!XLSTAT_PDFNormal(F180,0,1)","v":1.8778104303839676E-3},180,null,-1.1302605260999998,{"$f":"[1]!XLSTAT_PDFNormal(K180,0,1)","v":0.21062352905087889},180,null,12,8]
[181,2.6943769445000001,2.6943769445000001,{"$f":"[1]!XLSTAT_PDFNormal(B181,0,1)","v":1.0580187900571886E-2},181,-3.2655870400000002,-3.2655870400000002,{"$f":"[1]!XLSTAT_PDFNormal(F181,0,1)","v":1.9285865707716677E-3},181,null,-1.1142284619999998,{"$f":"[1]!XLSTAT_PDFNormal(K181,0,1)","v":0.21444734127591786},181,null,13,8]
[182,51,2.6943769445000001,{"$f":"[1]!XLSTAT_PDFNormal(B182,0,1)","v":0},182,51,-3.2655870400000002,{"$f":"[1]!XLSTAT_PDFNormal(F182,0,1)","v":0},182,null,-1.0981963978999998,{"$f":"[1]!XLSTAT_PDFNormal(K182,0,1)","v":0.2182844615314514},182,null,14,8]
[183,51,2.7025370885000002,{"$f":"[1]!XLSTAT_PDFNormal(B183,0,1)","v":0},183,51,-3.2574268960000001,{"$f":"[1]!XLSTAT_PDFNormal(F183,0,1)","v":0},183,null,-1.0821643338000002,{"$f":"[1]!XLSTAT_PDFNormal(K183,0,1)","v":0.22213313806012461},183,null,15,8]
[184,2.7025370885000002,2.7025370885000002,{"$f":"[1]!XLSTAT_PDFNormal(B184,0,1)","v":1.0349760593886939E-2},184,-3.2574268960000001,-3.2574268960000001,{"$f":"[1]!XLSTAT_PDFNormal(F184,0,1)","v":1.9806038132138349E-3},184,null,-1.0661322697000002,{"$f":"[1]!XLSTAT_PDFNormal(K184,0,1)","v":0.22599157900305067},184,null,16,8]
[185,2.7106972325000003,2.7106972325000003,{"$f":"[1]!XLSTAT_PDFNormal(B185,0,1)","v":1.0123677656495982E-2},185,-3.249266752,-3.249266752,{"$f":"[1]!XLSTAT_PDFNormal(F185,0,1)","v":2.0338886117007055E-3},185,null,-1.0501002056000002,{"$f":"[1]!XLSTAT_PDFNormal(K185,0,1)","v":0.22985795355088096},185,null,17,8]
[186,51,2.7106972325000003,{"$f":"[1]!XLSTAT_PDFNormal(B186,0,1)","v":0},186,51,-3.249266752,{"$f":"[1]!XLSTAT_PDFNormal(F186,0,1)","v":0},186,null,-1.0340681415000001,{"$f":"[1]!XLSTAT_PDFNormal(K186,0,1)","v":0.23373039316550015},186,null,18,8]
[187,51,2.7188573764999999,{"$f":"[1]!XLSTAT_PDFNormal(B187,0,1)","v":0},187,51,-3.2411066079999999,{"$f":"[1]!XLSTAT_PDFNormal(F187,0,1)","v":0},187,null,-1.0180360774000001,{"$f":"[1]!XLSTAT_PDFNormal(K187,0,1)","v":0.237606992871671},187,null,19,8]
[188,2.7188573764999999,2.7188573764999999,{"$f":"[1]!XLSTAT_PDFNormal(B188,0,1)","v":9.9018739677896195E-3},188,-3.2411066079999999,-3.2411066079999999,{"$f":"[1]!XLSTAT_PDFNormal(F188,0,1)","v":2.0884678762176706E-3},188,null,-1.0020040133000001,{"$f":"[1]!XLSTAT_PDFNormal(K188,0,1)","v":0.24148581261781818},188,null,20,8]
[189,2.7270175205,2.7270175205,{"$f":"[1]!XLSTAT_PDFNormal(B189,0,1)","v":9.684284986346256E-3},189,-3.2329464640000003,-3.2329464640000003,{"$f":"[1]!XLSTAT_PDFNormal(F189,0,1)","v":2.144368977749641E-3},189,null,-0.98597194920000009,{"$f":"[1]!XLSTAT_PDFNormal(K189,0,1)","v":0.24536487870500007},189,null,21,8]
[190,51,2.7270175205,{"$f":"[1]!XLSTAT_PDFNormal(B190,0,1)","v":0},190,51,-3.2329464640000003,{"$f":"[1]!XLSTAT_PDFNormal(F190,0,1)","v":0},190,null,-0.96993988510000007,{"$f":"[1]!XLSTAT_PDFNormal(K190,0,1)","v":0.24924218528297748},190,null,22,8]
[191,51,2.7351776645000001,{"$f":"[1]!XLSTAT_PDFNormal(B191,0,1)","v":0},191,51,-3.2247863200000002,{"$f":"[1]!XLSTAT_PDFNormal(F191,0,1)","v":0},191,null,-0.95390782100000004,{"$f":"[1]!XLSTAT_PDFNormal(K191,0,1)","v":0.25311569591214983},191,null,23,8]
[192,2.7351776645000001,2.7351776645000001,{"$f":"[1]!XLSTAT_PDFNormal(B192,0,1)","v":9.4708467542436378E-3},192,-3.2247863200000002,-3.2247863200000002,{"$f":"[1]!XLSTAT_PDFNormal(F192,0,1)","v":2.2016197532643321E-3},192,null,-0.93787575690000002,{"$f":"[1]!XLSTAT_PDFNormal(K192,0,1)","v":0.25698334518998911},192,null,24,8]
[193,{"$f":"IF(-1^(INT(A193/2)+2)>0,1.9599639845+2*INT(A193/2-1/2)*0.004080072,51)","v":2.7433378084999998},{"$f":"1.9599639845+2*INT(A193/2-1/2)*0.004080072","v":2.7433378084999998},{"$f":"[1]!XLSTAT_PDFNormal(B193,0,1)","v":9.2614959010835878E-3},193,{"$f":"IF(-1^(INT(E193/2)+2)>0,-4+2*INT(E193/2-1/2)*0.004080072,51)","v":-3.2166261760000001},{"$f":"-4+2*INT(E193/2-1/2)*0.004080072","v":-3.2166261760000001},{"$f":"[1]!XLSTAT_PDFNormal(F193,0,1)","v":2.26024851067189E-3},193,null,{"$f":"-4+(I193-1)*0.0160320641","v":-0.9218436928},{"$f":"[1]!XLSTAT_PDFNormal(K193,0,1)","v":0.26084304044046303},193,null,{"$f":"M193-24*INT((-1/2+M193)/24)","v":1},{"$f":"1+INT((M193-1/2)/24)","v":9}]
[194,51,2.7433378084999998,{"$f":"[1]!XLSTAT_PDFNormal(B194,0,1)","v":0},194,51,-3.2166261760000001,{"$f":"[1]!XLSTAT_PDFNormal(F194,0,1)","v":0},194,null,-0.90581162869999998,{"$f":"[1]!XLSTAT_PDFNormal(K194,0,1)","v":0.26469266346480191},194,null,2,9]
[195,51,2.7514979525000003,{"$f":"[1]!XLSTAT_PDFNormal(B195,0,1)","v":0},195,51,-3.208466032,{"$f":"[1]!XLSTAT_PDFNormal(F195,0,1)","v":0},195,null,-0.88977956459999996,{"$f":"[1]!XLSTAT_PDFNormal(K195,0,1)","v":0.26853007235182647},195,null,3,9]
[196,2.7514979525000003,2.7514979525000003,{"$f":"[1]!XLSTAT_PDFNormal(B196,0,1)","v":9.0561696477347176E-3},196,-3.208466032,-3.208466032,{"$f":"[1]!XLSTAT_PDFNormal(F196,0,1)","v":2.3202840337582463E-3},196,null,-0.87374750049999994,{"$f":"[1]!XLSTAT_PDFNormal(K196,0,1)","v":0.27235310334591895},196,null,4,9]
[197,2.7596580964999999,2.7596580964999999,{"$f":"[1]!XLSTAT_PDFNormal(B197,0,1)","v":8.8548058097980397E-3},197,-3.2003058879999999,-3.2003058879999999,{"$f":"[1]!XLSTAT_PDFNormal(F197,0,1)","v":2.3817555870894536E-3},197,null,-0.85771543639999992,{"$f":"[1]!XLSTAT_PDFNormal(K197,0,1)","v":0.27615957277058706},197,null,5,9]
[198,51,2.7596580964999999,{"$f":"[1]!XLSTAT_PDFNormal(B198,0,1)","v":0},198,51,-3.2003058879999999,{"$f":"[1]!XLSTAT_PDFNormal(F198,0,1)","v":0},198,null,-0.8416833722999999,{"$f":"[1]!XLSTAT_PDFNormal(K198,0,1)","v":0.27994727900543992},198,null,6,9]
[199,51,2.7678182405,{"$f":"[1]!XLSTAT_PDFNormal(B199,0,1)","v":0},199,51,-3.1921457440000003,{"$f":"[1]!XLSTAT_PDFNormal(F199,0,1)","v":0},199,null,-0.82565130819999988,{"$f":"[1]!XLSTAT_PDFNormal(K199,0,1)","v":0.28371400451426615},199,null,7,9]
[200,2.7678182405,2.7678182405,{"$f":"[1]!XLSTAT_PDFNormal(B200,0,1)","v":8.6573428007997808E-3},200,-3.1921457440000003,-3.1921457440000003,{"$f":"[1]!XLSTAT_PDFNormal(F200,0,1)","v":2.4446929208842942E-3},200,null,-0.80961924409999986,{"$f":"[1]!XLSTAT_PDFNormal(K200,0,1)","v":0.2874575179217802},200,null,8,9]
[201,2.7759783845000001,2.7759783845000001,{"$f":"[1]!XLSTAT_PDFNormal(B201,0,1)","v":8.4637196351167454E-3},201,-3.1839856000000002,-3.1839856000000002,{"$f":"[1]!XLSTAT_PDFNormal(F201,0,1)","v":2.5091262758523232E-3},201,null,-0.79358717999999984,{"$f":"[1]!XLSTAT_PDFNormal(K201,0,1)","v":0.29117557613647993},201,null,9,9]
[202,51,2.7759783845000001,{"$f":"[1]!XLSTAT_PDFNormal(B202,0,1)","v":0},202,51,-3.1839856000000002,{"$f":"[1]!XLSTAT_PDFNormal(F202,0,1)","v":0},202,null,-0.77755511589999982,{"$f":"[1]!XLSTAT_PDFNormal(K202,0,1)","v":0.29486592651694216},202,null,10,9]
[203,51,2.7841385284999998,{"$f":"[1]!XLSTAT_PDFNormal(B203,0,1)","v":0},203,51,-3.1758254560000001,{"$f":"[1]!XLSTAT_PDFNormal(F203,0,1)","v":0},203,null,-0.7615230517999998,{"$f":"[1]!XLSTAT_PDFNormal(K203,0,1)","v":0.29852630907876604},203,null,11,9]
[204,2.7841385284999998,2.7841385284999998,{"$f":"[1]!XLSTAT_PDFNormal(B204,0,1)","v":8.2738759306385766E-3},204,-3.1758254560000001,-3.1758254560000001,{"$f":"[1]!XLSTAT_PDFNormal(F204,0,1)","v":2.5750863879944459E-3},204,null,-0.74549098770000022,{"$f":"[1]!XLSTAT_PDFNormal(K204,0,1)","v":0.30215445873926633},204,null,12,9]
[205,2.7922986725000003,2.7922986725000003,{"$f":"[1]!XLSTAT_PDFNormal(B205,0,1)","v":8.0877519111719025E-3},205,-3.167665312,-3.167665312,{"$f":"[1]!XLSTAT_PDFNormal(F205,0,1)","v":2.6426044933631496E-3},205,null,-0.7294589236000002,{"$f":"[1]!XLSTAT_PDFNormal(K205,0,1)","v":0.30574810759691257},205,null,13,9]
[206,51,2.7922986725000003,{"$f":"[1]!XLSTAT_PDFNormal(B206,0,1)","v":0},206,51,-3.167665312,{"$f":"[1]!XLSTAT_PDFNormal(F206,0,1)","v":0},206,null,-0.71342685950000018,{"$f":"[1]!XLSTAT_PDFNormal(K206,0,1)","v":0.30930498724240796},206,null,14,9]
[207,51,2.8004588164999999,{"$f":"[1]!XLSTAT_PDFNormal(B207,0,1)","v":0},207,51,-3.1595051679999999,{"$f":"[1]!XLSTAT_PDFNormal(F207,0,1)","v":0},207,null,-0.69739479540000016,{"$f":"[1]!XLSTAT_PDFNormal(K207,0,1)","v":0.31282283109820969},207,null,15,9]
[208,2.8004588164999999,2.8004588164999999,{"$f":"[1]!XLSTAT_PDFNormal(B208,0,1)","v":7.9052884085913031E-3},208,-3.1595051679999999,-3.1595051679999999,{"$f":"[1]!XLSTAT_PDFNormal(F208,0,1)","v":2.7117123327793694E-3},208,null,-0.68136273130000014,{"$f":"[1]!XLSTAT_PDFNormal(K208,0,1)","v":0.31629937678319903},208,null,16,9]
[209,2.8086189605,2.8086189605,{"$f":"[1]!XLSTAT_PDFNormal(B209,0,1)","v":7.7264268647416175E-3},209,-3.1513450240000003,-3.1513450240000003,{"$f":"[1]!XLSTAT_PDFNormal(F209,0,1)","v":2.7824421565029395E-3},209,null,-0.66533066720000011,{"$f":"[1]!XLSTAT_PDFNormal(K209,0,1)","v":0.31973236849912812},209,null,17,9]
[210,51,2.8086189605,{"$f":"[1]!XLSTAT_PDFNormal(B210,0,1)","v":0},210,51,-3.1513450240000003,{"$f":"[1]!XLSTAT_PDFNormal(F210,0,1)","v":0},210,null,-0.64929860310000009,{"$f":"[1]!XLSTAT_PDFNormal(K210,0,1)","v":0.32311955943538967},210,null,18,9]
[211,51,2.8167791045000001,{"$f":"[1]!XLSTAT_PDFNormal(B211,0,1)","v":0},211,51,-3.1431848800000002,{"$f":"[1]!XLSTAT_PDFNormal(F211,0,1)","v":0},211,null,-0.63326653900000007,{"$f":"[1]!XLSTAT_PDFNormal(K211,0,1)","v":0.3264587141885863},211,null,19,9]
[212,2.8167791045000001,2.8167791045000001,{"$f":"[1]!XLSTAT_PDFNormal(B212,0,1)","v":7.5511093330968056E-3},212,-3.1431848800000002,-3.1431848800000002,{"$f":"[1]!XLSTAT_PDFNormal(F212,0,1)","v":2.8548267288535305E-3},212,null,-0.61723447490000005,{"$f":"[1]!XLSTAT_PDFNormal(K212,0,1)","v":0.32974761119330864},212,null,20,9]
[213,2.8249392484999998,2.8249392484999998,{"$f":"[1]!XLSTAT_PDFNormal(B213,0,1)","v":7.3792784801799041E-3},213,-3.1350247360000001,-3.1350247360000001,{"$f":"[1]!XLSTAT_PDFNormal(F213,0,1)","v":2.9288993327788808E-3},213,null,-0.60120241080000003,{"$f":"[1]!XLSTAT_PDFNormal(K213,0,1)","v":0.33298404516047425},213,null,21,9]
[214,51,2.8249392484999998,{"$f":"[1]!XLSTAT_PDFNormal(B214,0,1)","v":0},214,51,-3.1350247360000001,{"$f":"[1]!XLSTAT_PDFNormal(F214,0,1)","v":0},214,null,-0.58517034670000001,{"$f":"[1]!XLSTAT_PDFNormal(K214,0,1)","v":0.33616582951952645},214,null,22,9]
[215,51,2.8330993924999999,{"$f":"[1]!XLSTAT_PDFNormal(B215,0,1)","v":0},215,51,-3.126864592,{"$f":"[1]!XLSTAT_PDFNormal(F215,0,1)","v":0},215,null,-0.56913828259999999,{"$f":"[1]!XLSTAT_PDFNormal(K215,0,1)","v":0.33929079886074776},215,null,23,9]
[216,2.8330993924999999,2.8330993924999999,{"$f":"[1]!XLSTAT_PDFNormal(B216,0,1)","v":7.2108775867490479E-3},216,-3.126864592,-3.126864592,{"$f":"[1]!XLSTAT_PDFNormal(F216,0,1)","v":3.0046937743671612E-3},216,null,-0.55310621849999997,{"$f":"[1]!XLSTAT_PDFNormal(K216,0,1)","v":0.34235681137390495},216,null,24,9]
[217,2.8412595365,2.8412595365,{"$f":"[1]!XLSTAT_PDFNormal(B217,0,1)","v":7.0458505487544501E-3},217,-3.1187044479999999,-3.1187044479999999,{"$f":"[1]!XLSTAT_PDFNormal(F217,0,1)","v":3.0822443873001308E-3},217,null,-0.53707415439999995,{"$f":"[1]!XLSTAT_PDFNormal(K217,0,1)","v":0.34536175127941443},217,null,1,10]
[218,51,2.8412595365,{"$f":"[1]!XLSTAT_PDFNormal(B218,0,1)","v":0},218,51,-3.1187044479999999,{"$f":"[1]!XLSTAT_PDFNormal(F218,0,1)","v":0},218,null,-0.52104209029999993,{"$f":"[1]!XLSTAT_PDFNormal(K218,0,1)","v":0.34830353124819019},218,null,2,10]
[219,51,2.8494196805000001,{"$f":"[1]!XLSTAT_PDFNormal(B219,0,1)","v":0},219,51,-3.1105443040000003,{"$f":"[1]!XLSTAT_PDFNormal(F219,0,1)","v":0},219,null,-0.50501002619999991,{"$f":"[1]!XLSTAT_PDFNormal(K219,0,1)","v":0.35118009480632767},219,null,3,10]
[220,2.8494196805000001,2.8494196805000001,{"$f":"[1]!XLSTAT_PDFNormal(B220,0,1)","v":6.8841418780710255E-3},220,-3.1105443040000003,-3.1105443040000003,{"$f":"[1]!XLSTAT_PDFNormal(F220,0,1)","v":3.1615860372437533E-3},220,null,-0.48897796209999989,{"$f":"[1]!XLSTAT_PDFNormal(K220,0,1)","v":0.35398941872076389},220,null,4,10]
[221,2.8575798245000001,2.8575798245000001,{"$f":"[1]!XLSTAT_PDFNormal(B221,0,1)","v":6.7256967030116339E-3},221,-3.1023841600000002,-3.1023841600000002,{"$f":"[1]!XLSTAT_PDFNormal(F221,0,1)","v":3.2427541261729493E-3},221,null,-0.47294589799999986,{"$f":"[1]!XLSTAT_PDFNormal(K221,0,1)","v":0.35672951536206021},221,null,5,10]
[222,51,2.8575798245000001,{"$f":"[1]!XLSTAT_PDFNormal(B222,0,1)","v":0},222,51,-3.1023841600000002,{"$f":"[1]!XLSTAT_PDFNormal(F222,0,1)","v":0},222,null,-0.45691383389999984,{"$f":"[1]!XLSTAT_PDFNormal(K222,0,1)","v":0.35939843504045987},222,null,6,10]
[223,51,2.8657399684999998,{"$f":"[1]!XLSTAT_PDFNormal(B223,0,1)","v":0},223,51,-3.0942240160000001,{"$f":"[1]!XLSTAT_PDFNormal(F223,0,1)","v":0},223,null,-0.44088176979999982,{"$f":"[1]!XLSTAT_PDFNormal(K223,0,1)","v":0.36199426831139114},223,null,7,10]
[224,2.8657399684999998,2.8657399684999998,{"$f":"[1]!XLSTAT_PDFNormal(B224,0,1)","v":6.5704607686256356E-3},224,-3.0942240160000001,-3.0942240160000001,{"$f":"[1]!XLSTAT_PDFNormal(F224,0,1)","v":3.3257845966269033E-3},224,null,-0.4248497056999998,{"$f":"[1]!XLSTAT_PDFNormal(K224,0,1)","v":0.36451514824661119},224,null,8,10]
[225,2.8739001124999999,2.8739001124999999,{"$f":"[1]!XLSTAT_PDFNormal(B225,0,1)","v":6.4183804367876855E-3},225,-3.086063872,-3.086063872,{"$f":"[1]!XLSTAT_PDFNormal(F225,0,1)","v":3.4107139358915549E-3},225,null,-0.40881764159999978,{"$f":"[1]!XLSTAT_PDFNormal(K225,0,1)","v":0.36695925266721885},225,null,9,10]
[226,51,2.8739001124999999,{"$f":"[1]!XLSTAT_PDFNormal(B226,0,1)","v":0},226,51,-3.086063872,{"$f":"[1]!XLSTAT_PDFNormal(F226,0,1)","v":0},226,null,-0.3927855775000002,{"$f":"[1]!XLSTAT_PDFNormal(K226,0,1)","v":0.36932480633480641},226,null,10,10]
[227,51,2.8820602565,{"$f":"[1]!XLSTAT_PDFNormal(B227,0,1)","v":0},227,51,-3.0779037279999999,{"$f":"[1]!XLSTAT_PDFNormal(F227,0,1)","v":0},227,null,-0.37675351340000018,{"$f":"[1]!XLSTAT_PDFNormal(K227,0,1)","v":0.37161008309706817},227,null,11,10]
[228,2.8820602565,2.8820602565,{"$f":"[1]!XLSTAT_PDFNormal(B228,0,1)","v":6.2694026860814853E-3},228,-3.0779037279999999,-3.0779037279999999,{"$f":"[1]!XLSTAT_PDFNormal(F228,0,1)","v":3.497579180105622E-3},228,null,-0.36072144930000016,{"$f":"[1]!XLSTAT_PDFNormal(K228,0,1)","v":0.37381340798424217},228,null,12,10]
[229,2.8902204005000001,2.8902204005000001,{"$f":"[1]!XLSTAT_PDFNormal(B229,0,1)","v":6.1234751114832816E-3},229,-3.0697435840000002,-3.0697435840000002,{"$f":"[1]!XLSTAT_PDFNormal(F229,0,1)","v":3.5864179182865719E-3},229,null,-0.34468938520000014,{"$f":"[1]!XLSTAT_PDFNormal(K229,0,1)","v":0.37593315925282544},229,null,13,10]
[230,51,2.8902204005000001,{"$f":"[1]!XLSTAT_PDFNormal(B230,0,1)","v":0},230,51,-3.0697435840000002,{"$f":"[1]!XLSTAT_PDFNormal(F230,0,1)","v":0},230,null,-0.32865732110000012,{"$f":"[1]!XLSTAT_PDFNormal(K230,0,1)","v":0.37796777037307511},230,null,14,10]
[231,51,2.8983805445000002,{"$f":"[1]!XLSTAT_PDFNormal(B231,0,1)","v":0},231,51,-3.0615834400000002,{"$f":"[1]!XLSTAT_PDFNormal(F231,0,1)","v":0},231,null,-0.3126252570000001,{"$f":"[1]!XLSTAT_PDFNormal(K231,0,1)","v":0.37991573195689077},231,null,15,10]
[232,2.8983805445000002,2.8983805445000002,{"$f":"[1]!XLSTAT_PDFNormal(B232,0,1)","v":5.9805459238498745E-3},232,-3.0615834400000002,-3.0615834400000002,{"$f":"[1]!XLSTAT_PDFNormal(F232,0,1)","v":3.6772682962728774E-3},232,null,-0.29659319290000008,{"$f":"[1]!XLSTAT_PDFNormal(K232,0,1)","v":0.38177559362275676},232,null,16,10]
[233,2.9065406884999998,2.9065406884999998,{"$f":"[1]!XLSTAT_PDFNormal(B233,0,1)","v":5.8405639492159142E-3},233,-3.0534232960000001,-3.0534232960000001,{"$f":"[1]!XLSTAT_PDFNormal(F233,0,1)","v":3.7701690205787595E-3},233,null,-0.28056112880000006,{"$f":"[1]!XLSTAT_PDFNormal(K233,0,1)","v":0.38354596579452355},233,null,17,10]
[234,51,2.9065406884999998,{"$f":"[1]!XLSTAT_PDFNormal(B234,0,1)","v":0},234,51,-3.0534232960000001,{"$f":"[1]!XLSTAT_PDFNormal(F234,0,1)","v":0},234,null,-0.26452906470000004,{"$f":"[1]!XLSTAT_PDFNormal(K234,0,1)","v":0.38522552143090433},234,null,18,10]
[235,51,2.9147008324999999,{"$f":"[1]!XLSTAT_PDFNormal(B235,0,1)","v":0},235,51,-3.045263152,{"$f":"[1]!XLSTAT_PDFNormal(F235,0,1)","v":0},235,null,-0.24849700060000002,{"$f":"[1]!XLSTAT_PDFNormal(K235,0,1)","v":0.3868129976826768},235,null,19,10]
[236,2.9147008324999999,2.9147008324999999,{"$f":"[1]!XLSTAT_PDFNormal(B236,0,1)","v":5.7034786279051069E-3},236,-3.045263152,-3.045263152,{"$f":"[1]!XLSTAT_PDFNormal(F236,0,1)","v":3.8651593621577608E-3},236,null,-0.2324649365,{"$f":"[1]!XLSTAT_PDFNormal(K236,0,1)","v":0.38830719747469244},236,null,20,10]
[237,2.9228609765,2.9228609765,{"$f":"[1]!XLSTAT_PDFNormal(B237,0,1)","v":5.5692400134601501E-3},237,-3.0371030079999999,-3.0371030079999999,{"$f":"[1]!XLSTAT_PDFNormal(F237,0,1)","v":3.9622791600711959E-3},237,null,-0.21643287239999998,{"$f":"[1]!XLSTAT_PDFNormal(K237,0,1)","v":0.38970699100992118},237,null,21,10]
[238,51,2.9228609765,{"$f":"[1]!XLSTAT_PDFNormal(B238,0,1)","v":0},238,51,-3.0371030079999999,{"$f":"[1]!XLSTAT_PDFNormal(F238,0,1)","v":0},238,null,-0.20040080829999996,{"$f":"[1]!XLSTAT_PDFNormal(K238,0,1)","v":0.39101131719288523},238,null,22,10]
[239,51,2.9310211205000001,{"$f":"[1]!XLSTAT_PDFNormal(B239,0,1)","v":0},239,51,-3.0289428640000002,{"$f":"[1]!XLSTAT_PDFNormal(F239,0,1)","v":0},239,null,-0.18436874419999993,{"$f":"[1]!XLSTAT_PDFNormal(K239,0,1)","v":0.39221918496997293},239,null,23,10]
[240,2.9310211205000001,2.9310211205000001,{"$f":"[1]!XLSTAT_PDFNormal(B240,0,1)","v":5.4377987713959634E-3},240,-3.0289428640000002,-3.0289428640000002,{"$f":"[1]!XLSTAT_PDFNormal(F240,0,1)","v":4.0615688250576522E-3},240,null,-0.16833668009999991,{"$f":"[1]!XLSTAT_PDFNormal(K240,0,1)","v":0.39332967458426221},240,null,24,10]
[241,2.9391812645000002,2.9391812645000002,{"$f":"[1]!XLSTAT_PDFNormal(B241,0,1)","v":5.3091061777808856E-3},241,-3.0207827200000001,-3.0207827200000001,{"$f":"[1]!XLSTAT_PDFNormal(F241,0,1)","v":4.1630693429996306E-3},241,null,-0.15230461599999989,{"$f":"[1]!XLSTAT_PDFNormal(K241,0,1)","v":0.39434193874263013},241,null,1,11]
[242,51,2.9391812645000002,{"$f":"[1]!XLSTAT_PDFNormal(B242,0,1)","v":0},242,51,-3.0207827200000001,{"$f":"[1]!XLSTAT_PDFNormal(F242,0,1)","v":0},242,null,-0.13627255189999987,{"$f":"[1]!XLSTAT_PDFNormal(K242,0,1)","v":0.39525520369307582},242,null,2,11]
[243,51,2.9473414084999998,{"$f":"[1]!XLSTAT_PDFNormal(B243,0,1)","v":0},243,51,-3.0126225760000001,{"$f":"[1]!XLSTAT_PDFNormal(F243,0,1)","v":0},243,null,-0.12024048779999985,{"$f":"[1]!XLSTAT_PDFNormal(K243,0,1)","v":0.39606877021033793},243,null,3,11]
[244,2.9473414084999998,2.9473414084999998,{"$f":"[1]!XLSTAT_PDFNormal(B244,0,1)","v":5.1831141176504657E-3},244,-3.0126225760000001,-3.0126225760000001,{"$f":"[1]!XLSTAT_PDFNormal(F244,0,1)","v":4.2668222782832341E-3},244,null,-0.10420842369999983,{"$f":"[1]!XLSTAT_PDFNormal(K244,0,1)","v":0.39678201448805089},244,null,4,11]
[245,2.9555015524999999,2.9555015524999999,{"$f":"[1]!XLSTAT_PDFNormal(B245,0,1)","v":5.0597750832583844E-3},245,-3.004462432,-3.004462432,{"$f":"[1]!XLSTAT_PDFNormal(F245,0,1)","v":4.3728697770469794E-3},245,null,-8.817635959999981E-2,{"$f":"[1]!XLSTAT_PDFNormal(K245,0,1)","v":0.39739438893584506},245,null,5,11]
[246,51,2.9555015524999999,{"$f":"[1]!XLSTAT_PDFNormal(B246,0,1)","v":0},246,51,-3.004462432,{"$f":"[1]!XLSTAT_PDFNormal(F246,0,1)","v":0},246,null,-7.2144295499999789E-2,{"$f":"[1]!XLSTAT_PDFNormal(K246,0,1)","v":0.39790542287996578},246,null,6,11]
[247,51,2.9636616965,{"$f":"[1]!XLSTAT_PDFNormal(B247,0,1)","v":0},247,51,-2.9963022879999999,{"$f":"[1]!XLSTAT_PDFNormal(F247,0,1)","v":0},247,null,-5.6112231400000212E-2,{"$f":"[1]!XLSTAT_PDFNormal(K247,0,1)","v":0.39831472316615624},247,null,7,11]
[248,2.9636616965,2.9636616965,{"$f":"[1]!XLSTAT_PDFNormal(B248,0,1)","v":4.9390421721691152E-3},248,-2.9963022879999999,-2.9963022879999999,{"$f":"[1]!XLSTAT_PDFNormal(F248,0,1)","v":4.4812545703156233E-3},248,null,-4.0080167300000191E-2,{"$f":"[1]!XLSTAT_PDFNormal(K248,0,1)","v":0.39862197466372323},248,null,8,11]
[249,2.9718218405000001,2.9718218405000001,{"$f":"[1]!XLSTAT_PDFNormal(B249,0,1)","v":4.820869085196763E-3},249,-2.9881421440000002,-2.9881421440000002,{"$f":"[1]!XLSTAT_PDFNormal(F249,0,1)","v":4.592019977014773E-3},249,null,-2.404810320000017E-2,{"$f":"[1]!XLSTAT_PDFNormal(K249,0,1)","v":0.39882694066988023},249,null,9,11]
[250,51,2.9718218405000001,{"$f":"[1]!XLSTAT_PDFNormal(B250,0,1)","v":0},250,51,-2.9881421440000002,{"$f":"[1]!XLSTAT_PDFNormal(F250,0,1)","v":0},250,null,-8.0160391000001496E-3,{"$f":"[1]!XLSTAT_PDFNormal(K250,0,1)","v":0.39892946321364359},250,null,10,11]
[251,51,2.9799819845000002,{"$f":"[1]!XLSTAT_PDFNormal(B251,0,1)","v":0},251,51,-2.9799820000000001,{"$f":"[1]!XLSTAT_PDFNormal(F251,0,1)","v":0},251,null,8.0160249999998712E-3,{"$f":"[1]!XLSTAT_PDFNormal(K251,0,1)","v":0.39892946325873302},251,null,11,11]
[252,2.9799819845000002,2.9799819845000002,{"$f":"[1]!XLSTAT_PDFNormal(B252,0,1)","v":4.7052101241946047E-3},252,-2.9799820000000001,-2.9799820000000001,{"$f":"[1]!XLSTAT_PDFNormal(F252,0,1)","v":4.7052099068622694E-3},252,null,2.4048089099999892E-2,{"$f":"[1]!XLSTAT_PDFNormal(K252,0,1)","v":0.39882694080511377},252,null,12,11]
[253,2.9881421284999998,2.9881421284999998,{"$f":"[1]!XLSTAT_PDFNormal(B253,0,1)","v":4.5920201896997139E-3},253,-2.971821856,-2.971821856,{"$f":"[1]!XLSTAT_PDFNormal(F253,0,1)","v":4.8208688631319304E-3},253,null,4.0080153199999913E-2,{"$f":"[1]!XLSTAT_PDFNormal(K253,0,1)","v":0.39862197488899653},253,null,13,11]
[254,51,2.9881421284999998,{"$f":"[1]!XLSTAT_PDFNormal(B254,0,1)","v":0},254,51,-2.971821856,{"$f":"[1]!XLSTAT_PDFNormal(F254,0,1)","v":0},254,null,5.6112217299999934E-2,{"$f":"[1]!XLSTAT_PDFNormal(K254,0,1)","v":0.39831472348129587},254,null,14,11]
[255,51,2.9963022724999999,{"$f":"[1]!XLSTAT_PDFNormal(B255,0,1)","v":0},255,51,-2.9636617120000004,{"$f":"[1]!XLSTAT_PDFNormal(F255,0,1)","v":0},255,null,7.2144281399999954E-2,{"$f":"[1]!XLSTAT_PDFNormal(K255,0,1)","v":0.39790542328472889},255,null,15,11]
[256,2.9963022724999999,2.9963022724999999,{"$f":"[1]!XLSTAT_PDFNormal(B256,0,1)","v":4.4812547784371243E-3},256,-2.9636617120000004,-2.9636617120000004,{"$f":"[1]!XLSTAT_PDFNormal(F256,0,1)","v":4.9390419452855381E-3},256,null,8.8176345499999975E-2,{"$f":"[1]!XLSTAT_PDFNormal(K256,0,1)","v":0.39739438942992017},256,null,16,11]
[257,{"$f":"IF(-1^(INT(A257/2)+2)>0,1.9599639845+2*INT(A257/2-1/2)*0.004080072,51)","v":3.0044624165},{"$f":"1.9599639845+2*INT(A257/2-1/2)*0.004080072","v":3.0044624165},{"$f":"[1]!XLSTAT_PDFNormal(B257,0,1)","v":4.3728699806878926E-3},257,{"$f":"IF(-1^(INT(E257/2)+2)>0,-4+2*INT(E257/2-1/2)*0.004080072,51)","v":-2.9555015679999999},{"$f":"-4+2*INT(E257/2-1/2)*0.004080072","v":-2.9555015679999999},{"$f":"[1]!XLSTAT_PDFNormal(F257,0,1)","v":5.0597748514687032E-3},257,null,{"$f":"-4+(I257-1)*0.0160320641","v":0.1042084096},{"$f":"[1]!XLSTAT_PDFNormal(K257,0,1)","v":0.39678201507105804},257,null,{"$f":"M257-24*INT((-1/2+M257)/24)","v":17},{"$f":"1+INT((M257-1/2)/24)","v":11}]
[258,51,3.0044624165,{"$f":"[1]!XLSTAT_PDFNormal(B258,0,1)","v":0},258,51,-2.9555015679999999,{"$f":"[1]!XLSTAT_PDFNormal(F258,0,1)","v":0},258,null,0.12024047370000002,{"$f":"[1]!XLSTAT_PDFNormal(K258,0,1)","v":0.39606877088182929},258,null,18,11]
[259,51,3.0126225605000001,{"$f":"[1]!XLSTAT_PDFNormal(B259,0,1)","v":0},259,51,-2.9473414240000002,{"$f":"[1]!XLSTAT_PDFNormal(F259,0,1)","v":0},259,null,0.13627253780000004,{"$f":"[1]!XLSTAT_PDFNormal(K259,0,1)","v":0.39525520445253609},259,null,19,11]
[260,3.0126225605000001,3.0126225605000001,{"$f":"[1]!XLSTAT_PDFNormal(B260,0,1)","v":4.2668224775252745E-3},260,-2.9473414240000002,-2.9473414240000002,{"$f":"[1]!XLSTAT_PDFNormal(F260,0,1)","v":5.18311388086616E-3},260,null,0.15230460190000006,{"$f":"[1]!XLSTAT_PDFNormal(K260,0,1)","v":0.3943419395894775},260,null,20,11]
[261,3.0207827045000002,3.0207827045000002,{"$f":"[1]!XLSTAT_PDFNormal(B261,0,1)","v":4.163069537923416E-3},261,-2.9391812800000001,-2.9391812800000001,{"$f":"[1]!XLSTAT_PDFNormal(F261,0,1)","v":5.3091059359122953E-3},261,null,0.16833666600000008,{"$f":"[1]!XLSTAT_PDFNormal(K261,0,1)","v":0.3933296755178487},261,null,21,11]
[262,51,3.0207827045000002,{"$f":"[1]!XLSTAT_PDFNormal(B262,0,1)","v":0},262,51,-2.9391812800000001,{"$f":"[1]!XLSTAT_PDFNormal(F262,0,1)","v":0},262,null,0.1843687301000001,{"$f":"[1]!XLSTAT_PDFNormal(K262,0,1)","v":0.39221918598958561},262,null,22,11]
[263,51,3.0289428484999998,{"$f":"[1]!XLSTAT_PDFNormal(B263,0,1)","v":0},263,51,-2.931021136,{"$f":"[1]!XLSTAT_PDFNormal(F263,0,1)","v":0},263,null,0.20040079420000012,{"$f":"[1]!XLSTAT_PDFNormal(K263,0,1)","v":0.39101131829774688},263,null,23,11]
[264,3.0289428484999998,3.0289428484999998,{"$f":"[1]!XLSTAT_PDFNormal(B264,0,1)","v":4.0615690157426903E-3},264,-2.931021136,-2.931021136,{"$f":"[1]!XLSTAT_PDFNormal(F264,0,1)","v":5.4377985243522732E-3},264,null,0.21643285830000014,{"$f":"[1]!XLSTAT_PDFNormal(K264,0,1)","v":0.3897069921991913},264,null,24,11]
[265,3.0371029924999999,3.0371029924999999,{"$f":"[1]!XLSTAT_PDFNormal(B265,0,1)","v":3.9622793465958744E-3},265,-2.9228609920000004,-2.9228609920000004,{"$f":"[1]!XLSTAT_PDFNormal(F265,0,1)","v":5.5692397611493789E-3},265,null,0.23246492240000016,{"$f":"[1]!XLSTAT_PDFNormal(K265,0,1)","v":0.3883071987474685},265,null,1,12]
[266,51,3.0371029924999999,{"$f":"[1]!XLSTAT_PDFNormal(B266,0,1)","v":0},266,51,-2.9228609920000004,{"$f":"[1]!XLSTAT_PDFNormal(F266,0,1)","v":0},266,null,0.24849698650000018,{"$f":"[1]!XLSTAT_PDFNormal(K266,0,1)","v":0.3868129990379951},266,null,2,12]
[267,51,3.0452631365,{"$f":"[1]!XLSTAT_PDFNormal(B267,0,1)","v":0},267,51,-2.9147008479999998,{"$f":"[1]!XLSTAT_PDFNormal(F267,0,1)","v":0},267,null,0.2645290506000002,{"$f":"[1]!XLSTAT_PDFNormal(K267,0,1)","v":0.38522552286774148},267,null,3,12]
[268,3.0452631365,3.0452631365,{"$f":"[1]!XLSTAT_PDFNormal(B268,0,1)","v":3.8651595445993885E-3},268,-2.9147008479999998,-2.9147008479999998,{"$f":"[1]!XLSTAT_PDFNormal(F268,0,1)","v":5.7034783702341347E-3},268,null,0.28056111470000022,{"$f":"[1]!XLSTAT_PDFNormal(K268,0,1)","v":0.38354596731179758},268,null,4,12]
[269,3.0534232805000001,3.0534232805000001,{"$f":"[1]!XLSTAT_PDFNormal(B269,0,1)","v":3.770169199013552E-3},269,-2.9065407040000002,-2.9065407040000002,{"$f":"[1]!XLSTAT_PDFNormal(F269,0,1)","v":5.8405636860904414E-3},269,null,0.29659317880000025,{"$f":"[1]!XLSTAT_PDFNormal(K269,0,1)","v":0.38177559521932847},269,null,5,12]
[270,51,3.0534232805000001,{"$f":"[1]!XLSTAT_PDFNormal(B270,0,1)","v":0},270,51,-2.9065407040000002,{"$f":"[1]!XLSTAT_PDFNormal(F270,0,1)","v":0},270,null,0.31262524290000027,{"$f":"[1]!XLSTAT_PDFNormal(K270,0,1)","v":0.37991573363156533},270,null,6,12]
[271,51,3.0615834245000002,{"$f":"[1]!XLSTAT_PDFNormal(B271,0,1)","v":0},271,51,-2.8983805600000001,{"$f":"[1]!XLSTAT_PDFNormal(F271,0,1)","v":0},271,null,0.32865730700000029,{"$f":"[1]!XLSTAT_PDFNormal(K271,0,1)","v":0.37796777212460347},271,null,7,12]
[272,3.0615834245000002,3.0615834245000002,{"$f":"[1]!XLSTAT_PDFNormal(B272,0,1)","v":3.6772684707759669E-3},272,-2.8983805600000001,-2.8983805600000001,{"$f":"[1]!XLSTAT_PDFNormal(F272,0,1)","v":5.9805456551744619E-3},272,null,0.34468937110000031,{"$f":"[1]!XLSTAT_PDFNormal(K272,0,1)","v":0.37593316107990576},272,null,8,12]
[273,3.0697435684999999,3.0697435684999999,{"$f":"[1]!XLSTAT_PDFNormal(B273,0,1)","v":3.5864180889320246E-3},273,-2.890220416,-2.890220416,{"$f":"[1]!XLSTAT_PDFNormal(F273,0,1)","v":6.1234748371612998E-3},273,null,0.36072143520000033,{"$f":"[1]!XLSTAT_PDFNormal(K273,0,1)","v":0.37381340988552159},273,null,9,12]
[274,51,3.0697435684999999,{"$f":"[1]!XLSTAT_PDFNormal(B274,0,1)","v":0},274,51,-2.890220416,{"$f":"[1]!XLSTAT_PDFNormal(F274,0,1)","v":0},274,null,0.37675349930000035,{"$f":"[1]!XLSTAT_PDFNormal(K274,0,1)","v":0.37161008507114429},274,null,10,12]
[275,51,3.0779037124999999,{"$f":"[1]!XLSTAT_PDFNormal(B275,0,1)","v":0},275,51,-2.8820602720000004,{"$f":"[1]!XLSTAT_PDFNormal(F275,0,1)","v":0},275,null,0.39278556340000037,{"$f":"[1]!XLSTAT_PDFNormal(K275,0,1)","v":0.3693248083802293},275,null,11,12]
[276,3.0779037124999999,3.0779037124999999,{"$f":"[1]!XLSTAT_PDFNormal(B276,0,1)","v":3.4975793469664107E-3},276,-2.8820602720000004,-2.8820602720000004,{"$f":"[1]!XLSTAT_PDFNormal(F276,0,1)","v":6.2694024060151394E-3},276,null,0.40881762750000039,{"$f":"[1]!XLSTAT_PDFNormal(K276,0,1)","v":0.36695925478249253},276,null,12,12]
[277,3.0860638565,3.0860638565,{"$f":"[1]!XLSTAT_PDFNormal(B277,0,1)","v":3.4107140990396125E-3},277,-2.8739001279999998,-2.8739001279999998,{"$f":"[1]!XLSTAT_PDFNormal(F277,0,1)","v":6.4183801508780353E-3},277,null,0.42484969160000041,{"$f":"[1]!XLSTAT_PDFNormal(K277,0,1)","v":0.36451515043019561},277,null,13,12]
[278,51,3.0860638565,{"$f":"[1]!XLSTAT_PDFNormal(B278,0,1)","v":0},278,51,-2.8739001279999998,{"$f":"[1]!XLSTAT_PDFNormal(F278,0,1)","v":0},278,null,0.44088175570000043,{"$f":"[1]!XLSTAT_PDFNormal(K278,0,1)","v":0.36199427056170408},278,null,14,12]
[279,51,3.0942240004999997,{"$f":"[1]!XLSTAT_PDFNormal(B279,0,1)","v":0},279,51,-2.8657399840000002,{"$f":"[1]!XLSTAT_PDFNormal(F279,0,1)","v":0},279,null,0.45691381979999957,{"$f":"[1]!XLSTAT_PDFNormal(K279,0,1)","v":0.3593984373558789},279,null,15,12]
[280,3.0942240004999997,3.0942240004999997,{"$f":"[1]!XLSTAT_PDFNormal(B280,0,1)","v":3.3257847561331123E-3},280,-2.8657399840000002,-2.8657399840000002,{"$f":"[1]!XLSTAT_PDFNormal(F280,0,1)","v":6.5704604767725374E-3},280,null,0.47294588389999959,{"$f":"[1]!XLSTAT_PDFNormal(K280,0,1)","v":0.35672951774092426},280,null,16,12]
[281,3.1023841445000002,3.1023841445000002,{"$f":"[1]!XLSTAT_PDFNormal(B281,0,1)","v":3.2427542821071246E-3},281,-2.8575798400000001,-2.8575798400000001,{"$f":"[1]!XLSTAT_PDFNormal(F281,0,1)","v":6.7256964051138068E-3},281,null,0.48897794799999961,{"$f":"[1]!XLSTAT_PDFNormal(K281,0,1)","v":0.35398942116137561},281,null,17,12]
[282,51,3.1023841445000002,{"$f":"[1]!XLSTAT_PDFNormal(B282,0,1)","v":0},282,51,-2.8575798400000001,{"$f":"[1]!XLSTAT_PDFNormal(F282,0,1)","v":0},282,null,0.50501001209999963,{"$f":"[1]!XLSTAT_PDFNormal(K282,0,1)","v":0.35118009730695521},282,null,18,12]
[283,51,3.1105442884999999,{"$f":"[1]!XLSTAT_PDFNormal(B283,0,1)","v":0},283,51,-2.849419696,{"$f":"[1]!XLSTAT_PDFNormal(F283,0,1)","v":0},283,null,0.52104207619999965,{"$f":"[1]!XLSTAT_PDFNormal(K283,0,1)","v":0.34830353380706947},283,null,19,12]
[284,3.1105442884999999,3.1105442884999999,{"$f":"[1]!XLSTAT_PDFNormal(B284,0,1)","v":3.161586189674691E-3},284,-2.849419696,-2.849419696,{"$f":"[1]!XLSTAT_PDFNormal(F284,0,1)","v":6.8841415740259863E-3},284,null,0.53707414029999967,{"$f":"[1]!XLSTAT_PDFNormal(K284,0,1)","v":0.3453617538947511},284,null,20,12]
[285,3.1187044325,3.1187044325,{"$f":"[1]!XLSTAT_PDFNormal(B285,0,1)","v":3.0822445362955783E-3},285,-2.8412595520000004,-2.8412595520000004,{"$f":"[1]!XLSTAT_PDFNormal(F285,0,1)","v":7.0458502384585526E-3},285,null,0.55310620439999969,{"$f":"[1]!XLSTAT_PDFNormal(K285,0,1)","v":0.34235681404387652},285,null,21,12]
[286,51,3.1187044325,{"$f":"[1]!XLSTAT_PDFNormal(B286,0,1)","v":0},286,51,-2.8412595520000004,{"$f":"[1]!XLSTAT_PDFNormal(F286,0,1)","v":0},286,null,0.56913826849999971,{"$f":"[1]!XLSTAT_PDFNormal(K286,0,1)","v":0.3392908015835055},286,null,22,12]
[287,51,3.1268645765,{"$f":"[1]!XLSTAT_PDFNormal(B287,0,1)","v":0},287,51,-2.8330994079999998,{"$f":"[1]!XLSTAT_PDFNormal(F287,0,1)","v":0},287,null,0.58517033259999973,{"$f":"[1]!XLSTAT_PDFNormal(K287,0,1)","v":0.3361658322931978},287,null,23,12]
[288,3.1268645765,3.1268645765,{"$f":"[1]!XLSTAT_PDFNormal(B288,0,1)","v":3.0046939199938599E-3},288,-2.8330994079999998,-2.8330994079999998,{"$f":"[1]!XLSTAT_PDFNormal(F288,0,1)","v":7.2108772700974905E-3},288,null,0.60120239669999975,{"$f":"[1]!XLSTAT_PDFNormal(K288,0,1)","v":0.33298404798316472},288,null,24,12]
[289,3.1350247204999997,3.1350247204999997,{"$f":"[1]!XLSTAT_PDFNormal(B289,0,1)","v":2.928899475102551E-3},289,-2.8249392640000002,-2.8249392640000002,{"$f":"[1]!XLSTAT_PDFNormal(F289,0,1)","v":7.3792781570666934E-3},289,null,0.61723446079999977,{"$f":"[1]!XLSTAT_PDFNormal(K289,0,1)","v":0.32974761406310416},289,null,1,13]
[290,51,3.1350247204999997,{"$f":"[1]!XLSTAT_PDFNormal(B290,0,1)","v":0},290,51,-2.8249392640000002,{"$f":"[1]!XLSTAT_PDFNormal(F290,0,1)","v":0},290,null,0.63326652489999979,{"$f":"[1]!XLSTAT_PDFNormal(K290,0,1)","v":0.32645871710355517},290,null,2,13]
[291,51,3.1431848645000002,{"$f":"[1]!XLSTAT_PDFNormal(B291,0,1)","v":0},291,51,-2.8167791200000001,{"$f":"[1]!XLSTAT_PDFNormal(F291,0,1)","v":0},291,null,0.64929858899999982,{"$f":"[1]!XLSTAT_PDFNormal(K291,0,1)","v":0.32311956239358491},291,null,3,13]
[292,3.1431848645000002,3.1431848645000002,{"$f":"[1]!XLSTAT_PDFNormal(B292,0,1)","v":2.8548268679388805E-3},292,-2.8167791200000001,-2.8167791200000001,{"$f":"[1]!XLSTAT_PDFNormal(F292,0,1)","v":7.5511090034148052E-3},292,null,0.66533065309999984,{"$f":"[1]!XLSTAT_PDFNormal(K292,0,1)","v":0.31973237149858941},292,null,4,13]
[293,3.1513450084999999,3.1513450084999999,{"$f":"[1]!XLSTAT_PDFNormal(B293,0,1)","v":2.7824422924136926E-3},293,-2.808618976,-2.808618976,{"$f":"[1]!XLSTAT_PDFNormal(F293,0,1)","v":7.7264265283824973E-3},293,null,0.68136271719999986,{"$f":"[1]!XLSTAT_PDFNormal(K293,0,1)","v":0.316299379821955},293,null,5,13]
[294,51,3.1513450084999999,{"$f":"[1]!XLSTAT_PDFNormal(B294,0,1)","v":0},294,51,-2.808618976,{"$f":"[1]!XLSTAT_PDFNormal(F294,0,1)","v":0},294,null,0.69739478129999988,{"$f":"[1]!XLSTAT_PDFNormal(K294,0,1)","v":0.31282283417427997},294,null,6,13]
[295,51,3.1595051525,{"$f":"[1]!XLSTAT_PDFNormal(B295,0,1)","v":0},295,51,-2.8004588320000003,{"$f":"[1]!XLSTAT_PDFNormal(F295,0,1)","v":0},295,null,0.7134268453999999,{"$f":"[1]!XLSTAT_PDFNormal(K295,0,1)","v":0.30930499035380549},295,null,7,13]
[296,3.1595051525,3.1595051525,{"$f":"[1]!XLSTAT_PDFNormal(B296,0,1)","v":2.7117124655782446E-3},296,-2.8004588320000003,-2.8004588320000003,{"$f":"[1]!XLSTAT_PDFNormal(F296,0,1)","v":7.9052880654455638E-3},296,null,0.72945890949999992,{"$f":"[1]!XLSTAT_PDFNormal(K296,0,1)","v":0.30574811074164532},296,null,8,13]
[297,3.1676652965000001,3.1676652965000001,{"$f":"[1]!XLSTAT_PDFNormal(B297,0,1)","v":2.6426046231118943E-3},297,-2.7922986879999998,-2.7922986879999998,{"$f":"[1]!XLSTAT_PDFNormal(F297,0,1)","v":8.0877515611289252E-3},297,null,0.74549097359999994,{"$f":"[1]!XLSTAT_PDFNormal(K297,0,1)","v":0.30215446191533968},297,null,9,13]
[298,51,3.1676652965000001,{"$f":"[1]!XLSTAT_PDFNormal(B298,0,1)","v":0},298,51,-2.7922986879999998,{"$f":"[1]!XLSTAT_PDFNormal(F298,0,1)","v":0},298,null,0.76152303769999996,{"$f":"[1]!XLSTAT_PDFNormal(K298,0,1)","v":0.2985263122841848},298,null,10,13]
[299,51,3.1758254404999997,{"$f":"[1]!XLSTAT_PDFNormal(B299,0,1)","v":0},299,51,-2.7841385440000002,{"$f":"[1]!XLSTAT_PDFNormal(F299,0,1)","v":0},299,null,0.77755510179999998,{"$f":"[1]!XLSTAT_PDFNormal(K299,0,1)","v":0.29486592974971265},299,null,11,13]
[300,3.1758254404999997,3.1758254404999997,{"$f":"[1]!XLSTAT_PDFNormal(B300,0,1)","v":2.5750865147538384E-3},300,-2.7841385440000002,-2.7841385440000002,{"$f":"[1]!XLSTAT_PDFNormal(F300,0,1)","v":8.2738755735865168E-3},300,null,0.7935871659,{"$f":"[1]!XLSTAT_PDFNormal(K300,0,1)","v":0.29117557939461203},300,null,12,13]
[301,3.1839855845000002,3.1839855845000002,{"$f":"[1]!XLSTAT_PDFNormal(B301,0,1)","v":2.5091263996821662E-3},301,-2.7759784000000001,-2.7759784000000001,{"$f":"[1]!XLSTAT_PDFNormal(F301,0,1)","v":8.4637192709426604E-3},301,null,0.80961923000000002,{"$f":"[1]!XLSTAT_PDFNormal(K301,0,1)","v":0.28745752120328921},301,null,13,13]
[302,51,3.1839855845000002,{"$f":"[1]!XLSTAT_PDFNormal(B302,0,1)","v":0},302,51,-2.7759784000000001,{"$f":"[1]!XLSTAT_PDFNormal(F302,0,1)","v":0},302,null,0.82565129410000004,{"$f":"[1]!XLSTAT_PDFNormal(K302,0,1)","v":0.28371400781717476},302,null,14,13]
[303,51,3.1921457284999999,{"$f":"[1]!XLSTAT_PDFNormal(B303,0,1)","v":0},303,51,-2.767818256,{"$f":"[1]!XLSTAT_PDFNormal(F303,0,1)","v":0},303,null,0.84168335820000006,{"$f":"[1]!XLSTAT_PDFNormal(K303,0,1)","v":0.27994728232778016},303,null,15,13]
[304,3.1921457284999999,3.1921457284999999,{"$f":"[1]!XLSTAT_PDFNormal(B304,0,1)","v":2.4446930418434488E-3},304,-2.767818256,-2.767818256,{"$f":"[1]!XLSTAT_PDFNormal(F304,0,1)","v":8.6573424293895449E-3},304,null,0.85771542230000009,{"$f":"[1]!XLSTAT_PDFNormal(K304,0,1)","v":0.27615957611040221},304,null,16,13]
[305,3.2003058725,3.2003058725,{"$f":"[1]!XLSTAT_PDFNormal(B305,0,1)","v":2.3817557052358252E-3},305,-2.7596581120000003,-2.7596581120000003,{"$f":"[1]!XLSTAT_PDFNormal(F305,0,1)","v":8.8548054310363718E-3},305,null,0.87374748640000011,{"$f":"[1]!XLSTAT_PDFNormal(K305,0,1)","v":0.2723531067012655},305,null,17,13]
[306,51,3.2003058725,{"$f":"[1]!XLSTAT_PDFNormal(B306,0,1)","v":0},306,51,-2.7596581120000003,{"$f":"[1]!XLSTAT_PDFNormal(F306,0,1)","v":0},306,null,0.88977955050000013,{"$f":"[1]!XLSTAT_PDFNormal(K306,0,1)","v":0.2685300757207757},306,null,18,13]
[307,51,3.2084660165000001,{"$f":"[1]!XLSTAT_PDFNormal(B307,0,1)","v":0},307,51,-2.7514979679999998,{"$f":"[1]!XLSTAT_PDFNormal(F307,0,1)","v":0},307,null,0.90581161460000015,{"$f":"[1]!XLSTAT_PDFNormal(K307,0,1)","v":0.26469266684544174},307,null,19,13]
[308,3.2084660165000001,3.2084660165000001,{"$f":"[1]!XLSTAT_PDFNormal(B308,0,1)","v":2.3202841491488115E-3},308,-2.7514979679999998,-2.7514979679999998,{"$f":"[1]!XLSTAT_PDFNormal(F308,0,1)","v":9.0561692615052387E-3},308,null,0.92184367870000017,{"$f":"[1]!XLSTAT_PDFNormal(K308,0,1)","v":0.26084304383089979},308,null,20,13]
[309,3.2166261604999997,3.2166261604999997,{"$f":"[1]!XLSTAT_PDFNormal(B309,0,1)","v":2.2602486233627016E-3},309,-2.7433378240000001,-2.7433378240000001,{"$f":"[1]!XLSTAT_PDFNormal(F309,0,1)","v":9.2614955072687008E-3},309,null,0.93787574280000019,{"$f":"[1]!XLSTAT_PDFNormal(K309,0,1)","v":0.2569833485883492},309,null,21,13]
[310,51,3.2166261604999997,{"$f":"[1]!XLSTAT_PDFNormal(B310,0,1)","v":0},310,51,-2.7433378240000001,{"$f":"[1]!XLSTAT_PDFNormal(F310,0,1)","v":0},310,null,0.95390780690000021,{"$f":"[1]!XLSTAT_PDFNormal(K310,0,1)","v":0.25311569931658129},310,null,22,13]
[311,51,3.2247863045000003,{"$f":"[1]!XLSTAT_PDFNormal(B311,0,1)","v":0},311,51,-2.7351776800000001,{"$f":"[1]!XLSTAT_PDFNormal(F311,0,1)","v":0},311,null,0.96993987100000023,{"$f":"[1]!XLSTAT_PDFNormal(K311,0,1)","v":0.24924218869165157},311,null,23,13]
[312,3.2247863045000003,3.2247863045000003,{"$f":"[1]!XLSTAT_PDFNormal(B312,0,1)","v":2.2016198633105096E-3},312,-2.7351776800000001,-2.7351776800000001,{"$f":"[1]!XLSTAT_PDFNormal(F312,0,1)","v":9.4708463527246982E-3},312,null,0.98597193510000025,{"$f":"[1]!XLSTAT_PDFNormal(K312,0,1)","v":0.24536488211611276},312,null,24,13]
[313,3.2329464484999999,3.2329464484999999,{"$f":"[1]!XLSTAT_PDFNormal(B313,0,1)","v":2.1443690852054127E-3},313,-2.727017536,-2.727017536,{"$f":"[1]!XLSTAT_PDFNormal(F313,0,1)","v":9.6842845770034377E-3},313,null,1.0020039992000003,{"$f":"[1]!XLSTAT_PDFNormal(K313,0,1)","v":0.24148581602959168},313,null,1,14]
[314,51,3.2329464484999999,{"$f":"[1]!XLSTAT_PDFNormal(B314,0,1)","v":0},314,51,-2.727017536,{"$f":"[1]!XLSTAT_PDFNormal(F314,0,1)","v":0},314,null,1.0180360633000003,{"$f":"[1]!XLSTAT_PDFNormal(K314,0,1)","v":0.23760699628235507},314,null,2,14]
[315,51,3.2411065925,{"$f":"[1]!XLSTAT_PDFNormal(B315,0,1)","v":0},315,51,-2.7188573920000003,{"$f":"[1]!XLSTAT_PDFNormal(F315,0,1)","v":0},315,null,1.0340681274000003,{"$f":"[1]!XLSTAT_PDFNormal(K315,0,1)","v":0.23373039657337358},315,null,3,14]
[316,3.2411065925,3.2411065925,{"$f":"[1]!XLSTAT_PDFNormal(B316,0,1)","v":2.088467981136352E-3},316,-2.7188573920000003,-2.7188573920000003,{"$f":"[1]!XLSTAT_PDFNormal(F316,0,1)","v":9.9018735505019793E-3},316,null,1.0501001915000003,{"$f":"[1]!XLSTAT_PDFNormal(K316,0,1)","v":0.22985795695425273},316,null,4,14]
[317,3.2492667365000001,3.2492667365000001,{"$f":"[1]!XLSTAT_PDFNormal(B317,0,1)","v":2.0338887141347298E-3},317,-2.7106972479999998,-2.7106972479999998,{"$f":"[1]!XLSTAT_PDFNormal(F317,0,1)","v":1.0123677231141515E-2},317,null,1.0661322556000004,{"$f":"[1]!XLSTAT_PDFNormal(K317,0,1)","v":0.22599158240026115},317,null,5,14]
[318,51,3.2492667365000001,{"$f":"[1]!XLSTAT_PDFNormal(B318,0,1)","v":0},318,51,-2.7106972479999998,{"$f":"[1]!XLSTAT_PDFNormal(F318,0,1)","v":0},318,null,1.0821643197000004,{"$f":"[1]!XLSTAT_PDFNormal(K318,0,1)","v":0.22213314144954688},318,null,6,14]
[319,51,3.2574268804999997,{"$f":"[1]!XLSTAT_PDFNormal(B319,0,1)","v":0},319,51,-2.7025371040000001,{"$f":"[1]!XLSTAT_PDFNormal(F319,0,1)","v":0},319,null,1.0981963838000004,{"$f":"[1]!XLSTAT_PDFNormal(K319,0,1)","v":0.21828446491149214},319,null,7,14]
[320,3.2574268804999997,3.2574268804999997,{"$f":"[1]!XLSTAT_PDFNormal(B320,0,1)","v":1.9806039132147578E-3},320,-2.7025371040000001,-2.7025371040000001,{"$f":"[1]!XLSTAT_PDFNormal(F320,0,1)","v":1.0349760160342466E-2},320,null,1.1142284479000004,{"$f":"[1]!XLSTAT_PDFNormal(K320,0,1)","v":0.21444734464501869},320,null,8,14]
[321,{"$f":"IF(-1^(INT(A321/2)+2)>0,1.9599639845+2*INT(A321/2-1/2)*0.004080072,51)","v":3.2655870245000003},{"$f":"1.9599639845+2*INT(A321/2-1/2)*0.004080072","v":3.2655870245000003},{"$f":"[1]!XLSTAT_PDFNormal(B321,0,1)","v":1.9285866683901628E-3},321,{"$f":"IF(-1^(INT(E321/2)+2)>0,-4+2*INT(E321/2-1/2)*0.004080072,51)","v":-2.69437696},{"$f":"-4+2*INT(E321/2-1/2)*0.004080072","v":-2.69437696},{"$f":"[1]!XLSTAT_PDFNormal(F321,0,1)","v":1.0580187458713175E-2},321,null,{"$f":"-4+(I321-1)*0.0160320641","v":1.1302605119999996},{"$f":"[1]!XLSTAT_PDFNormal(K321,0,1)","v":0.21062353240751738},321,null,{"$f":"M321-24*INT((-1/2+M321)/24)","v":9},{"$f":"1+INT((M321-1/2)/24)","v":14}]
[322,51,3.2655870245000003,{"$f":"[1]!XLSTAT_PDFNormal(B322,0,1)","v":0},322,51,-2.69437696,{"$f":"[1]!XLSTAT_PDFNormal(F322,0,1)","v":0},322,null,1.1462925760999996,{"$f":"[1]!XLSTAT_PDFNormal(K322,0,1)","v":0.20681473877493595},322,null,10,14]
[323,51,3.2737471684999999,{"$f":"[1]!XLSTAT_PDFNormal(B323,0,1)","v":0},323,51,-2.686216816,{"$f":"[1]!XLSTAT_PDFNormal(F323,0,1)","v":0},323,null,1.1623246401999996,{"$f":"[1]!XLSTAT_PDFNormal(K323,0,1)","v":0.20302263213342828},323,null,11,14]
[324,3.2737471684999999,3.2737471684999999,{"$f":"[1]!XLSTAT_PDFNormal(B324,0,1)","v":1.8778105256698598E-3},324,-2.686216816,-2.686216816,{"$f":"[1]!XLSTAT_PDFNormal(F324,0,1)","v":1.0815024821446877E-2},324,null,1.1783567042999996,{"$f":"[1]!XLSTAT_PDFNormal(K324,0,1)","v":0.19924883774282506},324,null,12,14]
[325,3.2819073125,3.2819073125,{"$f":"[1]!XLSTAT_PDFNormal(B325,0,1)","v":1.8282494820350092E-3},325,-2.6780566720000003,-2.6780566720000003,{"$f":"[1]!XLSTAT_PDFNormal(F325,0,1)","v":1.1054338513422834E-2},325,null,1.1943887683999996,{"$f":"[1]!XLSTAT_PDFNormal(K325,0,1)","v":0.1954949368720624},325,null,13,14]
[326,51,3.2819073125,{"$f":"[1]!XLSTAT_PDFNormal(B326,0,1)","v":0},326,51,-2.6780566720000003,{"$f":"[1]!XLSTAT_PDFNormal(F326,0,1)","v":0},326,null,1.2104208324999997,{"$f":"[1]!XLSTAT_PDFNormal(K326,0,1)","v":0.19176246600656696},326,null,14,14]
[327,51,3.2900674565000001,{"$f":"[1]!XLSTAT_PDFNormal(B327,0,1)","v":0},327,51,-2.6698965279999998,{"$f":"[1]!XLSTAT_PDFNormal(F327,0,1)","v":0},327,null,1.2264528965999997,{"$f":"[1]!XLSTAT_PDFNormal(K327,0,1)","v":0.18805291612747244},327,null,15,14]
[328,3.2900674565000001,3.2900674565000001,{"$f":"[1]!XLSTAT_PDFNormal(B328,0,1)","v":1.7798779804000736E-3},328,-2.6698965279999998,-2.6698965279999998,{"$f":"[1]!XLSTAT_PDFNormal(F328,0,1)","v":1.1298195364006754E-2},328,null,1.2424849606999997,{"$f":"[1]!XLSTAT_PDFNormal(K328,0,1)","v":0.18436773206241447},328,null,16,14]
[329,3.2982276004999997,3.2982276004999997,{"$f":"[1]!XLSTAT_PDFNormal(B329,0,1)","v":1.7326709045601557E-3},329,-2.6617363840000001,-2.6617363840000001,{"$f":"[1]!XLSTAT_PDFNormal(F329,0,1)","v":1.1546662761545886E-2},329,null,1.2585170247999997,{"$f":"[1]!XLSTAT_PDFNormal(K329,0,1)","v":0.18070831190752859},329,null,17,14]
[330,51,3.2982276004999997,{"$f":"[1]!XLSTAT_PDFNormal(B330,0,1)","v":0},330,51,-2.6617363840000001,{"$f":"[1]!XLSTAT_PDFNormal(F330,0,1)","v":0},330,null,1.2745490888999997,{"$f":"[1]!XLSTAT_PDFNormal(K330,0,1)","v":0.17707600652015704},330,null,18,14]
[331,51,3.3063877445000003,{"$f":"[1]!XLSTAT_PDFNormal(B331,0,1)","v":0},331,51,-2.65357624,{"$f":"[1]!XLSTAT_PDFNormal(F331,0,1)","v":0},331,null,1.2905811529999998,{"$f":"[1]!XLSTAT_PDFNormal(K331,0,1)","v":0.17347211908165294},331,null,19,14]
[332,3.3063877445000003,3.3063877445000003,{"$f":"[1]!XLSTAT_PDFNormal(B332,0,1)","v":1.6866035741270292E-3},332,-2.65357624,-2.65357624,{"$f":"[1]!XLSTAT_PDFNormal(F332,0,1)","v":1.1799808647554536E-2},332,null,1.3066132170999998,{"$f":"[1]!XLSTAT_PDFNormal(K332,0,1)","v":0.16989790472955832},332,null,20,14]
[333,3.3145478884999999,3.3145478884999999,{"$f":"[1]!XLSTAT_PDFNormal(B333,0,1)","v":1.6416517394561882E-3},333,-2.6454160959999999,-2.6454160959999999,{"$f":"[1]!XLSTAT_PDFNormal(F333,0,1)","v":1.2057701510585148E-2},333,null,1.3226452811999998,{"$f":"[1]!XLSTAT_PDFNormal(K333,0,1)","v":0.16635457025832281},333,null,21,14]
[334,51,3.3145478884999999,{"$f":"[1]!XLSTAT_PDFNormal(B334,0,1)","v":0},334,51,-2.6454160959999999,{"$f":"[1]!XLSTAT_PDFNormal(F334,0,1)","v":0},334,null,1.3386773452999998,{"$f":"[1]!XLSTAT_PDFNormal(K334,0,1)","v":0.16284327388762523},334,null,22,14]
[335,51,3.3227080325,{"$f":"[1]!XLSTAT_PDFNormal(B335,0,1)","v":0},335,51,-2.6372559520000003,{"$f":"[1]!XLSTAT_PDFNormal(F335,0,1)","v":0},335,null,1.3547094093999998,{"$f":"[1]!XLSTAT_PDFNormal(K335,0,1)","v":0.15936512509725864},335,null,23,14]
[336,3.3227080325,3.3227080325,{"$f":"[1]!XLSTAT_PDFNormal(B336,0,1)","v":1.5977915765670407E-3},336,-2.6372559520000003,-2.6372559520000003,{"$f":"[1]!XLSTAT_PDFNormal(F336,0,1)","v":1.2320410379780815E-2},336,null,1.3707414734999999,{"$f":"[1]!XLSTAT_PDFNormal(K336,0,1)","v":0.15592118452744272},336,null,24,14]
[337,3.3308681765000001,3.3308681765000001,{"$f":"[1]!XLSTAT_PDFNormal(B337,0,1)","v":1.5549996820585891E-3},337,-2.6290958080000002,-2.6290958080000002,{"$f":"[1]!XLSTAT_PDFNormal(F337,0,1)","v":1.2588004818104714E-2},337,null,1.3867735375999999,{"$f":"[1]!XLSTAT_PDFNormal(K337,0,1)","v":0.15251246394333495},337,null,1,15]
[338,51,3.3308681765000001,{"$f":"[1]!XLSTAT_PDFNormal(B338,0,1)","v":0},338,51,-2.6290958080000002,{"$f":"[1]!XLSTAT_PDFNormal(F338,0,1)","v":0},338,null,1.4028056016999999,{"$f":"[1]!XLSTAT_PDFNormal(K338,0,1)","v":0.14913992626242317},338,null,2,15]
[339,51,3.3390283204999998,{"$f":"[1]!XLSTAT_PDFNormal(B339,0,1)","v":0},339,51,-2.6209356640000001,{"$f":"[1]!XLSTAT_PDFNormal(F339,0,1)","v":0},339,null,1.4188376657999999,{"$f":"[1]!XLSTAT_PDFNormal(K339,0,1)","v":0.14580448564339987},339,null,3,15]
[340,3.3390283204999998,3.3390283204999998,{"$f":"[1]!XLSTAT_PDFNormal(B340,0,1)","v":1.5132530680225739E-3},340,-2.6209356640000001,-2.6209356640000001,{"$f":"[1]!XLSTAT_PDFNormal(F340,0,1)","v":1.2860554915242062E-2},340,null,1.4348697298999999,{"$f":"[1]!XLSTAT_PDFNormal(K340,0,1)","v":0.1425070076350376},340,null,4,15]
[341,3.3471884645000003,3.3471884645000003,{"$f":"[1]!XLSTAT_PDFNormal(B341,0,1)","v":1.4725291569562468E-3},341,-2.61277552,-2.61277552,{"$f":"[1]!XLSTAT_PDFNormal(F341,0,1)","v":1.3138131280170535E-2},341,null,1.450901794,{"$f":"[1]!XLSTAT_PDFNormal(K341,0,1)","v":0.13924830938351312},341,null,5,15]
[342,51,3.3471884645000003,{"$f":"[1]!XLSTAT_PDFNormal(B342,0,1)","v":0},342,51,-2.61277552,{"$f":"[1]!XLSTAT_PDFNormal(F342,0,1)","v":0},342,null,1.4669338581,{"$f":"[1]!XLSTAT_PDFNormal(K342,0,1)","v":0.1360291598965564},342,null,6,15]
[343,51,3.3553486084999999,{"$f":"[1]!XLSTAT_PDFNormal(B343,0,1)","v":0},343,51,-2.6046153759999999,{"$f":"[1]!XLSTAT_PDFNormal(F343,0,1)","v":0},343,null,1.4829659222,{"$f":"[1]!XLSTAT_PDFNormal(K343,0,1)","v":0.13285028036273691},343,null,7,15]
[344,3.3553486084999999,3.3553486084999999,{"$f":"[1]!XLSTAT_PDFNormal(B344,0,1)","v":1.4328057766767627E-3},344,-2.6046153759999999,-2.6046153759999999,{"$f":"[1]!XLSTAT_PDFNormal(F344,0,1)","v":1.3420805033394743E-2},344,null,1.4989979863,{"$f":"[1]!XLSTAT_PDFNormal(K344,0,1)","v":0.12971234452414054},344,null,8,15]
[345,3.3635087525,3.3635087525,{"$f":"[1]!XLSTAT_PDFNormal(B345,0,1)","v":1.3940611552391191E-3},345,-2.5964552320000003,-2.5964552320000003,{"$f":"[1]!XLSTAT_PDFNormal(F345,0,1)","v":1.3708647798840725E-2},345,null,1.5150300504000001,{"$f":"[1]!XLSTAT_PDFNormal(K345,0,1)","v":0.12661597910063421},345,null,9,15]
[346,51,3.3635087525,{"$f":"[1]!XLSTAT_PDFNormal(B346,0,1)","v":0},346,51,-2.5964552320000003,{"$f":"[1]!XLSTAT_PDFNormal(F346,0,1)","v":0},346,null,1.5310621145000001,{"$f":"[1]!XLSTAT_PDFNormal(K346,0,1)","v":0.1235617642638674},346,null,10,15]
[347,51,3.3716688965000001,{"$f":"[1]!XLSTAT_PDFNormal(B347,0,1)","v":0},347,51,-2.5882950880000002,{"$f":"[1]!XLSTAT_PDFNormal(F347,0,1)","v":0},347,null,1.5470941786000001,{"$f":"[1]!XLSTAT_PDFNormal(K347,0,1)","v":0.12055023415911269},347,null,11,15]
[348,3.3716688965000001,3.3716688965000001,{"$f":"[1]!XLSTAT_PDFNormal(B348,0,1)","v":1.3562739158596152E-3},348,-2.5882950880000002,-2.5882950880000002,{"$f":"[1]!XLSTAT_PDFNormal(F348,0,1)","v":1.4001731695406439E-2},348,null,1.5631262427000001,{"$f":"[1]!XLSTAT_PDFNormal(K348,0,1)","v":0.11758187747300967},348,null,12,15]
[349,3.3798290404999998,3.3798290404999998,{"$f":"[1]!XLSTAT_PDFNormal(B349,0,1)","v":1.3194230718466206E-3},349,-2.5801349440000001,-2.5801349440000001,{"$f":"[1]!XLSTAT_PDFNormal(F349,0,1)","v":1.4300129328164067E-2},349,null,1.5791583068000001,{"$f":"[1]!XLSTAT_PDFNormal(K349,0,1)","v":0.11465713804523947},349,null,13,15]
[350,51,3.3798290404999998,{"$f":"[1]!XLSTAT_PDFNormal(B350,0,1)","v":0},350,51,-2.5801349440000001,{"$f":"[1]!XLSTAT_PDFNormal(F350,0,1)","v":0},350,null,1.5951903709000002,{"$f":"[1]!XLSTAT_PDFNormal(K350,0,1)","v":0.11177641552212854},350,null,14,15]
[351,51,3.3879891845000003,{"$f":"[1]!XLSTAT_PDFNormal(B351,0,1)","v":0},351,51,-2.5719748,{"$f":"[1]!XLSTAT_PDFNormal(F351,0,1)","v":0},351,null,1.6112224350000002,{"$f":"[1]!XLSTAT_PDFNormal(K351,0,1)","v":0.10894006605015367},351,null,15,15]
[352,3.3879891845000003,3.3879891845000003,{"$f":"[1]!XLSTAT_PDFNormal(B352,0,1)","v":1.2834880215404738E-3},352,-2.5719748,-2.5719748,{"$f":"[1]!XLSTAT_PDFNormal(F352,0,1)","v":1.4603913779210475E-2},352,null,1.6272544991000002,{"$f":"[1]!XLSTAT_PDFNormal(K352,0,1)","v":0.10614840300730032},352,null,16,15]
[353,3.3961493285,3.3961493285,{"$f":"[1]!XLSTAT_PDFNormal(B353,0,1)","v":1.2484485432643047E-3},353,-2.5638146559999999,-2.5638146559999999,{"$f":"[1]!XLSTAT_PDFNormal(F353,0,1)","v":1.4913158598161846E-2},353,null,1.6432865632000002,{"$f":"[1]!XLSTAT_PDFNormal(K353,0,1)","v":0.10340169777020965},353,null,17,15]
[354,51,3.3961493285,{"$f":"[1]!XLSTAT_PDFNormal(B354,0,1)","v":0},354,51,-2.5638146559999999,{"$f":"[1]!XLSTAT_PDFNormal(F354,0,1)","v":0},354,null,1.6593186273000002,{"$f":"[1]!XLSTAT_PDFNormal(K354,0,1)","v":0.10070018051503912},354,null,18,15]
[355,51,3.4043094725,{"$f":"[1]!XLSTAT_PDFNormal(B355,0,1)","v":0},355,51,-2.5556545120000003,{"$f":"[1]!XLSTAT_PDFNormal(F355,0,1)","v":0},355,null,1.6753506914000003,{"$f":"[1]!XLSTAT_PDFNormal(K355,0,1)","v":9.8044041049953359E-2},355,null,19,15]
[356,3.4043094725,3.4043094725,{"$f":"[1]!XLSTAT_PDFNormal(B356,0,1)","v":1.2142847902873635E-3},356,-2.5556545120000003,-2.5556545120000003,{"$f":"[1]!XLSTAT_PDFNormal(F356,0,1)","v":1.5227937792288737E-2},356,null,1.6913827555000003,{"$f":"[1]!XLSTAT_PDFNormal(K356,0,1)","v":9.5433429677160536E-2},356,null,20,15]
[357,3.4124696165000001,3.4124696165000001,{"$f":"[1]!XLSTAT_PDFNormal(B357,0,1)","v":1.1809772858026324E-3},357,-2.5474943680000002,-2.5474943680000002,{"$f":"[1]!XLSTAT_PDFNormal(F357,0,1)","v":1.5548325816288001E-2},357,null,1.7074148196000003,{"$f":"[1]!XLSTAT_PDFNormal(K357,0,1)","v":9.2868458082410829E-2},357,null,21,15]
[358,51,3.4124696165000001,{"$f":"[1]!XLSTAT_PDFNormal(B358,0,1)","v":0},358,51,-2.5474943680000002,{"$f":"[1]!XLSTAT_PDFNormal(F358,0,1)","v":0},358,null,1.7234468837000003,{"$f":"[1]!XLSTAT_PDFNormal(K358,0,1)","v":9.0349200249879164E-2},358,null,22,15]
[359,51,3.4206297604999998,{"$f":"[1]!XLSTAT_PDFNormal(B359,0,1)","v":0},359,51,-2.5393342240000001,{"$f":"[1]!XLSTAT_PDFNormal(F359,0,1)","v":0},359,null,1.7394789478000003,{"$f":"[1]!XLSTAT_PDFNormal(K359,0,1)","v":8.7875693400365329E-2},359,null,23,15]
[360,3.4206297604999998,3.4206297604999998,{"$f":"[1]!XLSTAT_PDFNormal(B360,0,1)","v":1.1485069179202039E-3},360,-2.5393342240000001,-2.5393342240000001,{"$f":"[1]!XLSTAT_PDFNormal(F360,0,1)","v":1.5874397561687868E-2},360,null,1.7555110119000004,{"$f":"[1]!XLSTAT_PDFNormal(K360,0,1)","v":8.544793895075728E-2},360,null,24,15]
[361,3.4287899044999999,3.4287899044999999,{"$f":"[1]!XLSTAT_PDFNormal(B361,0,1)","v":1.1168549346780206E-3},361,-2.5311740800000004,-2.5311740800000004,{"$f":"[1]!XLSTAT_PDFNormal(F361,0,1)","v":1.6206228345882853E-2},361,null,1.7715430760000004,{"$f":"[1]!XLSTAT_PDFNormal(K361,0,1)","v":8.3065903492722415E-2},361,null,1,16]
[362,51,3.4287899044999999,{"$f":"[1]!XLSTAT_PDFNormal(B362,0,1)","v":0},362,51,-2.5311740800000004,{"$f":"[1]!XLSTAT_PDFNormal(F362,0,1)","v":0},362,null,1.7875751401000004,{"$f":"[1]!XLSTAT_PDFNormal(K362,0,1)","v":8.0729519788611731E-2},362,null,2,16]
[363,51,3.4369500485,{"$f":"[1]!XLSTAT_PDFNormal(B363,0,1)","v":0},363,51,-2.5230139359999999,{"$f":"[1]!XLSTAT_PDFNormal(F363,0,1)","v":0},363,null,1.8036072042000004,{"$f":"[1]!XLSTAT_PDFNormal(K363,0,1)","v":7.843868778258789E-2},363,null,3,16]
[364,3.4369500485,3.4369500485,{"$f":"[1]!XLSTAT_PDFNormal(B364,0,1)","v":1.0860029390714558E-3},364,-2.5230139359999999,-2.5230139359999999,{"$f":"[1]!XLSTAT_PDFNormal(F364,0,1)","v":1.6543893900795185E-2},364,null,1.8196392682999996,{"$f":"[1]!XLSTAT_PDFNormal(K364,0,1)","v":7.6193275625015461E-2},364,null,4,16]
[365,3.4451101925000001,3.4451101925000001,{"$f":"[1]!XLSTAT_PDFNormal(B365,0,1)","v":1.0559328841031675E-3},365,-2.5148537920000003,-2.5148537920000003,{"$f":"[1]!XLSTAT_PDFNormal(F365,0,1)","v":1.6887470361159066E-2},365,null,1.8356713323999996,{"$f":"[1]!XLSTAT_PDFNormal(K365,0,1)","v":7.39931207081828E-2},365,null,5,16]
[366,51,3.4451101925000001,{"$f":"[1]!XLSTAT_PDFNormal(B366,0,1)","v":0},366,51,-2.5148537920000003,{"$f":"[1]!XLSTAT_PDFNormal(F366,0,1)","v":0},366,null,1.8517033964999996,{"$f":"[1]!XLSTAT_PDFNormal(K366,0,1)","v":7.183803071146172E-2},366,null,6,16]
[367,51,3.4532703365000001,{"$f":"[1]!XLSTAT_PDFNormal(B367,0,1)","v":0},367,51,-2.5066936480000002,{"$f":"[1]!XLSTAT_PDFNormal(F367,0,1)","v":0},367,null,1.8677354605999996,{"$f":"[1]!XLSTAT_PDFNormal(K367,0,1)","v":6.9727784654044445E-2},367,null,7,16]
[368,3.4532703365000001,3.4532703365000001,{"$f":"[1]!XLSTAT_PDFNormal(B368,0,1)","v":1.0266270678546254E-3},368,-2.5066936480000002,-2.5066936480000002,{"$f":"[1]!XLSTAT_PDFNormal(F368,0,1)","v":1.7237034252425433E-2},368,null,1.8837675246999996,{"$f":"[1]!XLSTAT_PDFNormal(K368,0,1)","v":6.7662133953441006E-2},368,null,8,16]
[369,3.4614304804999998,3.4614304804999998,{"$f":"[1]!XLSTAT_PDFNormal(B369,0,1)","v":9.9806812858064305E-4},369,-2.4985335040000001,-2.4985335040000001,{"$f":"[1]!XLSTAT_PDFNormal(F369,0,1)","v":1.7592662478283224E-2},369,null,1.8997995887999997,{"$f":"[1]!XLSTAT_PDFNormal(K369,0,1)","v":6.5640803487960989E-2},369,null,9,16]
[370,51,3.4614304804999998,{"$f":"[1]!XLSTAT_PDFNormal(B370,0,1)","v":0},370,51,-2.4985335040000001,{"$f":"[1]!XLSTAT_PDFNormal(F370,0,1)","v":0},370,null,1.9158316528999997,{"$f":"[1]!XLSTAT_PDFNormal(K370,0,1)","v":6.3663492661448509E-2},370,null,10,16]
[371,51,3.4695906244999999,{"$f":"[1]!XLSTAT_PDFNormal(B371,0,1)","v":0},371,51,-2.4903733600000004,{"$f":"[1]!XLSTAT_PDFNormal(F371,0,1)","v":0},371,null,1.9318637169999997,{"$f":"[1]!XLSTAT_PDFNormal(K371,0,1)","v":6.1729876468586707E-2},371,null,11,16]
[372,3.4695906244999999,3.4695906244999999,{"$f":"[1]!XLSTAT_PDFNormal(B372,0,1)","v":9.7023903982822288E-4},372,-2.4903733600000004,-2.4903733600000004,{"$f":"[1]!XLSTAT_PDFNormal(F372,0,1)","v":1.7954432307794966E-2},372,null,1.9478957810999997,{"$f":"[1]!XLSTAT_PDFNormal(K372,0,1)","v":5.9839606559137018E-2},372,null,12,16]
[373,3.4777507685,3.4777507685,{"$f":"[1]!XLSTAT_PDFNormal(B373,0,1)","v":9.4312310558096728E-4},373,-2.4822132159999999,-2.4822132159999999,{"$f":"[1]!XLSTAT_PDFNormal(F373,0,1)","v":1.8322421362143678E-2},373,null,1.9639278451999997,{"$f":"[1]!XLSTAT_PDFNormal(K373,0,1)","v":5.7992312299529253E-2},373,null,13,16]
[374,51,3.4777507685,{"$f":"[1]!XLSTAT_PDFNormal(B374,0,1)","v":0},374,51,-2.4822132159999999,{"$f":"[1]!XLSTAT_PDFNormal(F374,0,1)","v":0},374,null,1.9799599092999998,{"$f":"[1]!XLSTAT_PDFNormal(K374,0,1)","v":5.6187601830271418E-2},374,null,14,16]
[375,51,3.4859109125000001,{"$f":"[1]!XLSTAT_PDFNormal(B375,0,1)","v":0},375,51,-2.4740530720000002,{"$f":"[1]!XLSTAT_PDFNormal(F375,0,1)","v":0},375,null,1.9959919733999998,{"$f":"[1]!XLSTAT_PDFNormal(K375,0,1)","v":5.4425063117701844E-2},375,null,15,16]
[376,3.4859109125000001,3.4859109125000001,{"$f":"[1]!XLSTAT_PDFNormal(B376,0,1)","v":9.1670395543022706E-4},376,-2.4740530720000002,-2.4740530720000002,{"$f":"[1]!XLSTAT_PDFNormal(F376,0,1)","v":1.8696707600987985E-2},376,null,2.0120240374999998,{"$f":"[1]!XLSTAT_PDFNormal(K376,0,1)","v":5.2704264998662112E-2},376,null,16,16]
[377,3.4940710565000002,3.4940710565000002,{"$f":"[1]!XLSTAT_PDFNormal(B377,0,1)","v":8.9096553977417866E-4},377,-2.4658929280000002,-2.4658929280000002,{"$f":"[1]!XLSTAT_PDFNormal(F377,0,1)","v":1.9077369308423891E-2},377,null,2.0280561015999998,{"$f":"[1]!XLSTAT_PDFNormal(K377,0,1)","v":5.1024758216725571E-2},377,null,17,16]
[378,51,3.4940710565000002,{"$f":"[1]!XLSTAT_PDFNormal(B378,0,1)","v":0},378,51,-2.4658929280000002,{"$f":"[1]!XLSTAT_PDFNormal(F378,0,1)","v":0},378,null,2.0440881656999998,{"$f":"[1]!XLSTAT_PDFNormal(K378,0,1)","v":4.9386076448673891E-2},378,null,18,16]
[379,51,3.5022312004999998,{"$f":"[1]!XLSTAT_PDFNormal(B379,0,1)","v":0},379,51,-2.4577327840000001,{"$f":"[1]!XLSTAT_PDFNormal(F379,0,1)","v":0},379,null,2.0601202297999999,{"$f":"[1]!XLSTAT_PDFNormal(K379,0,1)","v":4.7787737319972559E-2},379,null,19,16]
[380,3.5022312004999998,3.5022312004999998,{"$f":"[1]!XLSTAT_PDFNormal(B380,0,1)","v":8.6589212504592419E-4},380,-2.4577327840000001,-2.4577327840000001,{"$f":"[1]!XLSTAT_PDFNormal(F380,0,1)","v":1.9464485078549552E-2},380,null,2.0761522938999999,{"$f":"[1]!XLSTAT_PDFNormal(K380,0,1)","v":4.6229243408055232E-2},380,null,20,16]
[381,3.5103913444999999,3.5103913444999999,{"$f":"[1]!XLSTAT_PDFNormal(B381,0,1)","v":8.4146828897167607E-4},381,-2.4495726400000004,-2.4495726400000004,{"$f":"[1]!XLSTAT_PDFNormal(F381,0,1)","v":1.9858133800631905E-2},381,null,2.0921843579999999,{"$f":"[1]!XLSTAT_PDFNormal(K381,0,1)","v":4.4710083232286764E-2},381,null,21,16]
[382,51,3.5103913444999999,{"$f":"[1]!XLSTAT_PDFNormal(B382,0,1)","v":0},382,51,-2.4495726400000004,{"$f":"[1]!XLSTAT_PDFNormal(F382,0,1)","v":0},382,null,2.1082164220999999,{"$f":"[1]!XLSTAT_PDFNormal(K382,0,1)","v":4.3229732229534475E-2},382,null,22,16]
[383,51,3.5185514885,{"$f":"[1]!XLSTAT_PDFNormal(B383,0,1)","v":0},383,51,-2.4414124959999999,{"$f":"[1]!XLSTAT_PDFNormal(F383,0,1)","v":0},383,null,2.1242484862,{"$f":"[1]!XLSTAT_PDFNormal(K383,0,1)","v":4.1787653714337458E-2},383,null,23,16]
[384,3.5185514885,3.5185514885,{"$f":"[1]!XLSTAT_PDFNormal(B384,0,1)","v":8.176789158600645E-4},384,-2.4414124959999999,-2.4414124959999999,{"$f":"[1]!XLSTAT_PDFNormal(F384,0,1)","v":2.0258394643872343E-2},384,null,2.1402805503,{"$f":"[1]!XLSTAT_PDFNormal(K384,0,1)","v":4.0383299822724344E-2},384,null,24,16]
[385,{"$f":"IF(-1^(INT(A385/2)+2)>0,1.9599639845+2*INT(A385/2-1/2)*0.004080072,51)","v":3.5267116324999996},{"$f":"1.9599639845+2*INT(A385/2-1/2)*0.004080072","v":3.5267116324999996},{"$f":"[1]!XLSTAT_PDFNormal(B385,0,1)","v":7.9450919192353598E-4},385,{"$f":"IF(-1^(INT(E385/2)+2)>0,-4+2*INT(E385/2-1/2)*0.004080072,51)","v":-2.4332523520000002},{"$f":"-4+2*INT(E385/2-1/2)*0.004080072","v":-2.4332523520000002},{"$f":"[1]!XLSTAT_PDFNormal(F385,0,1)","v":2.0665347041769477E-2},385,null,{"$f":"-4+(I385-1)*0.0160320641","v":2.1563126144},{"$f":"[1]!XLSTAT_PDFNormal(K385,0,1)","v":3.9016112438789587E-2},385,null,{"$f":"M385-24*INT((-1/2+M385)/24)","v":1},{"$f":"1+INT((M385-1/2)/24)","v":17}]
[386,51,3.5267116324999996,{"$f":"[1]!XLSTAT_PDFNormal(B386,0,1)","v":0},386,51,-2.4332523520000002,{"$f":"[1]!XLSTAT_PDFNormal(F386,0,1)","v":0},386,null,2.1723446785,{"$f":"[1]!XLSTAT_PDFNormal(K386,0,1)","v":3.7685524103199336E-2},386,null,2,17]
[387,51,3.5348717765000002,{"$f":"[1]!XLSTAT_PDFNormal(B387,0,1)","v":0},387,51,-2.4250922080000001,{"$f":"[1]!XLSTAT_PDFNormal(F387,0,1)","v":0},387,null,2.1883767426,{"$f":"[1]!XLSTAT_PDFNormal(K387,0,1)","v":3.6390958902856423E-2},387,null,3,17]
[388,3.5348717765000002,3.5348717765000002,{"$f":"[1]!XLSTAT_PDFNormal(B388,0,1)","v":7.7194460063277355E-4},388,-2.4250922080000001,-2.4250922080000001,{"$f":"[1]!XLSTAT_PDFNormal(F388,0,1)","v":2.1079070676077782E-2},388,null,2.2044088067000001,{"$f":"[1]!XLSTAT_PDFNormal(K388,0,1)","v":3.5131833341014648E-2},388,null,4,17]
[389,3.5430319204999998,3.5430319204999998,{"$f":"[1]!XLSTAT_PDFNormal(B389,0,1)","v":7.499709181050671E-4},389,-2.416932064,-2.416932064,{"$f":"[1]!XLSTAT_PDFNormal(F389,0,1)","v":2.1499645460359484E-2},389,null,2.2204408708000001,{"$f":"[1]!XLSTAT_PDFNormal(K389,0,1)","v":3.3907557187189942E-2},389,null,5,17]
[390,51,3.5430319204999998,{"$f":"[1]!XLSTAT_PDFNormal(B390,0,1)","v":0},390,51,-2.416932064,{"$f":"[1]!XLSTAT_PDFNormal(F390,0,1)","v":0},390,null,2.2364729349000001,{"$f":"[1]!XLSTAT_PDFNormal(K390,0,1)","v":3.2717534306275067E-2},390,null,6,17]
[391,51,3.5511920644999999,{"$f":"[1]!XLSTAT_PDFNormal(B391,0,1)","v":0},391,51,-2.4087719200000004,{"$f":"[1]!XLSTAT_PDFNormal(F391,0,1)","v":0},391,null,2.2525049990000001,{"$f":"[1]!XLSTAT_PDFNormal(K391,0,1)","v":3.1561163466321138E-2},391,null,7,17]
[392,3.5511920644999999,3.5511920644999999,{"$f":"[1]!XLSTAT_PDFNormal(B392,0,1)","v":7.2857420852743529E-4},392,-2.4087719200000004,-2.4087719200000004,{"$f":"[1]!XLSTAT_PDFNormal(F392,0,1)","v":2.1927151523128945E-2},392,null,2.2685370631000001,{"$f":"[1]!XLSTAT_PDFNormal(K392,0,1)","v":3.0437839124505647E-2},392,null,8,17]
[393,3.5593522085,3.5593522085,{"$f":"[1]!XLSTAT_PDFNormal(B393,0,1)","v":7.0774081961536895E-4},393,-2.4006117759999999,-2.4006117759999999,{"$f":"[1]!XLSTAT_PDFNormal(F393,0,1)","v":2.2361669190587928E-2},393,null,2.2845691272000002,{"$f":"[1]!XLSTAT_PDFNormal(K393,0,1)","v":2.9346952190862186E-2},393,null,9,17]
[394,51,3.5593522085,{"$f":"[1]!XLSTAT_PDFNormal(B394,0,1)","v":0},394,51,-2.4006117759999999,{"$f":"[1]!XLSTAT_PDFNormal(F394,0,1)","v":0},394,null,2.3006011913000002,{"$f":"[1]!XLSTAT_PDFNormal(K394,0,1)","v":2.8287890769401271E-2},394,null,10,17]
[395,51,3.5675123524999997,{"$f":"[1]!XLSTAT_PDFNormal(B395,0,1)","v":0},395,51,-2.3924516320000002,{"$f":"[1]!XLSTAT_PDFNormal(F395,0,1)","v":0},395,null,2.3166332554000002,{"$f":"[1]!XLSTAT_PDFNormal(K395,0,1)","v":2.7260040876304601E-2},395,null,11,17]
[396,3.5675123524999997,3.5675123524999997,{"$f":"[1]!XLSTAT_PDFNormal(B396,0,1)","v":6.8745737810793519E-4},396,-2.3924516320000002,-2.3924516320000002,{"$f":"[1]!XLSTAT_PDFNormal(F396,0,1)","v":2.2803278968950205E-2},396,null,2.3326653195000002,{"$f":"[1]!XLSTAT_PDFNormal(K396,0,1)","v":2.6262787134927065E-2},396,null,12,17]
[397,3.5756724965000002,3.5756724965000002,{"$f":"[1]!XLSTAT_PDFNormal(B397,0,1)","v":6.6771078529998548E-4},397,-2.3842914880000001,-2.3842914880000001,{"$f":"[1]!XLSTAT_PDFNormal(F397,0,1)","v":2.3252061526355318E-2},397,null,2.3486973836000002,{"$f":"[1]!XLSTAT_PDFNormal(K397,0,1)","v":2.5295513447391348E-2},397,null,13,17]
[398,51,3.5756724965000002,{"$f":"[1]!XLSTAT_PDFNormal(B398,0,1)","v":0},398,51,-2.3842914880000001,{"$f":"[1]!XLSTAT_PDFNormal(F398,0,1)","v":0},398,null,2.3647294477000003,{"$f":"[1]!XLSTAT_PDFNormal(K398,0,1)","v":2.435760364260894E-2},398,null,14,17]
[399,51,3.5838326404999998,{"$f":"[1]!XLSTAT_PDFNormal(B399,0,1)","v":0},399,51,-2.376131344,{"$f":"[1]!XLSTAT_PDFNormal(F399,0,1)","v":0},399,null,2.3807615118000003,{"$f":"[1]!XLSTAT_PDFNormal(K399,0,1)","v":2.3448442100609236E-2},399,null,15,17]
[400,3.5838326404999998,3.5838326404999998,{"$f":"[1]!XLSTAT_PDFNormal(B400,0,1)","v":6.4848821261218395E-4},400,-2.376131344,-2.376131344,{"$f":"[1]!XLSTAT_PDFNormal(F400,0,1)","v":2.3708097674369578E-2},400,null,2.3967935759000003,{"$f":"[1]!XLSTAT_PDFNormal(K400,0,1)","v":2.2567414353104425E-2},400,null,16,17]
[401,3.5919927844999999,3.5919927844999999,{"$f":"[1]!XLSTAT_PDFNormal(B401,0,1)","v":6.2977709719948065E-4},401,-2.3679712000000004,-2.3679712000000004,{"$f":"[1]!XLSTAT_PDFNormal(F401,0,1)","v":2.4171468349074444E-2},401,null,2.4128256400000003,{"$f":"[1]!XLSTAT_PDFNormal(K401,0,1)","v":2.1713907660262634E-2},401,null,17,17]
[402,51,3.5919927844999999,{"$f":"[1]!XLSTAT_PDFNormal(B402,0,1)","v":0},402,51,-2.3679712000000004,{"$f":"[1]!XLSTAT_PDFNormal(F402,0,1)","v":0},402,null,2.4288577041000003,{"$f":"[1]!XLSTAT_PDFNormal(K402,0,1)","v":2.0887311563704571E-2},402,null,18,17]
[403,51,3.6001529285,{"$f":"[1]!XLSTAT_PDFNormal(B403,0,1)","v":0},403,51,-2.3598110559999999,{"$f":"[1]!XLSTAT_PDFNormal(F403,0,1)","v":0},403,null,2.4448897682000004,{"$f":"[1]!XLSTAT_PDFNormal(K403,0,1)","v":2.0087018415780641E-2},403,null,19,17]
[404,3.6001529285,3.6001529285,{"$f":"[1]!XLSTAT_PDFNormal(B404,0,1)","v":6.1156513759869828E-4},404,-2.3598110559999999,-2.3598110559999999,{"$f":"[1]!XLSTAT_PDFNormal(F404,0,1)","v":2.4642254591741637E-2},404,null,2.4609218323000004,{"$f":"[1]!XLSTAT_PDFNormal(K404,0,1)","v":1.9312423885224885E-2},404,null,20,17]
[405,3.6083130724999997,3.6083130724999997,{"$f":"[1]!XLSTAT_PDFNormal(B405,0,1)","v":5.9384028941578322E-4},405,-2.3516509120000002,-2.3516509120000002,{"$f":"[1]!XLSTAT_PDFNormal(F405,0,1)","v":2.5120537529093979E-2},405,null,2.4769538964000004,{"$f":"[1]!XLSTAT_PDFNormal(K405,0,1)","v":1.856292743932033E-2},405,null,21,17]
[406,51,3.6083130724999997,{"$f":"[1]!XLSTAT_PDFNormal(B406,0,1)","v":0},406,51,-2.3516509120000002,{"$f":"[1]!XLSTAT_PDFNormal(F406,0,1)","v":0},406,null,2.4929859605000004,{"$f":"[1]!XLSTAT_PDFNormal(K406,0,1)","v":1.7837932802746499E-2},406,null,22,17]
[407,51,3.6164732165000002,{"$f":"[1]!XLSTAT_PDFNormal(B407,0,1)","v":0},407,51,-2.3434907680000001,{"$f":"[1]!XLSTAT_PDFNormal(F407,0,1)","v":0},407,null,2.5090180245999996,{"$f":"[1]!XLSTAT_PDFNormal(K407,0,1)","v":1.7136848393314533E-2},407,null,23,17]
[408,3.6164732165000002,3.6164732165000002,{"$f":"[1]!XLSTAT_PDFNormal(B408,0,1)","v":5.7659076105329176E-4},408,-2.3434907680000001,-2.3434907680000001,{"$f":"[1]!XLSTAT_PDFNormal(F408,0,1)","v":2.5606398353153249E-2},408,null,2.5250500886999996,{"$f":"[1]!XLSTAT_PDFNormal(K408,0,1)","v":1.6459087734827925E-2},408,null,24,17]
[409,3.6246333604999998,3.6246333604999998,{"$f":"[1]!XLSTAT_PDFNormal(B409,0,1)","v":5.59805009478636E-4},409,-2.335330624,-2.335330624,{"$f":"[1]!XLSTAT_PDFNormal(F409,0,1)","v":2.6099918300673392E-2},409,null,2.5410821527999996,{"$f":"[1]!XLSTAT_PDFNormal(K409,0,1)","v":1.5804069847338585E-2},409,null,1,18]
[410,51,3.6246333604999998,{"$f":"[1]!XLSTAT_PDFNormal(B410,0,1)","v":0},410,51,-2.335330624,{"$f":"[1]!XLSTAT_PDFNormal(F410,0,1)","v":0},410,null,2.5571142168999996,{"$f":"[1]!XLSTAT_PDFNormal(K410,0,1)","v":1.5171219615096154E-2},410,null,2,18]
[411,51,3.6327935044999999,{"$f":"[1]!XLSTAT_PDFNormal(B411,0,1)","v":0},411,51,-2.3271704800000004,{"$f":"[1]!XLSTAT_PDFNormal(F411,0,1)","v":0},411,null,2.5731462809999996,{"$f":"[1]!XLSTAT_PDFNormal(K411,0,1)","v":1.4559968132517153E-2},411,null,3,18]
[412,3.6327935044999999,3.6327935044999999,{"$f":"[1]!XLSTAT_PDFNormal(B412,0,1)","v":5.4347173603354999E-4},412,-2.3271704800000004,-2.3271704800000004,{"$f":"[1]!XLSTAT_PDFNormal(F412,0,1)","v":2.6601178632160848E-2},412,null,2.5891783450999997,{"$f":"[1]!XLSTAT_PDFNormal(K412,0,1)","v":1.3969753028525761E-2},412,null,4,18]
[413,3.6409536485,3.6409536485,{"$f":"[1]!XLSTAT_PDFNormal(B413,0,1)","v":5.2757988228525833E-4},413,-2.3190103359999998,-2.3190103359999998,{"$f":"[1]!XLSTAT_PDFNormal(F413,0,1)","v":2.7110260610481673E-2},413,null,2.6052104091999997,{"$f":"[1]!XLSTAT_PDFNormal(K413,0,1)","v":1.3400018769642171E-2},413,null,5,18]
[414,51,3.6409536485,{"$f":"[1]!XLSTAT_PDFNormal(B414,0,1)","v":0},414,51,-2.3190103359999998,{"$f":"[1]!XLSTAT_PDFNormal(F414,0,1)","v":0},414,null,2.6212424732999997,{"$f":"[1]!XLSTAT_PDFNormal(K414,0,1)","v":1.2850216942216931E-2},414,null,6,18]
[415,51,3.6491137924999997,{"$f":"[1]!XLSTAT_PDFNormal(B415,0,1)","v":0},415,51,-2.3108501920000002,{"$f":"[1]!XLSTAT_PDFNormal(F415,0,1)","v":0},415,null,2.6372745373999997,{"$f":"[1]!XLSTAT_PDFNormal(K415,0,1)","v":1.2319806514230286E-2},415,null,7,18]
[416,3.6491137924999997,3.6491137924999997,{"$f":"[1]!XLSTAT_PDFNormal(B416,0,1)","v":5.1211862591974452E-4},416,-2.3108501920000002,-2.3108501920000002,{"$f":"[1]!XLSTAT_PDFNormal(F416,0,1)","v":2.7627245479055994E-2},416,null,2.6533066014999998,{"$f":"[1]!XLSTAT_PDFNormal(K416,0,1)","v":1.1808254077094377E-2},416,null,8,18]
[417,3.6572739365000002,3.6572739365000002,{"$f":"[1]!XLSTAT_PDFNormal(B417,0,1)","v":4.9707737667751379E-4},417,-2.3026900480000001,-2.3026900480000001,{"$f":"[1]!XLSTAT_PDFNormal(F417,0,1)","v":2.8152214439641585E-2},417,null,2.6693386655999998,{"$f":"[1]!XLSTAT_PDFNormal(K417,0,1)","v":1.1315034067913746E-2},417,null,9,18]
[418,51,3.6572739365000002,{"$f":"[1]!XLSTAT_PDFNormal(B418,0,1)","v":0},418,51,-2.3026900480000001,{"$f":"[1]!XLSTAT_PDFNormal(F418,0,1)","v":0},418,null,2.6853707296999998,{"$f":"[1]!XLSTAT_PDFNormal(K418,0,1)","v":1.0839628972674948E-2},418,null,10,18]
[419,51,3.6654340804999999,{"$f":"[1]!XLSTAT_PDFNormal(B419,0,1)","v":0},419,51,-2.294529904,{"$f":"[1]!XLSTAT_PDFNormal(F419,0,1)","v":0},419,null,2.7014027937999998,{"$f":"[1]!XLSTAT_PDFNormal(K419,0,1)","v":1.0381529510850463E-2},419,null,11,18]
[420,3.6654340804999999,3.6654340804999999,{"$f":"[1]!XLSTAT_PDFNormal(B420,0,1)","v":4.8244577233221952E-4},420,-2.294529904,-2.294529904,{"$f":"[1]!XLSTAT_PDFNormal(F420,0,1)","v":2.8685248629706381E-2},420,null,2.7174348578999998,{"$f":"[1]!XLSTAT_PDFNormal(K420,0,1)","v":9.9402348019144073E-3},420,null,12,18]
[421,3.6735942244999999,3.6735942244999999,{"$f":"[1]!XLSTAT_PDFNormal(B421,0,1)","v":4.6821367471245077E-4},421,-2.2863697600000004,-2.2863697600000004,{"$f":"[1]!XLSTAT_PDFNormal(F421,0,1)","v":2.9226429099392309E-2},421,null,2.7334669219999999,{"$f":"[1]!XLSTAT_PDFNormal(K421,0,1)","v":9.5152525142786614E-3},421,null,13,18]
[422,51,3.6735942244999999,{"$f":"[1]!XLSTAT_PDFNormal(B422,0,1)","v":0},422,51,-2.2863697600000004,{"$f":"[1]!XLSTAT_PDFNormal(F422,0,1)","v":0},422,null,2.7494989860999999,{"$f":"[1]!XLSTAT_PDFNormal(K422,0,1)","v":9.1060989971675551E-3},422,null,14,18]
[423,51,3.6817543685,{"$f":"[1]!XLSTAT_PDFNormal(B423,0,1)","v":0},423,51,-2.2782096159999998,{"$f":"[1]!XLSTAT_PDFNormal(F423,0,1)","v":0},423,null,2.7655310501999999,{"$f":"[1]!XLSTAT_PDFNormal(K423,0,1)","v":8.7122993959572667E-3},423,null,15,18]
[424,3.6817543685,3.6817543685,{"$f":"[1]!XLSTAT_PDFNormal(B424,0,1)","v":4.5437116576701537E-4},424,-2.2782096159999998,-2.2782096159999998,{"$f":"[1]!XLSTAT_PDFNormal(F424,0,1)","v":2.9775836788071528E-2},424,null,2.7815631142999999,{"$f":"[1]!XLSTAT_PDFNormal(K424,0,1)","v":8.3333877515128166E-3},424,null,16,18]
[425,3.6899145124999997,3.6899145124999997,{"$f":"[1]!XLSTAT_PDFNormal(B425,0,1)","v":4.4090854367396051E-4},425,-2.2700494720000002,-2.2700494720000002,{"$f":"[1]!XLSTAT_PDFNormal(F425,0,1)","v":3.0333552500496293E-2},425,null,2.7975951783999999,{"$f":"[1]!XLSTAT_PDFNormal(K425,0,1)","v":7.9689070840607938E-3},425,null,17,18]
[426,51,3.6899145124999997,{"$f":"[1]!XLSTAT_PDFNormal(B426,0,1)","v":0},426,51,-2.2700494720000002,{"$f":"[1]!XLSTAT_PDFNormal(F426,0,1)","v":0},426,null,2.8136272425,{"$f":"[1]!XLSTAT_PDFNormal(K426,0,1)","v":7.6184094621401062E-3},426,null,18,18]
[427,51,3.6980746565000002,{"$f":"[1]!XLSTAT_PDFNormal(B427,0,1)","v":0},427,51,-2.2618893280000001,{"$f":"[1]!XLSTAT_PDFNormal(F427,0,1)","v":0},427,null,2.8296593066,{"$f":"[1]!XLSTAT_PDFNormal(K427,0,1)","v":7.2814560571754991E-3},427,null,19,18]
[428,3.6980746565000002,3.6980746565000002,{"$f":"[1]!XLSTAT_PDFNormal(B428,0,1)","v":4.2781631899357881E-4},428,-2.2618893280000001,-2.2618893280000001,{"$f":"[1]!XLSTAT_PDFNormal(F428,0,1)","v":3.0899656882545833E-2},428,null,2.8456913707,{"$f":"[1]!XLSTAT_PDFNormal(K428,0,1)","v":6.9576171842205253E-3},428,null,20,18]
[429,3.7062348004999999,3.7062348004999999,{"$f":"[1]!XLSTAT_PDFNormal(B429,0,1)","v":4.150852108656253E-4},429,-2.253729184,-2.253729184,{"$f":"[1]!XLSTAT_PDFNormal(F429,0,1)","v":3.147423039657065E-2},429,null,2.8617234348,{"$f":"[1]!XLSTAT_PDFNormal(K429,0,1)","v":6.6464723294165457E-3},429,null,21,18]
[430,51,3.7062348004999999,{"$f":"[1]!XLSTAT_PDFNormal(B430,0,1)","v":0},430,51,-2.253729184,{"$f":"[1]!XLSTAT_PDFNormal(F430,0,1)","v":0},430,null,2.8777554989,{"$f":"[1]!XLSTAT_PDFNormal(K430,0,1)","v":6.3476101647140385E-3},430,null,22,18]
[431,51,3.7143949445,{"$f":"[1]!XLSTAT_PDFNormal(B431,0,1)","v":0},431,51,-2.2455690400000003,{"$f":"[1]!XLSTAT_PDFNormal(F431,0,1)","v":0},431,null,2.8937875630000001,{"$f":"[1]!XLSTAT_PDFNormal(K431,0,1)","v":6.0606285504003236E-3},431,null,23,18]
[432,3.7143949445,3.7143949445,{"$f":"[1]!XLSTAT_PDFNormal(B432,0,1)","v":4.0270614325090741E-4},432,-2.2455690400000003,-2.2455690400000003,{"$f":"[1]!XLSTAT_PDFNormal(F432,0,1)","v":3.2057353296337965E-2},432,null,2.9098196271000001,{"$f":"[1]!XLSTAT_PDFNormal(K432,0,1)","v":5.7851345259751418E-3},432,null,24,18]
[433,3.7225550885000001,3.7225550885000001,{"$f":"[1]!XLSTAT_PDFNormal(B433,0,1)","v":3.9067024121743922E-4},433,-2.2374088959999998,-2.2374088959999998,{"$f":"[1]!XLSTAT_PDFNormal(F433,0,1)","v":3.2649105601580644E-2},433,null,2.9258516912000001,{"$f":"[1]!XLSTAT_PDFNormal(K433,0,1)","v":5.520744289911797E-3},433,null,1,19]
[434,51,3.7225550885000001,{"$f":"[1]!XLSTAT_PDFNormal(B434,0,1)","v":0},434,51,-2.2374088959999998,{"$f":"[1]!XLSTAT_PDFNormal(F434,0,1)","v":0},434,null,2.9418837553000001,{"$f":"[1]!XLSTAT_PDFNormal(K434,0,1)","v":5.2670831688366769E-3},434,null,2,19]
[435,51,3.7307152324999997,{"$f":"[1]!XLSTAT_PDFNormal(B435,0,1)","v":0},435,51,-2.2292487520000002,{"$f":"[1]!XLSTAT_PDFNormal(F435,0,1)","v":0},435,null,2.9579158194000001,{"$f":"[1]!XLSTAT_PDFNormal(K435,0,1)","v":5.0237855766545984E-3},435,null,3,19]
[436,3.7307152324999997,3.7307152324999997,{"$f":"[1]!XLSTAT_PDFNormal(B436,0,1)","v":3.78968827271271E-4},436,-2.2292487520000002,-2.2292487520000002,{"$f":"[1]!XLSTAT_PDFNormal(F436,0,1)","v":3.3249567072151813E-2},436,null,2.9739478835000002,{"$f":"[1]!XLSTAT_PDFNormal(K436,0,1)","v":4.7904949641409391E-3},436,null,4,19]
[437,3.7388753765000002,3.7388753765000002,{"$f":"[1]!XLSTAT_PDFNormal(B437,0,1)","v":3.675934177321144E-4},437,-2.2210886080000001,-2.2210886080000001,{"$f":"[1]!XLSTAT_PDFNormal(F437,0,1)","v":3.3858817181789645E-2},437,null,2.9899799476000002,{"$f":"[1]!XLSTAT_PDFNormal(K437,0,1)","v":4.5668637595144747E-3},437,null,5,19]
[438,51,3.7388753765000002,{"$f":"[1]!XLSTAT_PDFNormal(B438,0,1)","v":0},438,51,-2.2210886080000001,{"$f":"[1]!XLSTAT_PDFNormal(F438,0,1)","v":0},438,null,3.0060120117000002,{"$f":"[1]!XLSTAT_PDFNormal(K438,0,1)","v":4.3525533004969263E-3},438,null,6,19]
[439,51,3.7470355204999999,{"$f":"[1]!XLSTAT_PDFNormal(B439,0,1)","v":0},439,51,-2.212928464,{"$f":"[1]!XLSTAT_PDFNormal(F439,0,1)","v":0},439,null,3.0220440758000002,{"$f":"[1]!XLSTAT_PDFNormal(K439,0,1)","v":4.1472337583568497E-3},439,null,7,19]
[440,3.7470355204999999,3.7470355204999999,{"$f":"[1]!XLSTAT_PDFNormal(B440,0,1)","v":3.5653571915386276E-4},440,-2.212928464,-2.212928464,{"$f":"[1]!XLSTAT_PDFNormal(F440,0,1)","v":3.4476935091494174E-2},440,null,3.0380761399000002,{"$f":"[1]!XLSTAT_PDFNormal(K440,0,1)","v":3.950584054426322E-3},440,null,8,19]
[441,3.7551956645,3.7551956645,{"$f":"[1]!XLSTAT_PDFNormal(B441,0,1)","v":3.4578762479004036E-4},441,-2.2047683200000003,-2.2047683200000003,{"$f":"[1]!XLSTAT_PDFNormal(F441,0,1)","v":3.510399962252081E-2},441,null,3.0541082040000003,{"$f":"[1]!XLSTAT_PDFNormal(K441,0,1)","v":3.7622917695692951E-3},441,null,9,19]
[442,51,3.7551956645,{"$f":"[1]!XLSTAT_PDFNormal(B442,0,1)","v":0},442,51,-2.2047683200000003,{"$f":"[1]!XLSTAT_PDFNormal(F442,0,1)","v":0},442,null,3.0701402681000003,{"$f":"[1]!XLSTAT_PDFNormal(K442,0,1)","v":3.5820530470703185E-3},442,null,10,19]
[443,51,3.7633558085000001,{"$f":"[1]!XLSTAT_PDFNormal(B443,0,1)","v":0},443,51,-2.1966081760000002,{"$f":"[1]!XLSTAT_PDFNormal(F443,0,1)","v":0},443,null,3.0861723322000003,{"$f":"[1]!XLSTAT_PDFNormal(K443,0,1)","v":3.4095724894017011E-3},443,null,11,19]
[444,3.7633558085000001,3.7633558085000001,{"$f":"[1]!XLSTAT_PDFNormal(B444,0,1)","v":3.3534121110425822E-4},444,-2.1966081760000002,-2.1966081760000002,{"$f":"[1]!XLSTAT_PDFNormal(F444,0,1)","v":3.574008922899418E-2},444,null,3.1022043963000003,{"$f":"[1]!XLSTAT_PDFNormal(K444,0,1)","v":3.2445630493161963E-3},444,null,12,19]
[445,3.7715159524999997,3.7715159524999997,{"$f":"[1]!XLSTAT_PDFNormal(B445,0,1)","v":3.2518873432567071E-4},445,-2.1884480320000002,-2.1884480320000002,{"$f":"[1]!XLSTAT_PDFNormal(F445,0,1)","v":3.6385281970145865E-2},445,null,3.1182364604000004,{"$f":"[1]!XLSTAT_PDFNormal(K445,0,1)","v":3.0867459157008746E-3},445,null,13,19]
[446,51,3.7715159524999997,{"$f":"[1]!XLSTAT_PDFNormal(B446,0,1)","v":0},446,51,-2.1884480320000002,{"$f":"[1]!XLSTAT_PDFNormal(F446,0,1)","v":0},446,null,3.1342685245000004,{"$f":"[1]!XLSTAT_PDFNormal(K446,0,1)","v":2.935850394616084E-3},446,null,14,19]
[447,51,3.7796760965000002,{"$f":"[1]!XLSTAT_PDFNormal(B447,0,1)","v":0},447,51,-2.1802878880000001,{"$f":"[1]!XLSTAT_PDFNormal(F447,0,1)","v":0},447,null,3.1503005886000004,{"$f":"[1]!XLSTAT_PDFNormal(K447,0,1)","v":2.791613785931481E-3},447,null,15,19]
[448,3.7796760965000002,3.7796760965000002,{"$f":"[1]!XLSTAT_PDFNormal(B448,0,1)","v":3.1532262704943629E-4},448,-2.1802878880000001,-2.1802878880000001,{"$f":"[1]!XLSTAT_PDFNormal(F448,0,1)","v":3.703965548218123E-2},448,null,3.1663326527000004,{"$f":"[1]!XLSTAT_PDFNormal(K448,0,1)","v":2.6537812559587499E-3},448,null,16,19]
[449,{"$f":"IF(-1^(INT(A449/2)+2)>0,1.9599639845+2*INT(A449/2-1/2)*0.004080072,51)","v":3.7878362404999999},{"$f":"1.9599639845+2*INT(A449/2-1/2)*0.004080072","v":3.7878362404999999},{"$f":"[1]!XLSTAT_PDFNormal(B449,0,1)","v":3.0573549488217616E-4},449,{"$f":"IF(-1^(INT(E449/2)+2)>0,-4+2*INT(E449/2-1/2)*0.004080072,51)","v":-2.172127744},{"$f":"-4+2*INT(E449/2-1/2)*0.004080072","v":-2.172127744},{"$f":"[1]!XLSTAT_PDFNormal(F449,0,1)","v":3.7703286949779355E-2},449,null,{"$f":"-4+(I449-1)*0.0160320641","v":3.1823647168000004},{"$f":"[1]!XLSTAT_PDFNormal(K449,0,1)","v":2.5221057064682192E-3},449,null,{"$f":"M449-24*INT((-1/2+M449)/24)","v":17},{"$f":"1+INT((M449-1/2)/24)","v":19}]
[450,51,3.7878362404999999,{"$f":"[1]!XLSTAT_PDFNormal(B450,0,1)","v":0},450,51,-2.172127744,{"$f":"[1]!XLSTAT_PDFNormal(F450,0,1)","v":0},450,null,3.1983967808999996,{"$f":"[1]!XLSTAT_PDFNormal(K450,0,1)","v":2.3963476404639862E-3},450,null,18,19]
[451,51,3.7959963845,{"$f":"[1]!XLSTAT_PDFNormal(B451,0,1)","v":0},451,51,-2.1639676000000003,{"$f":"[1]!XLSTAT_PDFNormal(F451,0,1)","v":0},451,null,3.2144288449999996,{"$f":"[1]!XLSTAT_PDFNormal(K451,0,1)","v":2.2762750250793018E-3},451,null,19,19]
[452,3.7959963845,3.7959963845,{"$f":"[1]!XLSTAT_PDFNormal(B452,0,1)","v":2.9642011313235964E-4},452,-2.1639676000000003,-2.1639676000000003,{"$f":"[1]!XLSTAT_PDFNormal(F452,0,1)","v":3.837625307723113E-2},452,null,3.2304609090999996,{"$f":"[1]!XLSTAT_PDFNormal(K452,0,1)","v":2.1616631519412633E-3},452,null,20,19]
[453,3.8041565285000001,3.8041565285000001,{"$f":"[1]!XLSTAT_PDFNormal(B453,0,1)","v":2.8736942354558434E-4},453,-2.1558074560000002,-2.1558074560000002,{"$f":"[1]!XLSTAT_PDFNormal(F453,0,1)","v":3.9058630059220785E-2},453,null,3.2464929731999996,{"$f":"[1]!XLSTAT_PDFNormal(K453,0,1)","v":2.0522944953407442E-3},453,null,21,19]
[454,51,3.8041565285000001,{"$f":"[1]!XLSTAT_PDFNormal(B454,0,1)","v":0},454,51,-2.1558074560000002,{"$f":"[1]!XLSTAT_PDFNormal(F454,0,1)","v":0},454,null,3.2625250372999997,{"$f":"[1]!XLSTAT_PDFNormal(K454,0,1)","v":1.947958568530754E-3},454,null,22,19]
[455,51,3.8123166724999997,{"$f":"[1]!XLSTAT_PDFNormal(B455,0,1)","v":0},455,51,-2.1476473120000001,{"$f":"[1]!XLSTAT_PDFNormal(F455,0,1)","v":0},455,null,3.2785571013999997,{"$f":"[1]!XLSTAT_PDFNormal(K455,0,1)","v":1.8484517784633175E-3},455,null,23,19]
[456,3.8123166724999997,3.8123166724999997,{"$f":"[1]!XLSTAT_PDFNormal(B456,0,1)","v":2.7857653108465222E-4},456,-2.1476473120000001,-2.1476473120000001,{"$f":"[1]!XLSTAT_PDFNormal(F456,0,1)","v":3.9750493551255775E-2},456,null,3.2945891654999997,{"$f":"[1]!XLSTAT_PDFNormal(K456,0,1)","v":1.753577279262138E-3},456,null,24,19]
[457,3.8204768165000003,3.8204768165000003,{"$f":"[1]!XLSTAT_PDFNormal(B457,0,1)","v":2.7003470075434664E-4},457,-2.1394871680000001,-2.1394871680000001,{"$f":"[1]!XLSTAT_PDFNormal(F457,0,1)","v":4.0451918639751318E-2},457,null,3.3106212295999997,{"$f":"[1]!XLSTAT_PDFNormal(K457,0,1)","v":1.6631448247154108E-3},457,null,1,20]
[458,51,3.8204768165000003,{"$f":"[1]!XLSTAT_PDFNormal(B458,0,1)","v":0},458,51,-2.1394871680000001,{"$f":"[1]!XLSTAT_PDFNormal(F458,0,1)","v":0},458,null,3.3266532936999997,{"$f":"[1]!XLSTAT_PDFNormal(K458,0,1)","v":1.5769706200603941E-3},458,null,2,20]
[459,51,3.8286369604999999,{"$f":"[1]!XLSTAT_PDFNormal(B459,0,1)","v":0},459,51,-2.131327024,{"$f":"[1]!XLSTAT_PDFNormal(F459,0,1)","v":0},459,null,3.3426853577999998,{"$f":"[1]!XLSTAT_PDFNormal(K459,0,1)","v":1.4948771733186827E-3},459,null,3,20]
[460,3.8286369604999999,3.8286369604999999,{"$f":"[1]!XLSTAT_PDFNormal(B460,0,1)","v":2.6173735447080449E-4},460,-2.131327024,-2.131327024,{"$f":"[1]!XLSTAT_PDFNormal(F460,0,1)","v":4.1162979811774941E-2},460,null,3.3587174218999998,{"$f":"[1]!XLSTAT_PDFNormal(K460,0,1)","v":1.4166931464285788E-3},460,null,4,20]
[461,3.8367971045,3.8367971045,{"$f":"[1]!XLSTAT_PDFNormal(B461,0,1)","v":2.5367806797533187E-4},461,-2.1231668800000003,-2.1231668800000003,{"$f":"[1]!XLSTAT_PDFNormal(F461,0,1)","v":4.1883750924457626E-2},461,null,3.3747494859999998,{"$f":"[1]!XLSTAT_PDFNormal(K461,0,1)","v":1.342253206408604E-3},461,null,5,20]
[462,51,3.8367971045,{"$f":"[1]!XLSTAT_PDFNormal(B462,0,1)","v":0},462,51,-2.1231668800000003,{"$f":"[1]!XLSTAT_PDFNormal(F462,0,1)","v":0},462,null,3.3907815500999998,{"$f":"[1]!XLSTAT_PDFNormal(K462,0,1)","v":1.2713978767739621E-3},462,null,6,20]
[463,51,3.8449572485000001,{"$f":"[1]!XLSTAT_PDFNormal(B463,0,1)","v":0},463,51,-2.1150067360000002,{"$f":"[1]!XLSTAT_PDFNormal(F463,0,1)","v":0},463,null,3.4068136141999998,{"$f":"[1]!XLSTAT_PDFNormal(K463,0,1)","v":1.2039733894157645E-3},463,null,7,20]
[464,3.8449572485000001,3.8449572485000001,{"$f":"[1]!XLSTAT_PDFNormal(B464,0,1)","v":2.4585056779253547E-4},464,-2.1150067360000002,-2.1150067360000002,{"$f":"[1]!XLSTAT_PDFNormal(F464,0,1)","v":4.2614305174077625E-2},464,null,3.4228456782999999,{"$f":"[1]!XLSTAT_PDFNormal(K464,0,1)","v":1.1398315371410051E-3},464,null,8,20]
[465,3.8531173924999997,3.8531173924999997,{"$f":"[1]!XLSTAT_PDFNormal(B465,0,1)","v":2.3824872823258783E-4},465,-2.1068465920000001,-2.1068465920000001,{"$f":"[1]!XLSTAT_PDFNormal(F465,0,1)","v":4.3354715064823905E-2},465,null,3.4388777423999999,{"$f":"[1]!XLSTAT_PDFNormal(K465,0,1)","v":1.0788295270597102E-3},465,null,9,20]
[466,51,3.8531173924999997,{"$f":"[1]!XLSTAT_PDFNormal(B466,0,1)","v":0},466,51,-2.1068465920000001,{"$f":"[1]!XLSTAT_PDFNormal(F466,0,1)","v":0},466,null,3.4549098064999999,{"$f":"[1]!XLSTAT_PDFNormal(K466,0,1)","v":1.0208298349943267E-3},466,null,10,20]
[467,51,3.8612775365000003,{"$f":"[1]!XLSTAT_PDFNormal(B467,0,1)","v":0},467,51,-2.098686448,{"$f":"[1]!XLSTAT_PDFNormal(F467,0,1)","v":0},467,null,3.4709418705999999,{"$f":"[1]!XLSTAT_PDFNormal(K467,0,1)","v":9.6570006107532774E-4},467,null,11,20]
[468,3.8612775365000003,3.8612775365000003,{"$f":"[1]!XLSTAT_PDFNormal(B468,0,1)","v":2.3086656843745372E-4},468,-2.098686448,-2.098686448,{"$f":"[1]!XLSTAT_PDFNormal(F468,0,1)","v":4.410505237724606E-2},468,null,3.4869739346999999,{"$f":"[1]!XLSTAT_PDFNormal(K468,0,1)","v":9.133127866761719E-4},468,null,12,20]
[469,3.8694376804999999,3.8694376804999999,{"$f":"[1]!XLSTAT_PDFNormal(B469,0,1)","v":2.2369824947088848E-4},469,-2.0905263039999999,-2.0905263039999999,{"$f":"[1]!XLSTAT_PDFNormal(F469,0,1)","v":4.4865388136398246E-2},469,null,3.5030059988,{"$f":"[1]!XLSTAT_PDFNormal(K469,0,1)","v":8.635454328302203E-4},469,null,13,20]
[470,51,3.8694376804999999,{"$f":"[1]!XLSTAT_PDFNormal(B470,0,1)","v":0},470,51,-2.0905263039999999,{"$f":"[1]!XLSTAT_PDFNormal(F470,0,1)","v":0},470,null,3.5190380629,{"$f":"[1]!XLSTAT_PDFNormal(K470,0,1)","v":8.1628012026190803E-4},470,null,14,20]
[471,51,3.8775978245,{"$f":"[1]!XLSTAT_PDFNormal(B471,0,1)","v":0},471,51,-2.0823661600000003,{"$f":"[1]!XLSTAT_PDFNormal(F471,0,1)","v":0},471,null,3.535070127,{"$f":"[1]!XLSTAT_PDFNormal(K471,0,1)","v":7.7140353115450941E-4},471,null,15,20]
[472,3.8775978245,3.8775978245,{"$f":"[1]!XLSTAT_PDFNormal(B472,0,1)","v":2.1673807145198234E-4},472,-2.0823661600000003,-2.0823661600000003,{"$f":"[1]!XLSTAT_PDFNormal(F472,0,1)","v":4.563579257968392E-2},472,null,3.5511021911,{"$f":"[1]!XLSTAT_PDFNormal(K472,0,1)","v":7.2880677276713135E-4},472,null,16,20]
[473,3.8857579685000001,3.8857579685000001,{"$f":"[1]!XLSTAT_PDFNormal(B473,0,1)","v":2.0998047073205015E-4},473,-2.0742060160000002,-2.0742060160000002,{"$f":"[1]!XLSTAT_PDFNormal(F473,0,1)","v":4.6416335124410429E-2},473,null,3.5671342552,{"$f":"[1]!XLSTAT_PDFNormal(K473,0,1)","v":6.8838524300418927E-4},473,null,17,20]
[474,51,3.8857579685000001,{"$f":"[1]!XLSTAT_PDFNormal(B474,0,1)","v":0},474,51,-2.0742060160000002,{"$f":"[1]!XLSTAT_PDFNormal(F474,0,1)","v":0},474,null,3.5831663193000001,{"$f":"[1]!XLSTAT_PDFNormal(K474,0,1)","v":6.5003849803155699E-4},474,null,18,20]
[475,51,3.8939181124999998,{"$f":"[1]!XLSTAT_PDFNormal(B475,0,1)","v":0},475,51,-2.0660458720000001,{"$f":"[1]!XLSTAT_PDFNormal(F475,0,1)","v":0},475,null,3.5991983834000001,{"$f":"[1]!XLSTAT_PDFNormal(K475,0,1)","v":6.136701220247761E-4},475,null,19,20]
[476,3.8939181124999998,3.8939181124999998,{"$f":"[1]!XLSTAT_PDFNormal(B476,0,1)","v":2.0342001711461444E-4},476,-2.0660458720000001,-2.0660458720000001,{"$f":"[1]!XLSTAT_PDFNormal(F476,0,1)","v":4.7207084335059844E-2},476,null,3.6152304475000001,{"$f":"[1]!XLSTAT_PDFNormal(K476,0,1)","v":5.791875991263077E-4},476,null,20,20]
[477,3.9020782564999998,3.9020782564999998,{"$f":"[1]!XLSTAT_PDFNormal(B477,0,1)","v":1.9705141111824156E-4},477,-2.0578857280000005,-2.0578857280000005,{"$f":"[1]!XLSTAT_PDFNormal(F477,0,1)","v":4.8008107890285853E-2},477,null,3.6312625116000001,{"$f":"[1]!XLSTAT_PDFNormal(K477,0,1)","v":5.4650218768062433E-4},477,null,21,20]
[478,51,3.9020782564999998,{"$f":"[1]!XLSTAT_PDFNormal(B478,0,1)","v":0},478,51,-2.0578857280000005,{"$f":"[1]!XLSTAT_PDFNormal(F478,0,1)","v":0},478,null,3.6472945757000002,{"$f":"[1]!XLSTAT_PDFNormal(K478,0,1)","v":5.1552879680815203E-4},478,null,22,20]
[479,51,3.9102384004999999,{"$f":"[1]!XLSTAT_PDFNormal(B479,0,1)","v":0},479,51,-2.0497255839999999,{"$f":"[1]!XLSTAT_PDFNormal(F479,0,1)","v":0},479,null,3.6633266398000002,{"$f":"[1]!XLSTAT_PDFNormal(K479,0,1)","v":4.8618586537154274E-4},479,null,23,20]
[480,3.9102384004999999,3.9102384004999999,{"$f":"[1]!XLSTAT_PDFNormal(B480,0,1)","v":1.9086948128197166E-4},480,-2.0497255839999999,-2.0497255839999999,{"$f":"[1]!XLSTAT_PDFNormal(F480,0,1)","v":4.8819472549644825E-2},480,null,3.6793587039000002,{"$f":"[1]!XLSTAT_PDFNormal(K480,0,1)","v":4.5839524338057053E-4},480,null,24,20]
[481,3.9183985445,3.9183985445,{"$f":"[1]!XLSTAT_PDFNormal(B481,0,1)","v":1.8486918151306743E-4},481,-2.0415654400000003,-2.0415654400000003,{"$f":"[1]!XLSTAT_PDFNormal(F481,0,1)","v":4.9641244120069025E-2},481,null,3.6953907680000002,{"$f":"[1]!XLSTAT_PDFNormal(K481,0,1)","v":4.3208207587508061E-4},481,null,1,21]
[482,51,3.9183985445,{"$f":"[1]!XLSTAT_PDFNormal(B482,0,1)","v":0},482,51,-2.0415654400000003,{"$f":"[1]!XLSTAT_PDFNormal(F482,0,1)","v":0},482,null,3.7114228321000002,{"$f":"[1]!XLSTAT_PDFNormal(K482,0,1)","v":4.0717468931882782E-4},482,null,2,21]
[483,51,3.9265586885000001,{"$f":"[1]!XLSTAT_PDFNormal(B483,0,1)","v":0},483,51,-2.0334052960000002,{"$f":"[1]!XLSTAT_PDFNormal(F483,0,1)","v":0},483,null,3.7274548962000003,{"$f":"[1]!XLSTAT_PDFNormal(K483,0,1)","v":3.8360448053080184E-4},483,null,3,21]
[484,3.9265586885000001,3.9265586885000001,{"$f":"[1]!XLSTAT_PDFNormal(B484,0,1)","v":1.7904558847680279E-4},484,-2.0334052960000002,-2.0334052960000002,{"$f":"[1]!XLSTAT_PDFNormal(F484,0,1)","v":5.0473487422093136E-2},484,null,3.7434869603000003,{"$f":"[1]!XLSTAT_PDFNormal(K484,0,1)","v":3.6130580817467234E-4},484,null,4,21]
[485,3.9347188324999998,3.9347188324999998,{"$f":"[1]!XLSTAT_PDFNormal(B485,0,1)","v":1.7339389902799895E-4},485,-2.0252451520000001,-2.0252451520000001,{"$f":"[1]!XLSTAT_PDFNormal(F485,0,1)","v":5.1316266255841125E-2},485,null,3.7595190244000003,{"$f":"[1]!XLSTAT_PDFNormal(K485,0,1)","v":3.402158868213362E-4},485,null,5,21]
[486,51,3.9347188324999998,{"$f":"[1]!XLSTAT_PDFNormal(B486,0,1)","v":0},486,51,-2.0252451520000001,{"$f":"[1]!XLSTAT_PDFNormal(F486,0,1)","v":0},486,null,3.7755510885000003,{"$f":"[1]!XLSTAT_PDFNormal(K486,0,1)","v":3.2027468359418576E-4},486,null,6,21]
[487,51,3.9428789764999999,{"$f":"[1]!XLSTAT_PDFNormal(B487,0,1)","v":0},487,51,-2.0170850080000005,{"$f":"[1]!XLSTAT_PDFNormal(F487,0,1)","v":0},487,null,3.7915831526000003,{"$f":"[1]!XLSTAT_PDFNormal(K487,0,1)","v":3.0142481740165765E-4},487,null,7,21]
[488,3.9428789764999999,3.9428789764999999,{"$f":"[1]!XLSTAT_PDFNormal(B488,0,1)","v":1.6790942768400203E-4},488,-2.0170850080000005,-2.0170850080000005,{"$f":"[1]!XLSTAT_PDFNormal(F488,0,1)","v":5.2169643366785035E-2},488,null,3.8076152167000004,{"$f":"[1]!XLSTAT_PDFNormal(K488,0,1)","v":2.8361146075683369E-4},488,null,8,21]
[489,3.9510391204999999,3.9510391204999999,{"$f":"[1]!XLSTAT_PDFNormal(B489,0,1)","v":1.6258760413879618E-4},489,-2.0089248639999999,-2.0089248639999999,{"$f":"[1]!XLSTAT_PDFNormal(F489,0,1)","v":5.3033680411284728E-2},489,null,3.8236472808000004,{"$f":"[1]!XLSTAT_PDFNormal(K489,0,1)","v":2.6678224417936208E-4},489,null,9,21]
[490,51,3.9510391204999999,{"$f":"[1]!XLSTAT_PDFNormal(B490,0,1)","v":0},490,51,-2.0089248639999999,{"$f":"[1]!XLSTAT_PDFNormal(F490,0,1)","v":0},490,null,3.8396793449000004,{"$f":"[1]!XLSTAT_PDFNormal(K490,0,1)","v":2.5088716317074681E-4},490,null,10,21]
[491,51,3.9591992645,{"$f":"[1]!XLSTAT_PDFNormal(B491,0,1)","v":0},491,51,-2.0007647200000003,{"$f":"[1]!XLSTAT_PDFNormal(F491,0,1)","v":0},491,null,3.8557114090000004,{"$f":"[1]!XLSTAT_PDFNormal(K491,0,1)","v":2.358784877500776E-4},491,null,11,21]
[492,3.9591992645,3.9591992645,{"$f":"[1]!XLSTAT_PDFNormal(B492,0,1)","v":1.5742397081792555E-4},492,-2.0007647200000003,-2.0007647200000003,{"$f":"[1]!XLSTAT_PDFNormal(F492,0,1)","v":5.3908437921918712E-2},492,null,3.8717434730999996,{"$f":"[1]!XLSTAT_PDFNormal(K492,0,1)","v":2.2171067453358295E-4},492,null,12,21]
[493,3.9673594085000001,3.9673594085000001,{"$f":"[1]!XLSTAT_PDFNormal(B493,0,1)","v":1.5241418047389824E-4},493,-1.9926045760000002,-1.9926045760000002,{"$f":"[1]!XLSTAT_PDFNormal(F493,0,1)","v":5.4793975272617625E-2},493,null,3.8877755371999996,{"$f":"[1]!XLSTAT_PDFNormal(K493,0,1)","v":2.0834028133792702E-4},493,null,13,21]
[494,51,3.9673594085000001,{"$f":"[1]!XLSTAT_PDFNormal(B494,0,1)","v":0},494,51,-1.9926045760000002,{"$f":"[1]!XLSTAT_PDFNormal(F494,0,1)","v":0},494,null,3.9038076012999996,{"$f":"[1]!XLSTAT_PDFNormal(K494,0,1)","v":1.9572588428398439E-4},494,null,14,21]
[495,51,3.9755195524999998,{"$f":"[1]!XLSTAT_PDFNormal(B495,0,1)","v":0},495,51,-1.9844444320000001,{"$f":"[1]!XLSTAT_PDFNormal(F495,0,1)","v":0},495,null,3.9198396653999996,{"$f":"[1]!XLSTAT_PDFNormal(K495,0,1)","v":1.8382799737483532E-4},495,null,15,21]
[496,3.9755195524999998,3.9755195524999998,{"$f":"[1]!XLSTAT_PDFNormal(B496,0,1)","v":1.4755399382173503E-4},496,-1.9844444320000001,-1.9844444320000001,{"$f":"[1]!XLSTAT_PDFNormal(F496,0,1)","v":5.5690350643609401E-2},496,null,3.9358717294999996,{"$f":"[1]!XLSTAT_PDFNormal(K496,0,1)","v":1.7260899451901346E-4},496,null,16,21]
[497,3.9836796965000003,3.9836796965000003,{"$f":"[1]!XLSTAT_PDFNormal(B497,0,1)","v":1.4283927721431457E-4},497,-1.976284288,-1.976284288,{"$f":"[1]!XLSTAT_PDFNormal(F497,0,1)","v":5.659762098618875E-2},497,null,3.9519037935999997,{"$f":"[1]!XLSTAT_PDFNormal(K497,0,1)","v":1.6203303396750981E-4},497,null,17,21]
[498,51,3.9836796965000003,{"$f":"[1]!XLSTAT_PDFNormal(B498,0,1)","v":0},498,51,-1.976284288,{"$f":"[1]!XLSTAT_PDFNormal(F498,0,1)","v":0},498,null,3.9679358576999997,{"$f":"[1]!XLSTAT_PDFNormal(K498,0,1)","v":1.5206598513074453E-4},498,null,18,21]
[499,51,3.9918398405,{"$f":"[1]!XLSTAT_PDFNormal(B499,0,1)","v":0},499,51,-1.9681241440000004,{"$f":"[1]!XLSTAT_PDFNormal(F499,0,1)","v":0},499,null,3.9839679217999997,{"$f":"[1]!XLSTAT_PDFNormal(K499,0,1)","v":1.4267535773962377E-4},499,null,19,21]
[500,3.9918398405,3.9918398405,{"$f":"[1]!XLSTAT_PDFNormal(B500,0,1)","v":1.3826600035716897E-4},500,-1.9681241440000004,-1.9681241440000004,{"$f":"[1]!XLSTAT_PDFNormal(F500,0,1)","v":5.7515841987321389E-2},500,null,3.9999999858999997,{"$f":"[1]!XLSTAT_PDFNormal(K500,0,1)","v":1.3383023331291045E-4},500,null,20,21]
[null,null,null,null,null,null,null,null,null,null,null,null,501,null,21,21]
[null,null,null,null,null,null,null,null,null,null,null,null,502,null,22,21]
[null,null,null,null,null,null,null,null,null,null,null,null,503,null,23,21]
[null,null,null,null,null,null,null,null,null,null,null,null,504,null,24,21]
[null,null,null,null,null,null,null,null,null,null,null,null,505,null,1,22]
[null,null,null,null,null,null,null,null,null,null,null,null,506,null,2,22]
[null,null,null,null,null,null,null,null,null,null,null,null,507,null,3,22]
[null,null,null,null,null,null,null,null,null,null,null,null,508,null,4,22]
[null,null,null,null,null,null,null,null,null,null,null,null,509,null,5,22]
[null,null,null,null,null,null,null,null,null,null,null,null,510,null,6,22]
[null,null,null,null,null,null,null,null,null,null,null,null,511,null,7,22]
[null,null,null,null,null,null,null,null,null,null,null,null,512,null,8,22]
[null,null,null,null,null,null,null,null,null,null,null,null,513,null,{"$f":"M513-24*INT((-1/2+M513)/24)","v":9},{"$f":"1+INT((M513-1/2)/24)","v":22}]
[null,null,null,null,null,null,null,null,null,null,null,null,514,null,10,22]
[null,null,null,null,null,null,null,null,null,null,null,null,515,null,11,22]
[null,null,null,null,null,null,null,null,null,null,null,null,516,null,12,22]
[null,null,null,null,null,null,null,null,null,null,null,null,517,null,13,22]
[null,null,null,null,null,null,null,null,null,null,null,null,518,null,14,22]
[null,null,null,null,null,null,null,null,null,null,null,null,519,null,15,22]
[null,null,null,null,null,null,null,null,null,null,null,null,520,null,16,22]
[null,null,null,null,null,null,null,null,null,null,null,null,521,null,17,22]
[null,null,null,null,null,null,null,null,null,null,null,null,522,null,18,22]
[null,null,null,null,null,null,null,null,null,null,null,null,523,null,19,22]
[null,null,null,null,null,null,null,null,null,null,null,null,524,null,20,22]
[null,null,null,null,null,null,null,null,null,null,null,null,525,null,21,22]
[null,null,null,null,null,null,null,null,null,null,null,null,526,null,22,22]
[null,null,null,null,null,null,null,null,null,null,null,null,527,null,23,22]
[null,null,null,null,null,null,null,null,null,null,null,null,528,null,24,22]
[null,null,null,null,null,null,null,null,null,null,null,null,529,null,1,23]
[null,null,null,null,null,null,null,null,null,null,null,null,530,null,2,23]
[null,null,null,null,null,null,null,null,null,null,null,null,531,null,3,23]
[null,null,null,null,null,null,null,null,null,null,null,null,532,null,4,23]
[null,null,null,null,null,null,null,null,null,null,null,null,533,null,5,23]
[null,null,null,null,null,null,null,null,null,null,null,null,534,null,6,23]
[null,null,null,null,null,null,null,null,null,null,null,null,535,null,7,23]
[null,null,null,null,null,null,null,null,null,null,null,null,536,null,8,23]
[null,null,null,null,null,null,null,null,null,null,null,null,537,null,9,23]
[null,null,null,null,null,null,null,null,null,null,null,null,538,null,10,23]
[null,null,null,null,null,null,null,null,null,null,null,null,539,null,11,23]
[null,null,null,null,null,null,null,null,null,null,null,null,540,null,12,23]
[null,null,null,null,null,null,null,null,null,null,null,null,541,null,13,23]
[null,null,null,null,null,null,null,null,null,null,null,null,542,null,14,23]
[null,null,null,null,null,null,null,null,null,null,null,null,543,null,15,23]
[null,null,null,null,null,null,null,null,null,null,null,null,544,null,16,23]
[null,null,null,null,null,null,null,null,null,null,null,null,545,null,17,23]
[null,null,null,null,null,null,null,null,null,null,null,null,546,null,18,23]
[null,null,null,null,null,null,null,null,null,null,null,null,547,null,19,23]
[null,null,null,null,null,null,null,null,null,null,null,null,548,null,20,23]
[null,null,null,null,null,null,null,null,null,null,null,null,549,null,21,23]
[null,null,null,null,null,null,null,null,null,null,null,null,550,null,22,23]
[null,null,null,null,null,null,null,null,null,null,null,null,551,null,23,23]
[null,null,null,null,null,null,null,null,null,null,null,null,552,null,24,23]
[null,null,null,null,null,null,null,null,null,null,null,null,553,null,1,24]
[null,null,null,null,null,null,null,null,null,null,null,null,554,null,2,24]
[null,null,null,null,null,null,null,null,null,null,null,null,555,null,3,24]
[null,null,null,null,null,null,null,null,null,null,null,null,556,null,4,24]
[null,null,null,null,null,null,null,null,null,null,null,null,557,null,5,24]
[null,null,null,null,null,null,null,null,null,null,null,null,558,null,6,24]
[null,null,null,null,null,null,null,null,null,null,null,null,559,null,7,24]
[null,null,null,null,null,null,null,null,null,null,null,null,560,null,8,24]
[null,null,null,null,null,null,null,null,null,null,null,null,561,null,9,24]
[null,null,null,null,null,null,null,null,null,null,null,null,562,null,10,24]
[null,null,null,null,null,null,null,null,null,null,null,null,563,null,11,24]
[null,null,null,null,null,null,null,null,null,null,null,null,564,null,12,24]
[null,null,null,null,null,null,null,null,null,null,null,null,565,null,13,24]
[null,null,null,null,null,null,null,null,null,null,null,null,566,null,14,24]
[null,null,null,null,null,null,null,null,null,null,null,null,567,null,15,24]
[null,null,null,null,null,null,null,null,null,null,null,null,568,null,16,24]
[null,null,null,null,null,null,null,null,null,null,null,null,569,null,17,24]
[null,null,null,null,null,null,null,null,null,null,null,null,570,null,18,24]
[null,null,null,null,null,null,null,null,null,null,null,null,571,null,19,24]
[null,null,null,null,null,null,null,null,null,null,null,null,572,null,20,24]
[null,null,null,null,null,null,null,null,null,null,null,null,573,null,21,24]
[null,null,null,null,null,null,null,null,null,null,null,null,574,null,22,24]
[null,null,null,null,null,null,null,null,null,null,null,null,575,null,23,24]
[null,null,null,null,null,null,null,null,null,null,null,null,576,null,24,24]

{"sheet":"XLSTAT_20230912_123413_1_HID","index":3,"n_rows":576,"n_cols":16,"rows_kept":576,"cut":false,"hidden":true,"merged":[]}
[1,{"$f":"IF(-1^(INT(A1/2)+2)>0,1.9599639845+2*INT(A1/2-1/2)*0.004080072,51)","v":1.9599639845000001},{"$f":"1.9599639845+2*INT(A1/2-1/2)*0.004080072","v":1.9599639845000001},{"$f":"[1]!XLSTAT_PDFNormal(B1,0,1)","v":5.8445069809623572E-2},1,{"$f":"IF(-1^(INT(E1/2)+2)>0,-4+2*INT(E1/2-1/2)*0.004080072,51)","v":-4},{"$f":"-4+2*INT(E1/2-1/2)*0.004080072","v":-4},{"$f":"[1]!XLSTAT_PDFNormal(F1,0,1)","v":1.3383022576488537E-4},1,null,{"$f":"-4+(I1-1)*0.0160320641","v":-4},{"$f":"[1]!XLSTAT_PDFNormal(K1,0,1)","v":1.3383022576488537E-4},1,null,{"$f":"M1-24*INT((-1/2+M1)/24)","v":1},{"$f":"1+INT((M1-1/2)/24)","v":1}]
[2,51,1.9599639845000001,{"$f":"[1]!XLSTAT_PDFNormal(B2,0,1)","v":0},2,51,-4,{"$f":"[1]!XLSTAT_PDFNormal(F2,0,1)","v":0},2,null,-3.9839679359,{"$f":"[1]!XLSTAT_PDFNormal(K2,0,1)","v":1.4267534972498572E-4},2,null,2,1]
[3,51,1.9681241285000002,{"$f":"[1]!XLSTAT_PDFNormal(B3,0,1)","v":0},3,51,-3.9918398559999999,{"$f":"[1]!XLSTAT_PDFNormal(F3,0,1)","v":0},3,null,-3.9679358718,{"$f":"[1]!XLSTAT_PDFNormal(K3,0,1)","v":1.5206597662297284E-4},3,null,3,1]
[4,1.9681241285000002,1.9681241285000002,{"$f":"[1]!XLSTAT_PDFNormal(B4,0,1)","v":5.7515843741895348E-2},4,-3.9918398559999999,-3.9918398559999999,{"$f":"[1]!XLSTAT_PDFNormal(F4,0,1)","v":1.382659918021654E-4},4,null,-3.9519038076999999,{"$f":"[1]!XLSTAT_PDFNormal(K4,0,1)","v":1.6203302493873045E-4},4,null,4,1]
[5,1.9762842725,1.9762842725,{"$f":"[1]!XLSTAT_PDFNormal(B5,0,1)","v":5.6597622719910097E-2},5,-3.9836797119999998,-3.9836797119999998,{"$f":"[1]!XLSTAT_PDFNormal(F5,0,1)","v":1.428392683944131E-4},5,null,-3.9358717435999999,{"$f":"[1]!XLSTAT_PDFNormal(K5,0,1)","v":1.7260898493994071E-4},5,null,5,1]
[6,51,1.9762842725,{"$f":"[1]!XLSTAT_PDFNormal(B6,0,1)","v":0},6,51,-3.9836797119999998,{"$f":"[1]!XLSTAT_PDFNormal(F6,0,1)","v":0},6,null,-3.9198396794999999,{"$f":"[1]!XLSTAT_PDFNormal(K6,0,1)","v":1.8382798721471E-4},6,null,6,1]
[7,51,1.9844444165000001,{"$f":"[1]!XLSTAT_PDFNormal(B7,0,1)","v":0},7,51,-3.9755195680000002,{"$f":"[1]!XLSTAT_PDFNormal(F7,0,1)","v":0},7,null,-3.9038076153999999,{"$f":"[1]!XLSTAT_PDFNormal(K7,0,1)","v":1.9572587351051021E-4},7,null,7,1]
[8,1.9844444165000001,1.9844444165000001,{"$f":"[1]!XLSTAT_PDFNormal(B8,0,1)","v":5.569035235658272E-2},8,-3.9755195680000002,-3.9755195680000002,{"$f":"[1]!XLSTAT_PDFNormal(F8,0,1)","v":1.4755398472937633E-4},8,null,-3.8877755512999999,{"$f":"[1]!XLSTAT_PDFNormal(K8,0,1)","v":2.0834026991720569E-4},8,null,8,1]
[9,1.9926045605,1.9926045605,{"$f":"[1]!XLSTAT_PDFNormal(B9,0,1)","v":5.4793976964949927E-2},9,-3.9673594240000001,-3.9673594240000001,{"$f":"[1]!XLSTAT_PDFNormal(F9,0,1)","v":1.524141711013302E-4},9,null,-3.8717434871999998,{"$f":"[1]!XLSTAT_PDFNormal(K9,0,1)","v":2.2171066243004643E-4},9,null,9,1]
[10,51,1.9926045605,{"$f":"[1]!XLSTAT_PDFNormal(B10,0,1)","v":0},10,51,-3.9673594240000001,{"$f":"[1]!XLSTAT_PDFNormal(F10,0,1)","v":0},10,null,-3.8557114230999998,{"$f":"[1]!XLSTAT_PDFNormal(K10,0,1)","v":2.3587847492641918E-4},10,null,10,1]
[11,51,2.0007647044999999,{"$f":"[1]!XLSTAT_PDFNormal(B11,0,1)","v":0},11,51,-3.95919928,{"$f":"[1]!XLSTAT_PDFNormal(F11,0,1)","v":0},11,null,-3.8396793589999998,{"$f":"[1]!XLSTAT_PDFNormal(K11,0,1)","v":2.5088714958784741E-4},11,null,11,1]
[12,2.0007647044999999,2.0007647044999999,{"$f":"[1]!XLSTAT_PDFNormal(B12,0,1)","v":5.390843959371934E-2},12,-3.95919928,-3.95919928,{"$f":"[1]!XLSTAT_PDFNormal(F12,0,1)","v":1.5742396115719641E-4},12,null,-3.8236472948999998,{"$f":"[1]!XLSTAT_PDFNormal(K12,0,1)","v":2.6678222979621826E-4},12,null,12,1]
[13,2.0089248485,2.0089248485,{"$f":"[1]!XLSTAT_PDFNormal(B13,0,1)","v":5.3033682062665261E-2},13,-3.9510391359999999,-3.9510391359999999,{"$f":"[1]!XLSTAT_PDFNormal(F13,0,1)","v":1.6258759418175171E-4},13,null,-3.8076152308000002,{"$f":"[1]!XLSTAT_PDFNormal(K13,0,1)","v":2.8361144553047939E-4},13,null,13,1]
[14,51,2.0089248485,{"$f":"[1]!XLSTAT_PDFNormal(B14,0,1)","v":0},14,51,-3.9510391359999999,{"$f":"[1]!XLSTAT_PDFNormal(F14,0,1)","v":0},14,null,-3.7915831667000002,{"$f":"[1]!XLSTAT_PDFNormal(K14,0,1)","v":3.0142480128708899E-4},14,null,14,1]
[15,51,2.0170849925000001,{"$f":"[1]!XLSTAT_PDFNormal(B15,0,1)","v":0},15,51,-3.9428789919999998,{"$f":"[1]!XLSTAT_PDFNormal(F15,0,1)","v":0},15,null,-3.7755511026000002,{"$f":"[1]!XLSTAT_PDFNormal(K15,0,1)","v":3.2027466654427686E-4},15,null,15,1]
[16,2.0170849925000001,2.0170849925000001,{"$f":"[1]!XLSTAT_PDFNormal(B16,0,1)","v":5.2169644997859477E-2},16,-3.9428789919999998,-3.9428789919999998,{"$f":"[1]!XLSTAT_PDFNormal(F16,0,1)","v":1.6790941742228071E-4},16,null,-3.7595190385000001,{"$f":"[1]!XLSTAT_PDFNormal(K16,0,1)","v":3.4021586878675873E-4},16,null,16,1]
[17,2.0252451365000002,2.0252451365000002,{"$f":"[1]!XLSTAT_PDFNormal(B17,0,1)","v":5.1316267866725447E-2},17,-3.9347188480000002,-3.9347188480000002,{"$f":"[1]!XLSTAT_PDFNormal(F17,0,1)","v":1.7339388845302731E-4},17,null,-3.7434869744000001,{"$f":"[1]!XLSTAT_PDFNormal(K17,0,1)","v":3.6130578910380858E-4},17,null,17,1]
[18,51,2.0252451365000002,{"$f":"[1]!XLSTAT_PDFNormal(B18,0,1)","v":0},18,51,-3.9347188480000002,{"$f":"[1]!XLSTAT_PDFNormal(F18,0,1)","v":0},18,null,-3.7274549103000001,{"$f":"[1]!XLSTAT_PDFNormal(K18,0,1)","v":3.8360446036965782E-4},18,null,18,1]
[19,51,2.0334052805000002,{"$f":"[1]!XLSTAT_PDFNormal(B19,0,1)","v":0},19,51,-3.9265587040000001,{"$f":"[1]!XLSTAT_PDFNormal(F19,0,1)","v":0},19,null,-3.7114228462000001,{"$f":"[1]!XLSTAT_PDFNormal(K19,0,1)","v":4.0717466801094474E-4},19,null,19,1]
[20,2.0334052805000002,2.0334052805000002,{"$f":"[1]!XLSTAT_PDFNormal(B20,0,1)","v":5.0473489012905534E-2},20,-3.9265587040000001,-3.9265587040000001,{"$f":"[1]!XLSTAT_PDFNormal(F20,0,1)","v":1.7904557757979144E-4},20,null,-3.6953907821,{"$f":"[1]!XLSTAT_PDFNormal(K20,0,1)","v":4.3208205336144062E-4},20,null,20,1]
[21,2.0415654244999999,2.0415654244999999,{"$f":"[1]!XLSTAT_PDFNormal(B21,0,1)","v":4.9641245690929731E-2},21,-3.91839856,-3.91839856,{"$f":"[1]!XLSTAT_PDFNormal(F21,0,1)","v":1.8486917028500517E-4},21,null,-3.679358718,{"$f":"[1]!XLSTAT_PDFNormal(K21,0,1)","v":4.583952195995039E-4},21,null,21,1]
[22,51,2.0415654244999999,{"$f":"[1]!XLSTAT_PDFNormal(B22,0,1)","v":0},22,51,-3.91839856,{"$f":"[1]!XLSTAT_PDFNormal(F22,0,1)","v":0},22,null,-3.6633266539,{"$f":"[1]!XLSTAT_PDFNormal(K22,0,1)","v":4.8618584025863099E-4},22,null,22,1]
[23,51,2.0497255685,{"$f":"[1]!XLSTAT_PDFNormal(B23,0,1)","v":0},23,51,-3.9102384159999999,{"$f":"[1]!XLSTAT_PDFNormal(F23,0,1)","v":0},23,null,-3.6472945898,{"$f":"[1]!XLSTAT_PDFNormal(K23,0,1)","v":5.1552877029612909E-4},23,null,23,1]
[24,2.0497255685,2.0497255685,{"$f":"[1]!XLSTAT_PDFNormal(B24,0,1)","v":4.8819474100675914E-2},24,-3.9102384159999999,-3.9102384159999999,{"$f":"[1]!XLSTAT_PDFNormal(F24,0,1)","v":1.9086946971362184E-4},24,null,-3.6312625257,{"$f":"[1]!XLSTAT_PDFNormal(K24,0,1)","v":5.4650215969927521E-4},24,null,24,1]
[25,2.0578857125000001,2.0578857125000001,{"$f":"[1]!XLSTAT_PDFNormal(B25,0,1)","v":4.800810942161151E-2},25,-3.9020782719999998,-3.9020782719999998,{"$f":"[1]!XLSTAT_PDFNormal(F25,0,1)","v":1.9705139920013647E-4},25,null,-3.6152304615999999,{"$f":"[1]!XLSTAT_PDFNormal(K25,0,1)","v":5.7918756960236603E-4},25,null,1,2]
[26,51,2.0578857125000001,{"$f":"[1]!XLSTAT_PDFNormal(B26,0,1)","v":0},26,51,-3.9020782719999998,{"$f":"[1]!XLSTAT_PDFNormal(F26,0,1)","v":0},26,null,-3.5991983974999999,{"$f":"[1]!XLSTAT_PDFNormal(K26,0,1)","v":6.1367009088181843E-4},26,null,2,2]
[27,51,2.0660458565000002,{"$f":"[1]!XLSTAT_PDFNormal(B27,0,1)","v":0},27,51,-3.8939181280000001,{"$f":"[1]!XLSTAT_PDFNormal(F27,0,1)","v":0},27,null,-3.5831663333999999,{"$f":"[1]!XLSTAT_PDFNormal(K27,0,1)","v":6.5003846518989379E-4},27,null,3,2]
[28,2.0660458565000002,2.0660458565000002,{"$f":"[1]!XLSTAT_PDFNormal(B28,0,1)","v":4.7207085846805885E-2},28,-3.8939181280000001,-3.8939181280000001,{"$f":"[1]!XLSTAT_PDFNormal(F28,0,1)","v":2.0342000483705079E-4},28,null,-3.5671342692999999,{"$f":"[1]!XLSTAT_PDFNormal(K28,0,1)","v":6.8838520838075852E-4},28,null,4,2]
[29,2.0742060005000003,2.0742060005000003,{"$f":"[1]!XLSTAT_PDFNormal(B29,0,1)","v":4.64163366167046E-2},29,-3.8857579840000001,-3.8857579840000001,{"$f":"[1]!XLSTAT_PDFNormal(F29,0,1)","v":2.0998045808508461E-4},29,null,-3.5511022051999999,{"$f":"[1]!XLSTAT_PDFNormal(K29,0,1)","v":7.2880673627538314E-4},29,null,5,2]
[30,51,2.0742060005000003,{"$f":"[1]!XLSTAT_PDFNormal(B30,0,1)","v":0},30,51,-3.8857579840000001,{"$f":"[1]!XLSTAT_PDFNormal(F30,0,1)","v":0},30,null,-3.5350701410999998,{"$f":"[1]!XLSTAT_PDFNormal(K30,0,1)","v":7.7140349270429657E-4},30,null,6,2]
[31,51,2.0823661444999999,{"$f":"[1]!XLSTAT_PDFNormal(B31,0,1)","v":0},31,51,-3.87759784,{"$f":"[1]!XLSTAT_PDFNormal(F31,0,1)","v":0},31,null,-3.5190380769999998,{"$f":"[1]!XLSTAT_PDFNormal(K31,0,1)","v":8.1628007975936574E-4},31,null,7,2]
[32,2.0823661444999999,2.0823661444999999,{"$f":"[1]!XLSTAT_PDFNormal(B32,0,1)","v":4.5635794052655658E-2},32,-3.87759784,-3.87759784,{"$f":"[1]!XLSTAT_PDFNormal(F32,0,1)","v":2.1673805842542507E-4},32,null,-3.5030060129000002,{"$f":"[1]!XLSTAT_PDFNormal(K32,0,1)","v":8.6354539017765197E-4},32,null,8,2]
[33,2.0905262885,2.0905262885,{"$f":"[1]!XLSTAT_PDFNormal(B33,0,1)","v":4.4865389590178502E-2},33,-3.8694376959999999,-3.8694376959999999,{"$f":"[1]!XLSTAT_PDFNormal(F33,0,1)","v":2.2369823605429927E-4},33,null,-3.4869739488000002,{"$f":"[1]!XLSTAT_PDFNormal(K33,0,1)","v":9.1331274177193142E-4},33,null,9,2]
[34,51,2.0905262885,{"$f":"[1]!XLSTAT_PDFNormal(B34,0,1)","v":0},34,51,-3.8694376959999999,{"$f":"[1]!XLSTAT_PDFNormal(F34,0,1)","v":0},34,null,-3.4709418847000002,{"$f":"[1]!XLSTAT_PDFNormal(K34,0,1)","v":9.6570001381369563E-4},34,null,10,2]
[35,51,2.0986864325000001,{"$f":"[1]!XLSTAT_PDFNormal(B35,0,1)","v":0},35,51,-3.8612775519999998,{"$f":"[1]!XLSTAT_PDFNormal(F35,0,1)","v":0},35,null,-3.4549098206000002,{"$f":"[1]!XLSTAT_PDFNormal(K35,0,1)","v":1.0208297852653894E-3},35,null,11,2]
[36,2.0986864325000001,2.0986864325000001,{"$f":"[1]!XLSTAT_PDFNormal(B36,0,1)","v":4.4105053811967561E-2},36,-3.8612775519999998,-3.8612775519999998,{"$f":"[1]!XLSTAT_PDFNormal(F36,0,1)","v":2.3086655462013623E-4},36,null,-3.4388777565000002,{"$f":"[1]!XLSTAT_PDFNormal(K36,0,1)","v":1.0788294747492344E-3},36,null,12,2]
[37,2.1068465765000002,2.1068465765000002,{"$f":"[1]!XLSTAT_PDFNormal(B37,0,1)","v":4.3354716480620788E-2},37,-3.8531174080000001,-3.8531174080000001,{"$f":"[1]!XLSTAT_PDFNormal(F37,0,1)","v":2.3824871400358286E-4},37,null,-3.4228456924000001,{"$f":"[1]!XLSTAT_PDFNormal(K37,0,1)","v":1.1398314821303142E-3},37,null,13,2]
[38,51,2.1068465765000002,{"$f":"[1]!XLSTAT_PDFNormal(B38,0,1)","v":0},38,51,-3.8531174080000001,{"$f":"[1]!XLSTAT_PDFNormal(F38,0,1)","v":0},38,null,-3.4068136283000001,{"$f":"[1]!XLSTAT_PDFNormal(K38,0,1)","v":1.2039733315816123E-3},38,null,14,2]
[39,51,2.1150067205000003,{"$f":"[1]!XLSTAT_PDFNormal(B39,0,1)","v":0},39,51,-3.844957264,{"$f":"[1]!XLSTAT_PDFNormal(F39,0,1)","v":0},39,null,-3.3907815642000001,{"$f":"[1]!XLSTAT_PDFNormal(K39,0,1)","v":1.2713978159884045E-3},39,null,15,2]
[40,2.1150067205000003,2.1150067205000003,{"$f":"[1]!XLSTAT_PDFNormal(B40,0,1)","v":4.2614306571085551E-2},40,-3.844957264,-3.844957264,{"$f":"[1]!XLSTAT_PDFNormal(F40,0,1)","v":2.4585055314061972E-4},40,null,-3.3747495001000001,{"$f":"[1]!XLSTAT_PDFNormal(K40,0,1)","v":1.342253142538871E-3},40,null,16,2]
[41,2.1231668644999999,2.1231668644999999,{"$f":"[1]!XLSTAT_PDFNormal(B41,0,1)","v":4.1883752302813652E-2},41,-3.8367971199999999,-3.8367971199999999,{"$f":"[1]!XLSTAT_PDFNormal(F41,0,1)","v":2.5367805288900765E-4},41,null,-3.3587174360000001,{"$f":"[1]!XLSTAT_PDFNormal(K41,0,1)","v":1.4166930793369443E-3},41,null,17,2]
[42,51,2.1231668644999999,{"$f":"[1]!XLSTAT_PDFNormal(B42,0,1)","v":0},42,51,-3.8367971199999999,{"$f":"[1]!XLSTAT_PDFNormal(F42,0,1)","v":0},42,null,-3.3426853719,{"$f":"[1]!XLSTAT_PDFNormal(K42,0,1)","v":1.4948771028623358E-3},42,null,18,2]
[43,51,2.1313270085,{"$f":"[1]!XLSTAT_PDFNormal(B43,0,1)","v":0},43,51,-3.8286369759999999,{"$f":"[1]!XLSTAT_PDFNormal(F43,0,1)","v":0},43,null,-3.3266533078,{"$f":"[1]!XLSTAT_PDFNormal(K43,0,1)","v":1.5769705460913076E-3},43,null,19,2]
[44,2.1313270085,2.1313270085,{"$f":"[1]!XLSTAT_PDFNormal(B44,0,1)","v":4.1162981171617423E-2},44,-3.8286369759999999,-3.8286369759999999,{"$f":"[1]!XLSTAT_PDFNormal(F44,0,1)","v":2.6173733893829665E-4},44,null,-3.3106212437,{"$f":"[1]!XLSTAT_PDFNormal(K44,0,1)","v":1.6631447470802105E-3},44,null,20,2]
[45,2.1394871525000001,2.1394871525000001,{"$f":"[1]!XLSTAT_PDFNormal(B45,0,1)","v":4.0451919981219928E-2},45,-3.8204768320000002,-3.8204768320000002,{"$f":"[1]!XLSTAT_PDFNormal(F45,0,1)","v":2.7003468476359668E-4},45,null,-3.2945891796,{"$f":"[1]!XLSTAT_PDFNormal(K45,0,1)","v":1.7535771978019724E-3},45,null,21,2]
[46,51,2.1394871525000001,{"$f":"[1]!XLSTAT_PDFNormal(B46,0,1)","v":0},46,51,-3.8204768320000002,{"$f":"[1]!XLSTAT_PDFNormal(F46,0,1)","v":0},46,null,-3.2785571155,{"$f":"[1]!XLSTAT_PDFNormal(K46,0,1)","v":1.8484516930137277E-3},46,null,22,2]
[47,51,2.1476472965000002,{"$f":"[1]!XLSTAT_PDFNormal(B47,0,1)","v":0},47,51,-3.8123166880000001,{"$f":"[1]!XLSTAT_PDFNormal(F47,0,1)","v":0},47,null,-3.2625250513999999,{"$f":"[1]!XLSTAT_PDFNormal(K47,0,1)","v":1.9479584789215388E-3},47,null,23,2]
[48,2.1476472965000002,2.1476472965000002,{"$f":"[1]!XLSTAT_PDFNormal(B48,0,1)","v":3.9750494874491421E-2},48,-3.8123166880000001,-3.8123166880000001,{"$f":"[1]!XLSTAT_PDFNormal(F48,0,1)","v":2.7857651462331206E-4},48,null,-3.2464929872999999,{"$f":"[1]!XLSTAT_PDFNormal(K48,0,1)","v":2.0522944013958325E-3},48,null,24,2]
[49,2.1558074405000003,2.1558074405000003,{"$f":"[1]!XLSTAT_PDFNormal(B49,0,1)","v":3.9058631364365541E-2},49,-3.804156544,-3.804156544,{"$f":"[1]!XLSTAT_PDFNormal(F49,0,1)","v":2.8736940660101164E-4},49,null,-3.2304609231999999,{"$f":"[1]!XLSTAT_PDFNormal(K49,0,1)","v":2.1616630534785895E-3},49,null,1,3]
[50,51,2.1558074405000003,{"$f":"[1]!XLSTAT_PDFNormal(B50,0,1)","v":0},50,51,-3.804156544,{"$f":"[1]!XLSTAT_PDFNormal(F50,0,1)","v":0},50,null,-3.2144288590999999,{"$f":"[1]!XLSTAT_PDFNormal(K50,0,1)","v":2.2762749219106711E-3},50,null,2,3]
[51,51,2.1639675844999999,{"$f":"[1]!XLSTAT_PDFNormal(B51,0,1)","v":0},51,51,-3.7959963999999999,{"$f":"[1]!XLSTAT_PDFNormal(F51,0,1)","v":0},51,null,-3.1983967949999998,{"$f":"[1]!XLSTAT_PDFNormal(K51,0,1)","v":2.3963475323949502E-3},51,null,3,3]
[52,2.1639675844999999,2.1639675844999999,{"$f":"[1]!XLSTAT_PDFNormal(B52,0,1)","v":3.8376254364428188E-2},52,-3.7959963999999999,-3.7959963999999999,{"$f":"[1]!XLSTAT_PDFNormal(F52,0,1)","v":2.9642009569161006E-4},52,null,-3.1823647308999998,{"$f":"[1]!XLSTAT_PDFNormal(K52,0,1)","v":2.5221055932979556E-3},52,null,4,3]
[53,2.1721277285,2.1721277285,{"$f":"[1]!XLSTAT_PDFNormal(B53,0,1)","v":3.7703288219172883E-2},53,-3.7878362559999998,-3.7878362559999998,{"$f":"[1]!XLSTAT_PDFNormal(F53,0,1)","v":3.0573547693199895E-4},53,null,-3.1663326667999998,{"$f":"[1]!XLSTAT_PDFNormal(K53,0,1)","v":2.6537811374799233E-3},53,null,5,3]
[54,51,2.1721277285,{"$f":"[1]!XLSTAT_PDFNormal(B54,0,1)","v":0},54,51,-3.7878362559999998,{"$f":"[1]!XLSTAT_PDFNormal(F54,0,1)","v":0},54,null,-3.1503006026999998,{"$f":"[1]!XLSTAT_PDFNormal(K54,0,1)","v":2.7916136619301314E-3},54,null,6,3]
[55,51,2.1802878725000001,{"$f":"[1]!XLSTAT_PDFNormal(B55,0,1)","v":0},55,51,-3.7796761120000002,{"$f":"[1]!XLSTAT_PDFNormal(F55,0,1)","v":0},55,null,-3.1342685385999998,{"$f":"[1]!XLSTAT_PDFNormal(K55,0,1)","v":2.9358502648715069E-3},55,null,7,3]
[56,2.1802878725000001,2.1802878725000001,{"$f":"[1]!XLSTAT_PDFNormal(B56,0,1)","v":3.703965673391648E-2},56,-3.7796761120000002,-3.7796761120000002,{"$f":"[1]!XLSTAT_PDFNormal(F56,0,1)","v":3.1532260857626722E-4},56,null,-3.1182364744999997,{"$f":"[1]!XLSTAT_PDFNormal(K56,0,1)","v":3.0867457799855095E-3},56,null,8,3]
[57,2.1884480165000002,2.1884480165000002,{"$f":"[1]!XLSTAT_PDFNormal(B57,0,1)","v":3.6385283204369012E-2},57,-3.7715159680000001,-3.7715159680000001,{"$f":"[1]!XLSTAT_PDFNormal(F57,0,1)","v":3.2518871531562581E-4},57,null,-3.1022044103999997,{"$f":"[1]!XLSTAT_PDFNormal(K57,0,1)","v":3.2445629073955076E-3},57,null,9,3]
[58,51,2.1884480165000002,{"$f":"[1]!XLSTAT_PDFNormal(B58,0,1)","v":0},58,51,-3.7715159680000001,{"$f":"[1]!XLSTAT_PDFNormal(F58,0,1)","v":0},58,null,-3.0861723463000001,{"$f":"[1]!XLSTAT_PDFNormal(K58,0,1)","v":3.4095723410340565E-3},58,null,10,3]
[59,51,2.1966081605000003,{"$f":"[1]!XLSTAT_PDFNormal(B59,0,1)","v":0},59,51,-3.763355824,{"$f":"[1]!XLSTAT_PDFNormal(F59,0,1)","v":0},59,null,-3.0701402822000001,{"$f":"[1]!XLSTAT_PDFNormal(K59,0,1)","v":3.5820528920069072E-3},59,null,11,3]
[60,2.1966081605000003,2.1966081605000003,{"$f":"[1]!XLSTAT_PDFNormal(B60,0,1)","v":3.5740090445852267E-2},60,-3.763355824,-3.763355824,{"$f":"[1]!XLSTAT_PDFNormal(F60,0,1)","v":3.3534119154313027E-4},60,null,-3.0541082181000001,{"$f":"[1]!XLSTAT_PDFNormal(K60,0,1)","v":3.7622916075540085E-3},60,null,12,3]
[61,2.2047683044999999,2.2047683044999999,{"$f":"[1]!XLSTAT_PDFNormal(B61,0,1)","v":3.5104000822161752E-2},61,-3.7551956799999999,-3.7551956799999999,{"$f":"[1]!XLSTAT_PDFNormal(F61,0,1)","v":3.4578760466328799E-4},61,null,-3.0380761540000001,{"$f":"[1]!XLSTAT_PDFNormal(K61,0,1)","v":3.9505838851956561E-3},61,null,13,3]
[62,51,2.2047683044999999,{"$f":"[1]!XLSTAT_PDFNormal(B62,0,1)","v":0},62,51,-3.7551956799999999,{"$f":"[1]!XLSTAT_PDFNormal(F62,0,1)","v":0},62,null,-3.0220440899000001,{"$f":"[1]!XLSTAT_PDFNormal(K62,0,1)","v":4.1472335816398198E-3},62,null,14,3]
[63,51,2.2129284485,{"$f":"[1]!XLSTAT_PDFNormal(B63,0,1)","v":0},63,51,-3.7470355359999998,{"$f":"[1]!XLSTAT_PDFNormal(F63,0,1)","v":0},63,null,-3.0060120258,{"$f":"[1]!XLSTAT_PDFNormal(K63,0,1)","v":4.3525531160149662E-3},63,null,15,3]
[64,2.2129284485,2.2129284485,{"$f":"[1]!XLSTAT_PDFNormal(B64,0,1)","v":3.4476936274066547E-2},64,-3.7470355359999998,-3.7470355359999998,{"$f":"[1]!XLSTAT_PDFNormal(F64,0,1)","v":3.5653569844660752E-4},64,null,-2.9899799617,{"$f":"[1]!XLSTAT_PDFNormal(K64,0,1)","v":4.5668635669813638E-3},64,null,16,3]
[65,{"$f":"IF(-1^(INT(A65/2)+2)>0,1.9599639845+2*INT(A65/2-1/2)*0.004080072,51)","v":2.2210885925000001},{"$f":"1.9599639845+2*INT(A65/2-1/2)*0.004080072","v":2.2210885925000001},{"$f":"[1]!XLSTAT_PDFNormal(B65,0,1)","v":3.3858818347442879E-2},65,{"$f":"IF(-1^(INT(E65/2)+2)>0,-4+2*INT(E65/2-1/2)*0.004080072,51)","v":-3.7388753920000002},{"$f":"-4+2*INT(E65/2-1/2)*0.004080072","v":-3.7388753920000002},{"$f":"[1]!XLSTAT_PDFNormal(F65,0,1)","v":3.6759339642913246E-4},65,null,{"$f":"-4+(I65-1)*0.0160320641","v":-2.9739478976},{"$f":"[1]!XLSTAT_PDFNormal(K65,0,1)","v":4.7904947632627258E-3},65,null,{"$f":"M65-24*INT((-1/2+M65)/24)","v":17},{"$f":"1+INT((M65-1/2)/24)","v":3}]
[66,51,2.2210885925000001,{"$f":"[1]!XLSTAT_PDFNormal(B66,0,1)","v":0},66,51,-3.7388753920000002,{"$f":"[1]!XLSTAT_PDFNormal(F66,0,1)","v":0},66,null,-2.9579158335,{"$f":"[1]!XLSTAT_PDFNormal(K66,0,1)","v":5.0237853671295258E-3},66,null,18,3]
[67,51,2.2292487365000002,{"$f":"[1]!XLSTAT_PDFNormal(B67,0,1)","v":0},67,51,-3.7307152480000001,{"$f":"[1]!XLSTAT_PDFNormal(F67,0,1)","v":0},67,null,-2.9418837694,{"$f":"[1]!XLSTAT_PDFNormal(K67,0,1)","v":5.2670829503551203E-3},67,null,19,3]
[68,2.2292487365000002,2.2292487365000002,{"$f":"[1]!XLSTAT_PDFNormal(B68,0,1)","v":3.3249568221035933E-2},68,-3.7307152480000001,-3.7307152480000001,{"$f":"[1]!XLSTAT_PDFNormal(F68,0,1)","v":3.7896880535698692E-4},68,null,-2.9258517052999999,{"$f":"[1]!XLSTAT_PDFNormal(K68,0,1)","v":5.52074406215621E-3},68,null,20,3]
[69,2.2374088805000003,2.2374088805000003,{"$f":"[1]!XLSTAT_PDFNormal(B69,0,1)","v":3.2649106733846307E-2},69,-3.722555104,-3.722555104,{"$f":"[1]!XLSTAT_PDFNormal(F69,0,1)","v":3.9067021867592191E-4},69,null,-2.9098196411999999,{"$f":"[1]!XLSTAT_PDFNormal(K69,0,1)","v":5.785134288620008E-3},69,null,21,3]
[70,51,2.2374088805000003,{"$f":"[1]!XLSTAT_PDFNormal(B70,0,1)","v":0},70,51,-3.722555104,{"$f":"[1]!XLSTAT_PDFNormal(F70,0,1)","v":0},70,null,-2.8937875770999999,{"$f":"[1]!XLSTAT_PDFNormal(K70,0,1)","v":6.0606283031121129E-3},70,null,22,3]
[71,51,2.2455690245,{"$f":"[1]!XLSTAT_PDFNormal(B71,0,1)","v":0},71,51,-3.7143949599999999,{"$f":"[1]!XLSTAT_PDFNormal(F71,0,1)","v":0},71,null,-2.8777555130000003,{"$f":"[1]!XLSTAT_PDFNormal(K71,0,1)","v":6.3476099071511725E-3},71,null,23,3]
[72,2.2455690245,2.2455690245,{"$f":"[1]!XLSTAT_PDFNormal(B72,0,1)","v":3.2057354412136509E-2},72,-3.7143949599999999,-3.7143949599999999,{"$f":"[1]!XLSTAT_PDFNormal(F72,0,1)","v":4.0270612006585837E-4},72,null,-2.8617234489000003,{"$f":"[1]!XLSTAT_PDFNormal(K72,0,1)","v":6.6464720612293875E-3},72,null,24,3]
[73,2.2537291685,2.2537291685,{"$f":"[1]!XLSTAT_PDFNormal(B73,0,1)","v":3.1474231496053731E-2},73,-3.7062348160000003,-3.7062348160000003,{"$f":"[1]!XLSTAT_PDFNormal(F73,0,1)","v":4.1508518702037514E-4},73,null,-2.8456913848000003,{"$f":"[1]!XLSTAT_PDFNormal(K73,0,1)","v":6.9576169050513618E-3},73,null,1,4]
[74,51,2.2537291685,{"$f":"[1]!XLSTAT_PDFNormal(B74,0,1)","v":0},74,51,-3.7062348160000003,{"$f":"[1]!XLSTAT_PDFNormal(F74,0,1)","v":0},74,null,-2.8296593207000003,{"$f":"[1]!XLSTAT_PDFNormal(K74,0,1)","v":7.2814557666585388E-3},74,null,2,4]
[75,51,2.2618893125000001,{"$f":"[1]!XLSTAT_PDFNormal(B75,0,1)","v":0},75,51,-3.6980746720000002,{"$f":"[1]!XLSTAT_PDFNormal(F75,0,1)","v":0},75,null,-2.8136272566000002,{"$f":"[1]!XLSTAT_PDFNormal(K75,0,1)","v":7.6184091599014658E-3},75,null,3,4]
[76,2.2618893125000001,2.2618893125000001,{"$f":"[1]!XLSTAT_PDFNormal(B76,0,1)","v":3.0899657965865714E-2},76,-3.6980746720000002,-3.6980746720000002,{"$f":"[1]!XLSTAT_PDFNormal(F76,0,1)","v":4.2781629447108106E-4},76,null,-2.7975951925000002,{"$f":"[1]!XLSTAT_PDFNormal(K76,0,1)","v":7.9689067697185523E-3},76,null,4,4]
[77,2.2700494565000002,2.2700494565000002,{"$f":"[1]!XLSTAT_PDFNormal(B77,0,1)","v":3.0333553567805614E-2},77,-3.6899145280000001,-3.6899145280000001,{"$f":"[1]!XLSTAT_PDFNormal(F77,0,1)","v":4.409085184567806E-4},77,null,-2.7815631284000002,{"$f":"[1]!XLSTAT_PDFNormal(K77,0,1)","v":8.3333874246770134E-3},77,null,5,4]
[78,51,2.2700494565000002,{"$f":"[1]!XLSTAT_PDFNormal(B78,0,1)","v":0},78,51,-3.6899145280000001,{"$f":"[1]!XLSTAT_PDFNormal(F78,0,1)","v":0},78,null,-2.7655310643000002,{"$f":"[1]!XLSTAT_PDFNormal(K78,0,1)","v":8.7122990562299718E-3},78,null,6,4]
[79,51,2.2782096004999999,{"$f":"[1]!XLSTAT_PDFNormal(B79,0,1)","v":0},79,51,-3.681754384,{"$f":"[1]!XLSTAT_PDFNormal(F79,0,1)","v":0},79,null,-2.7494990002000002,{"$f":"[1]!XLSTAT_PDFNormal(K79,0,1)","v":9.1060986441428952E-3},79,null,7,4]
[80,2.2782096004999999,2.2782096004999999,{"$f":"[1]!XLSTAT_PDFNormal(B80,0,1)","v":2.9775837839523301E-2},80,-3.681754384,-3.681754384,{"$f":"[1]!XLSTAT_PDFNormal(F80,0,1)","v":4.5437113983732923E-4},80,null,-2.7334669361000001,{"$f":"[1]!XLSTAT_PDFNormal(K80,0,1)","v":9.5152521475429068E-3},80,null,8,4]
[81,2.2863697445,2.2863697445,{"$f":"[1]!XLSTAT_PDFNormal(B81,0,1)","v":2.9226430135139928E-2},81,-3.6735942399999999,-3.6735942399999999,{"$f":"[1]!XLSTAT_PDFNormal(F81,0,1)","v":4.6821364805203211E-4},81,null,-2.7174348720000001,{"$f":"[1]!XLSTAT_PDFNormal(K81,0,1)","v":9.9402344210460444E-3},81,null,9,4]
[82,51,2.2863697445,{"$f":"[1]!XLSTAT_PDFNormal(B82,0,1)","v":0},82,51,-3.6735942399999999,{"$f":"[1]!XLSTAT_PDFNormal(F82,0,1)","v":0},82,null,-2.7014028079000001,{"$f":"[1]!XLSTAT_PDFNormal(K82,0,1)","v":1.0381529115420294E-2},82,null,10,4]
[83,51,2.2945298885000001,{"$f":"[1]!XLSTAT_PDFNormal(B83,0,1)","v":0},83,51,-3.6654340960000003,{"$f":"[1]!XLSTAT_PDFNormal(F83,0,1)","v":0},83,null,-2.6853707438000001,{"$f":"[1]!XLSTAT_PDFNormal(K83,0,1)","v":1.0839628562246191E-2},83,null,11,4]
[84,2.2945298885000001,2.2945298885000001,{"$f":"[1]!XLSTAT_PDFNormal(B84,0,1)","v":2.8685249649903381E-2},84,-3.6654340960000003,-3.6654340960000003,{"$f":"[1]!XLSTAT_PDFNormal(F84,0,1)","v":4.8244574492243539E-4},84,null,-2.6693386797,{"$f":"[1]!XLSTAT_PDFNormal(K84,0,1)","v":1.1315033642042166E-2},84,null,12,4]
[85,2.3026900325000002,2.3026900325000002,{"$f":"[1]!XLSTAT_PDFNormal(B85,0,1)","v":2.8152215444441863E-2},85,-3.6572739520000002,-3.6572739520000002,{"$f":"[1]!XLSTAT_PDFNormal(F85,0,1)","v":4.9707734849931866E-4},85,null,-2.6533066156,{"$f":"[1]!XLSTAT_PDFNormal(K85,0,1)","v":1.1808253635328423E-2},85,null,13,4]
[86,51,2.3026900325000002,{"$f":"[1]!XLSTAT_PDFNormal(B86,0,1)","v":0},86,51,-3.6572739520000002,{"$f":"[1]!XLSTAT_PDFNormal(F86,0,1)","v":0},86,null,-2.6372745515,{"$f":"[1]!XLSTAT_PDFNormal(K86,0,1)","v":1.2319806056111243E-2},86,null,14,4]
[87,51,2.3108501765000002,{"$f":"[1]!XLSTAT_PDFNormal(B87,0,1)","v":0},87,51,-3.6491138080000001,{"$f":"[1]!XLSTAT_PDFNormal(F87,0,1)","v":0},87,null,-2.6212424874,{"$f":"[1]!XLSTAT_PDFNormal(K87,0,1)","v":1.2850216467279095E-2},87,null,15,4]
[88,2.3108501765000002,2.3108501765000002,{"$f":"[1]!XLSTAT_PDFNormal(B88,0,1)","v":2.76272464686136E-2},88,-3.6491138080000001,-3.6491138080000001,{"$f":"[1]!XLSTAT_PDFNormal(F88,0,1)","v":5.121185969536677E-4},88,null,-2.6052104233,{"$f":"[1]!XLSTAT_PDFNormal(K88,0,1)","v":1.3400018277413023E-2},88,null,16,4]
[89,2.3190103204999999,2.3190103204999999,{"$f":"[1]!XLSTAT_PDFNormal(B89,0,1)","v":2.7110261584950782E-2},89,-3.640953664,-3.640953664,{"$f":"[1]!XLSTAT_PDFNormal(F89,0,1)","v":5.275798525114034E-4},89,null,-2.5891783591999999,{"$f":"[1]!XLSTAT_PDFNormal(K89,0,1)","v":1.3969752518526194E-2},89,null,17,4]
[90,51,2.3190103204999999,{"$f":"[1]!XLSTAT_PDFNormal(B90,0,1)","v":0},90,51,-3.640953664,{"$f":"[1]!XLSTAT_PDFNormal(F90,0,1)","v":0},90,null,-2.5731462950999999,{"$f":"[1]!XLSTAT_PDFNormal(K90,0,1)","v":1.455996760426167E-2},90,null,18,4]
[91,51,2.3271704645,{"$f":"[1]!XLSTAT_PDFNormal(B91,0,1)","v":0},91,51,-3.6327935199999999,{"$f":"[1]!XLSTAT_PDFNormal(F91,0,1)","v":0},91,null,-2.5571142309999999,{"$f":"[1]!XLSTAT_PDFNormal(K91,0,1)","v":1.5171219068093119E-2},91,null,19,4]
[92,2.3271704645,2.3271704645,{"$f":"[1]!XLSTAT_PDFNormal(B92,0,1)","v":2.6601179591695782E-2},92,-3.6327935199999999,-3.6327935199999999,{"$f":"[1]!XLSTAT_PDFNormal(F92,0,1)","v":5.4347170543158165E-4},92,null,-2.5410821668999999,{"$f":"[1]!XLSTAT_PDFNormal(K92,0,1)","v":1.5804069281090481E-2},92,null,20,4]
[93,2.3353306085000001,2.3353306085000001,{"$f":"[1]!XLSTAT_PDFNormal(B93,0,1)","v":2.6099919245428455E-2},93,-3.6246333760000002,-3.6246333760000002,{"$f":"[1]!XLSTAT_PDFNormal(F93,0,1)","v":5.5980497802777358E-4},93,null,-2.5250501027999999,{"$f":"[1]!XLSTAT_PDFNormal(K93,0,1)","v":1.6459087148831628E-2},93,null,21,4]
[94,51,2.3353306085000001,{"$f":"[1]!XLSTAT_PDFNormal(B94,0,1)","v":0},94,51,-3.6246333760000002,{"$f":"[1]!XLSTAT_PDFNormal(F94,0,1)","v":0},94,null,-2.5090180386999998,{"$f":"[1]!XLSTAT_PDFNormal(K94,0,1)","v":1.7136847787061604E-2},94,null,22,4]
[95,51,2.3434907525000002,{"$f":"[1]!XLSTAT_PDFNormal(B95,0,1)","v":0},95,51,-3.6164732320000001,{"$f":"[1]!XLSTAT_PDFNormal(F95,0,1)","v":0},95,null,-2.4929859745999998,{"$f":"[1]!XLSTAT_PDFNormal(K95,0,1)","v":1.7837932175723541E-2},95,null,23,4]
[96,2.3434907525000002,2.3434907525000002,{"$f":"[1]!XLSTAT_PDFNormal(B96,0,1)","v":2.5606399283282805E-2},96,-3.6164732320000001,-3.6164732320000001,{"$f":"[1]!XLSTAT_PDFNormal(F96,0,1)","v":5.7659072873230408E-4},96,null,-2.4769539104999998,{"$f":"[1]!XLSTAT_PDFNormal(K96,0,1)","v":1.856292679100921E-2},96,null,24,4]
[97,2.3516508964999998,2.3516508964999998,{"$f":"[1]!XLSTAT_PDFNormal(B97,0,1)","v":2.5120538444752413E-2},97,-3.6083130880000001,-3.6083130880000001,{"$f":"[1]!XLSTAT_PDFNormal(F97,0,1)","v":5.9384025620297755E-4},97,null,-2.4609218463999998,{"$f":"[1]!XLSTAT_PDFNormal(K97,0,1)","v":1.9312423215103174E-2},97,null,1,5]
[98,51,2.3516508964999998,{"$f":"[1]!XLSTAT_PDFNormal(B98,0,1)","v":0},98,51,-3.6083130880000001,{"$f":"[1]!XLSTAT_PDFNormal(F98,0,1)","v":0},98,null,-2.4448897822999998,{"$f":"[1]!XLSTAT_PDFNormal(K98,0,1)","v":2.0087017723321981E-2},98,null,2,5]
[99,51,2.3598110404999999,{"$f":"[1]!XLSTAT_PDFNormal(B99,0,1)","v":0},99,51,-3.600152944,{"$f":"[1]!XLSTAT_PDFNormal(F99,0,1)","v":0},99,null,-2.4288577181999997,{"$f":"[1]!XLSTAT_PDFNormal(K99,0,1)","v":2.0887310848379071E-2},99,null,3,5]
[100,2.3598110404999999,2.3598110404999999,{"$f":"[1]!XLSTAT_PDFNormal(B100,0,1)","v":2.4642255493083152E-2},100,-3.600152944,-3.600152944,{"$f":"[1]!XLSTAT_PDFNormal(F100,0,1)","v":6.1156510347191463E-4},100,null,-2.4128256540999997,{"$f":"[1]!XLSTAT_PDFNormal(K100,0,1)","v":2.1713906921537268E-2},100,null,4,5]
[101,2.3679711845,2.3679711845,{"$f":"[1]!XLSTAT_PDFNormal(B101,0,1)","v":2.4171469236253264E-2},101,-3.5919927999999999,-3.5919927999999999,{"$f":"[1]!XLSTAT_PDFNormal(F101,0,1)","v":6.2977706213608261E-4},101,null,-2.3967935899999997,{"$f":"[1]!XLSTAT_PDFNormal(K101,0,1)","v":2.2567413590443459E-2},101,null,5,5]
[102,51,2.3679711845,{"$f":"[1]!XLSTAT_PDFNormal(B102,0,1)","v":0},102,51,-3.5919927999999999,{"$f":"[1]!XLSTAT_PDFNormal(F102,0,1)","v":0},102,null,-2.3807615258999997,{"$f":"[1]!XLSTAT_PDFNormal(K102,0,1)","v":2.3448441313474691E-2},102,null,6,5]
[103,51,2.3761313285000001,{"$f":"[1]!XLSTAT_PDFNormal(B103,0,1)","v":0},103,51,-3.5838326560000002,{"$f":"[1]!XLSTAT_PDFNormal(F103,0,1)","v":0},103,null,-2.3647294618000001,{"$f":"[1]!XLSTAT_PDFNormal(K103,0,1)","v":2.4357602830461043E-2},103,null,7,5]
[104,2.3761313285000001,2.3761313285000001,{"$f":"[1]!XLSTAT_PDFNormal(B104,0,1)","v":2.370809854753967E-2},104,-3.5838326560000002,-3.5838326560000002,{"$f":"[1]!XLSTAT_PDFNormal(F104,0,1)","v":6.484881765890495E-4},104,null,-2.3486973977000001,{"$f":"[1]!XLSTAT_PDFNormal(K104,0,1)","v":2.5295512609689128E-2},104,null,8,5]
[105,2.3842914725000002,2.3842914725000002,{"$f":"[1]!XLSTAT_PDFNormal(B105,0,1)","v":2.3252062385670562E-2},105,-3.5756725120000001,-3.5756725120000001,{"$f":"[1]!XLSTAT_PDFNormal(F105,0,1)","v":6.6771074829350297E-4},105,null,-2.3326653336000001,{"$f":"[1]!XLSTAT_PDFNormal(K105,0,1)","v":2.6262786271128762E-2},105,null,9,5]
[106,51,2.3842914725000002,{"$f":"[1]!XLSTAT_PDFNormal(B106,0,1)","v":0},106,51,-3.5756725120000001,{"$f":"[1]!XLSTAT_PDFNormal(F106,0,1)","v":0},106,null,-2.3166332695,{"$f":"[1]!XLSTAT_PDFNormal(K106,0,1)","v":2.7260039985868224E-2},106,null,10,5]
[107,51,2.3924516164999998,{"$f":"[1]!XLSTAT_PDFNormal(B107,0,1)","v":0},107,51,-3.567512368,{"$f":"[1]!XLSTAT_PDFNormal(F107,0,1)","v":0},107,null,-2.3006012054,{"$f":"[1]!XLSTAT_PDFNormal(K107,0,1)","v":2.8287889851785212E-2},107,null,11,5]
[108,2.3924516164999998,2.3924516164999998,{"$f":"[1]!XLSTAT_PDFNormal(B108,0,1)","v":2.2803279814564238E-2},108,-3.567512368,-3.567512368,{"$f":"[1]!XLSTAT_PDFNormal(F108,0,1)","v":6.874573400939886E-4},108,null,-2.2845691413,{"$f":"[1]!XLSTAT_PDFNormal(K108,0,1)","v":2.9346951245525731E-2},108,null,12,5]
[109,2.4006117604999999,2.4006117604999999,{"$f":"[1]!XLSTAT_PDFNormal(B109,0,1)","v":2.2361670022654073E-2},109,-3.559352224,-3.559352224,{"$f":"[1]!XLSTAT_PDFNormal(F109,0,1)","v":7.0774078056933779E-4},109,null,-2.2685370772,{"$f":"[1]!XLSTAT_PDFNormal(K109,0,1)","v":3.0437838150909606E-2},109,null,13,5]
[110,51,2.4006117604999999,{"$f":"[1]!XLSTAT_PDFNormal(B110,0,1)","v":0},110,51,-3.559352224,{"$f":"[1]!XLSTAT_PDFNormal(F110,0,1)","v":0},110,null,-2.2525050131,{"$f":"[1]!XLSTAT_PDFNormal(K110,0,1)","v":3.1561162463928503E-2},110,null,14,5]
[111,51,2.4087719045,{"$f":"[1]!XLSTAT_PDFNormal(B111,0,1)","v":0},111,51,-3.5511920799999999,{"$f":"[1]!XLSTAT_PDFNormal(F111,0,1)","v":0},111,null,-2.2364729489999999,{"$f":"[1]!XLSTAT_PDFNormal(K111,0,1)","v":3.271753327455159E-2},111,null,15,5]
[112,2.4087719045,2.4087719045,{"$f":"[1]!XLSTAT_PDFNormal(B112,0,1)","v":2.1927152341800333E-2},112,-3.5511920799999999,-3.5511920799999999,{"$f":"[1]!XLSTAT_PDFNormal(F112,0,1)","v":7.2857416842417842E-4},112,null,-2.2204408848999999,{"$f":"[1]!XLSTAT_PDFNormal(K112,0,1)","v":3.3907556125604831E-2},112,null,16,5]
[113,2.4169320485000001,2.4169320485000001,{"$f":"[1]!XLSTAT_PDFNormal(B113,0,1)","v":2.1499646265788829E-2},113,-3.5430319360000002,-3.5430319360000002,{"$f":"[1]!XLSTAT_PDFNormal(F113,0,1)","v":7.499708769189181E-4},113,null,-2.2044088207999999,{"$f":"[1]!XLSTAT_PDFNormal(K113,0,1)","v":3.5131832249041262E-2},113,null,17,5]
[114,51,2.4169320485000001,{"$f":"[1]!XLSTAT_PDFNormal(B114,0,1)","v":0},114,51,-3.5430319360000002,{"$f":"[1]!XLSTAT_PDFNormal(F114,0,1)","v":0},114,null,-2.1883767567000003,{"$f":"[1]!XLSTAT_PDFNormal(K114,0,1)","v":3.6390957779972907E-2},114,null,18,5]
[115,51,2.4250921925000002,{"$f":"[1]!XLSTAT_PDFNormal(B115,0,1)","v":0},115,51,-3.5348717920000001,{"$f":"[1]!XLSTAT_PDFNormal(F115,0,1)","v":0},115,null,-2.1723446926000003,{"$f":"[1]!XLSTAT_PDFNormal(K115,0,1)","v":3.7685522948889459E-2},115,null,19,5]
[116,2.4250921925000002,2.4250921925000002,{"$f":"[1]!XLSTAT_PDFNormal(B116,0,1)","v":2.1079071468417494E-2},116,-3.5348717920000001,-3.5348717920000001,{"$f":"[1]!XLSTAT_PDFNormal(F116,0,1)","v":7.719445583375343E-4},116,null,-2.1563126285000003,{"$f":"[1]!XLSTAT_PDFNormal(K116,0,1)","v":3.9016111252543388E-2},116,null,20,5]
[117,2.4332523364999998,2.4332523364999998,{"$f":"[1]!XLSTAT_PDFNormal(B117,0,1)","v":2.0665347821171572E-2},117,-3.526711648,-3.526711648,{"$f":"[1]!XLSTAT_PDFNormal(F117,0,1)","v":7.945091484924617E-4},117,null,-2.1402805644000003,{"$f":"[1]!XLSTAT_PDFNormal(K117,0,1)","v":4.0383298604038893E-2},117,null,21,5]
[118,51,2.4332523364999998,{"$f":"[1]!XLSTAT_PDFNormal(B118,0,1)","v":0},118,51,-3.526711648,{"$f":"[1]!XLSTAT_PDFNormal(F118,0,1)","v":0},118,null,-2.1242485003000002,{"$f":"[1]!XLSTAT_PDFNormal(K118,0,1)","v":4.1787652462717692E-2},118,null,22,5]
[119,51,2.4414124804999999,{"$f":"[1]!XLSTAT_PDFNormal(B119,0,1)","v":0},119,51,-3.5185515039999999,{"$f":"[1]!XLSTAT_PDFNormal(F119,0,1)","v":0},119,null,-2.1082164362000002,{"$f":"[1]!XLSTAT_PDFNormal(K119,0,1)","v":4.3229730944493845E-2},119,null,23,5]
[120,2.4414124804999999,2.4414124804999999,{"$f":"[1]!XLSTAT_PDFNormal(B120,0,1)","v":2.0258395410488371E-2},120,-3.5185515039999999,-3.5185515039999999,{"$f":"[1]!XLSTAT_PDFNormal(F120,0,1)","v":8.176788712658628E-4},120,null,-2.0921843721000002,{"$f":"[1]!XLSTAT_PDFNormal(K120,0,1)","v":4.4710081913348271E-2},120,null,24,5]
[121,2.4495726245,2.4495726245,{"$f":"[1]!XLSTAT_PDFNormal(B121,0,1)","v":1.9858134554613029E-2},121,-3.5103913599999998,-3.5103913599999998,{"$f":"[1]!XLSTAT_PDFNormal(F121,0,1)","v":8.4146824318649075E-4},121,null,-2.0761523080000002,{"$f":"[1]!XLSTAT_PDFNormal(K121,0,1)","v":4.622924205475204E-2},121,null,1,6]
[122,51,2.4495726245,{"$f":"[1]!XLSTAT_PDFNormal(B122,0,1)","v":0},122,51,-3.5103913599999998,{"$f":"[1]!XLSTAT_PDFNormal(F122,0,1)","v":0},122,null,-2.0601202439000001,{"$f":"[1]!XLSTAT_PDFNormal(K122,0,1)","v":4.7787735931848922E-2},122,null,2,6]
[123,51,2.4577327685000001,{"$f":"[1]!XLSTAT_PDFNormal(B123,0,1)","v":0},123,51,-3.5022312160000002,{"$f":"[1]!XLSTAT_PDFNormal(F123,0,1)","v":0},123,null,-2.0440881798000001,{"$f":"[1]!XLSTAT_PDFNormal(K123,0,1)","v":4.9386075025286011E-2},123,null,3,6]
[124,2.4577327685000001,2.4577327685000001,{"$f":"[1]!XLSTAT_PDFNormal(B124,0,1)","v":1.9464485820046361E-2},124,-3.5022312160000002,-3.5022312160000002,{"$f":"[1]!XLSTAT_PDFNormal(F124,0,1)","v":8.6589207804133104E-4},124,null,-2.0280561157000001,{"$f":"[1]!XLSTAT_PDFNormal(K124,0,1)","v":5.1024756757642432E-2},124,null,4,6]
[125,2.4658929125000002,2.4658929125000002,{"$f":"[1]!XLSTAT_PDFNormal(B125,0,1)","v":1.907737003758652E-2},125,-3.4940710720000001,-3.4940710720000001,{"$f":"[1]!XLSTAT_PDFNormal(F125,0,1)","v":8.9096549152117746E-4},125,null,-2.0120240516000001,{"$f":"[1]!XLSTAT_PDFNormal(K125,0,1)","v":5.2704263503466395E-2},125,null,5,6]
[126,51,2.4658929125000002,{"$f":"[1]!XLSTAT_PDFNormal(B126,0,1)","v":0},126,51,-3.4940710720000001,{"$f":"[1]!XLSTAT_PDFNormal(F126,0,1)","v":0},126,null,-1.9959919875000001,{"$f":"[1]!XLSTAT_PDFNormal(K126,0,1)","v":5.4425061585990787E-2},126,null,6,6]
[127,51,2.4740530564999998,{"$f":"[1]!XLSTAT_PDFNormal(B127,0,1)","v":0},127,51,-3.485910928,{"$f":"[1]!XLSTAT_PDFNormal(F127,0,1)","v":0},127,null,-1.9799599234,{"$f":"[1]!XLSTAT_PDFNormal(K127,0,1)","v":5.61876002616577E-2},127,null,7,6]
[128,2.4740530564999998,2.4740530564999998,{"$f":"[1]!XLSTAT_PDFNormal(B128,0,1)","v":1.8696708317966042E-2},128,-3.485910928,-3.485910928,{"$f":"[1]!XLSTAT_PDFNormal(F128,0,1)","v":9.1670390589922959E-4},128,null,-1.9639278593,{"$f":"[1]!XLSTAT_PDFNormal(K128,0,1)","v":5.7992310693641927E-2},128,null,8,6]
[129,{"$f":"IF(-1^(INT(A129/2)+2)>0,1.9599639845+2*INT(A129/2-1/2)*0.004080072,51)","v":2.4822132004999999},{"$f":"1.9599639845+2*INT(A129/2-1/2)*0.004080072","v":2.4822132004999999},{"$f":"[1]!XLSTAT_PDFNormal(B129,0,1)","v":1.8322422067086112E-2},129,{"$f":"IF(-1^(INT(E129/2)+2)>0,-4+2*INT(E129/2-1/2)*0.004080072,51)","v":-3.4777507839999999},{"$f":"-4+2*INT(E129/2-1/2)*0.004080072","v":-3.4777507839999999},{"$f":"[1]!XLSTAT_PDFNormal(F129,0,1)","v":9.4312305474178904E-4},129,null,{"$f":"-4+(I129-1)*0.0160320641","v":-1.9478957952},{"$f":"[1]!XLSTAT_PDFNormal(K129,0,1)","v":5.9839604915622416E-2},129,null,{"$f":"M129-24*INT((-1/2+M129)/24)","v":9},{"$f":"1+INT((M129-1/2)/24)","v":6}]
[130,51,2.4822132004999999,{"$f":"[1]!XLSTAT_PDFNormal(B130,0,1)","v":0},130,51,-3.4777507839999999,{"$f":"[1]!XLSTAT_PDFNormal(F130,0,1)","v":0},130,null,-1.9318637311,{"$f":"[1]!XLSTAT_PDFNormal(K130,0,1)","v":6.1729874787109403E-2},130,null,10,6]
[131,51,2.4903733445,{"$f":"[1]!XLSTAT_PDFNormal(B131,0,1)","v":0},131,51,-3.4695906399999998,{"$f":"[1]!XLSTAT_PDFNormal(F131,0,1)","v":0},131,null,-1.915831667,{"$f":"[1]!XLSTAT_PDFNormal(K131,0,1)","v":6.3663490941692172E-2},131,null,11,6]
[132,2.4903733445,2.4903733445,{"$f":"[1]!XLSTAT_PDFNormal(B132,0,1)","v":1.7954433000850215E-2},132,-3.4695906399999998,-3.4695906399999998,{"$f":"[1]!XLSTAT_PDFNormal(F132,0,1)","v":9.7023898765007414E-4},132,null,-1.8997996028999999,{"$f":"[1]!XLSTAT_PDFNormal(K132,0,1)","v":6.5640801729629328E-2},132,null,12,6]
[133,2.4985334885000001,2.4985334885000001,{"$f":"[1]!XLSTAT_PDFNormal(B133,0,1)","v":1.7592663159599009E-2},133,-3.4614304960000002,-3.4614304960000002,{"$f":"[1]!XLSTAT_PDFNormal(F133,0,1)","v":9.9806807503211937E-4},133,null,-1.8837675387999999,{"$f":"[1]!XLSTAT_PDFNormal(K133,0,1)","v":6.7662132156258784E-2},133,null,13,6]
[134,51,2.4985334885000001,{"$f":"[1]!XLSTAT_PDFNormal(B134,0,1)","v":0},134,51,-3.4614304960000002,{"$f":"[1]!XLSTAT_PDFNormal(F134,0,1)","v":0},134,null,-1.8677354746999999,{"$f":"[1]!XLSTAT_PDFNormal(K134,0,1)","v":6.9727782817758321E-2},134,null,14,6]
[135,51,2.5066936325000002,{"$f":"[1]!XLSTAT_PDFNormal(B135,0,1)","v":0},135,51,-3.4532703520000001,{"$f":"[1]!XLSTAT_PDFNormal(F135,0,1)","v":0},135,null,-1.8517034105999999,{"$f":"[1]!XLSTAT_PDFNormal(K135,0,1)","v":7.1838028835841269E-2},135,null,15,6]
[136,2.5066936325000002,2.5066936325000002,{"$f":"[1]!XLSTAT_PDFNormal(B136,0,1)","v":1.723703492214889E-2},136,-3.4532703520000001,-3.4532703520000001,{"$f":"[1]!XLSTAT_PDFNormal(F136,0,1)","v":1.0266270129037042E-3},136,null,-1.8356713464999999,{"$f":"[1]!XLSTAT_PDFNormal(K136,0,1)","v":7.3993118793021354E-2},136,null,16,6]
[137,2.5148537764999999,2.5148537764999999,{"$f":"[1]!XLSTAT_PDFNormal(B137,0,1)","v":1.6887471019436634E-2},137,-3.445110208,-3.445110208,{"$f":"[1]!XLSTAT_PDFNormal(F137,0,1)","v":1.0559328277171896E-3},137,null,-1.8196392823999998,{"$f":"[1]!XLSTAT_PDFNormal(K137,0,1)","v":7.6193273670131137E-2},137,null,17,6]
[138,51,2.5148537764999999,{"$f":"[1]!XLSTAT_PDFNormal(B138,0,1)","v":0},138,51,-3.445110208,{"$f":"[1]!XLSTAT_PDFNormal(F138,0,1)","v":0},138,null,-1.8036072182999998,{"$f":"[1]!XLSTAT_PDFNormal(K138,0,1)","v":7.8438685787824564E-2},138,null,18,6]
[139,51,2.5230139205,{"$f":"[1]!XLSTAT_PDFNormal(B139,0,1)","v":0},139,51,-3.4369500639999999,{"$f":"[1]!XLSTAT_PDFNormal(F139,0,1)","v":0},139,null,-1.7875751541999998,{"$f":"[1]!XLSTAT_PDFNormal(K139,0,1)","v":8.0729517753839672E-2},139,null,19,6]
[140,2.5230139205,2.5230139205,{"$f":"[1]!XLSTAT_PDFNormal(B140,0,1)","v":1.6543894547772553E-2},140,-3.4369500639999999,-3.4369500639999999,{"$f":"[1]!XLSTAT_PDFNormal(F140,0,1)","v":1.0860028812171205E-3},140,null,-1.7715430901000002,{"$f":"[1]!XLSTAT_PDFNormal(K140,0,1)","v":8.3065901417839413E-2},140,null,20,6]
[141,2.5311740645,2.5311740645,{"$f":"[1]!XLSTAT_PDFNormal(B141,0,1)","v":1.6206228981705047E-2},141,-3.4287899199999998,-3.4287899199999998,{"$f":"[1]!XLSTAT_PDFNormal(F141,0,1)","v":1.1168548753213773E-3},141,null,-1.7555110260000002,{"$f":"[1]!XLSTAT_PDFNormal(K141,0,1)","v":8.54479368356897E-2},141,null,21,6]
[142,51,2.5311740645,{"$f":"[1]!XLSTAT_PDFNormal(B142,0,1)","v":0},142,51,-3.4287899199999998,{"$f":"[1]!XLSTAT_PDFNormal(F142,0,1)","v":0},142,null,-1.7394789619000002,{"$f":"[1]!XLSTAT_PDFNormal(K142,0,1)","v":8.7875691245068721E-2},142,null,22,6]
[143,51,2.5393342085000001,{"$f":"[1]!XLSTAT_PDFNormal(B143,0,1)","v":0},143,51,-3.4206297760000002,{"$f":"[1]!XLSTAT_PDFNormal(F143,0,1)","v":0},143,null,-1.7234468978000002,{"$f":"[1]!XLSTAT_PDFNormal(K143,0,1)","v":9.034919805433933E-2},143,null,23,6]
[144,2.5393342085000001,2.5393342085000001,{"$f":"[1]!XLSTAT_PDFNormal(B144,0,1)","v":1.5874398186499092E-2},144,-3.4206297760000002,-3.4206297760000002,{"$f":"[1]!XLSTAT_PDFNormal(F144,0,1)","v":1.1485068570266412E-3},144,null,-1.7074148337000001,{"$f":"[1]!XLSTAT_PDFNormal(K144,0,1)","v":9.2868455846644632E-2},144,null,24,6]
[145,2.5474943525000002,2.5474943525000002,{"$f":"[1]!XLSTAT_PDFNormal(B145,0,1)","v":1.5548326430231728E-2},145,-3.4124696320000001,-3.4124696320000001,{"$f":"[1]!XLSTAT_PDFNormal(F145,0,1)","v":1.1809772233368728E-3},145,null,-1.6913827696000001,{"$f":"[1]!XLSTAT_PDFNormal(K145,0,1)","v":9.5433427401216755E-2},145,null,1,7]
[146,51,2.5474943525000002,{"$f":"[1]!XLSTAT_PDFNormal(B146,0,1)","v":0},146,51,-3.4124696320000001,{"$f":"[1]!XLSTAT_PDFNormal(F146,0,1)","v":0},146,null,-1.6753507055000001,{"$f":"[1]!XLSTAT_PDFNormal(K146,0,1)","v":9.8044038733913458E-2},146,null,2,7]
[147,51,2.5556544964999999,{"$f":"[1]!XLSTAT_PDFNormal(B147,0,1)","v":0},147,51,-3.404309488,{"$f":"[1]!XLSTAT_PDFNormal(F147,0,1)","v":0},147,null,-1.6593186414000001,{"$f":"[1]!XLSTAT_PDFNormal(K147,0,1)","v":0.10070017815901819},147,null,3,7]
[148,2.5556544964999999,2.5556544964999999,{"$f":"[1]!XLSTAT_PDFNormal(B148,0,1)","v":1.5227938395507651E-2},148,-3.404309488,-3.404309488,{"$f":"[1]!XLSTAT_PDFNormal(F148,0,1)","v":1.2142847262134472E-3},148,null,-1.6432865773000001,{"$f":"[1]!XLSTAT_PDFNormal(K148,0,1)","v":0.10340169537435714},148,null,4,7]
[149,2.5638146405,2.5638146405,{"$f":"[1]!XLSTAT_PDFNormal(B149,0,1)","v":1.4913159190797763E-2},149,-3.3961493439999999,-3.3961493439999999,{"$f":"[1]!XLSTAT_PDFNormal(F149,0,1)","v":1.2484484775455826E-3},149,null,-1.6272545132,{"$f":"[1]!XLSTAT_PDFNormal(K149,0,1)","v":0.10614840057180078},149,null,5,7]
[150,51,2.5638146405,{"$f":"[1]!XLSTAT_PDFNormal(B150,0,1)","v":0},150,51,-3.3961493439999999,{"$f":"[1]!XLSTAT_PDFNormal(F150,0,1)","v":0},150,null,-1.6112224491,{"$f":"[1]!XLSTAT_PDFNormal(K150,0,1)","v":0.10894006357522758},150,null,6,7]
[151,51,2.5719747845000001,{"$f":"[1]!XLSTAT_PDFNormal(B151,0,1)","v":0},151,51,-3.3879891999999998,{"$f":"[1]!XLSTAT_PDFNormal(F151,0,1)","v":0},151,null,-1.595190385,{"$f":"[1]!XLSTAT_PDFNormal(K151,0,1)","v":0.11177641300803286},151,null,7,7]
[152,2.5719747845000001,2.5719747845000001,{"$f":"[1]!XLSTAT_PDFNormal(B152,0,1)","v":1.4603914361404405E-2},152,-3.3879891999999998,-3.3879891999999998,{"$f":"[1]!XLSTAT_PDFNormal(F152,0,1)","v":1.2834879541396031E-3},152,null,-1.5791583209,{"$f":"[1]!XLSTAT_PDFNormal(K152,0,1)","v":0.11465713549226852},152,null,8,7]
[153,2.5801349285000001,2.5801349285000001,{"$f":"[1]!XLSTAT_PDFNormal(B153,0,1)","v":1.4300129900056158E-2},153,-3.3798290560000002,-3.3798290560000002,{"$f":"[1]!XLSTAT_PDFNormal(F153,0,1)","v":1.3194230027255411E-3},153,null,-1.5631262567999999,{"$f":"[1]!XLSTAT_PDFNormal(K153,0,1)","v":0.11758187488149574},153,null,9,7]
[154,51,2.5801349285000001,{"$f":"[1]!XLSTAT_PDFNormal(B154,0,1)","v":0},154,51,-3.3798290560000002,{"$f":"[1]!XLSTAT_PDFNormal(F154,0,1)","v":0},154,null,-1.5470941926999999,{"$f":"[1]!XLSTAT_PDFNormal(K154,0,1)","v":0.12055023152942658},154,null,10,7]
[155,51,2.5882950725000002,{"$f":"[1]!XLSTAT_PDFNormal(B155,0,1)","v":0},155,51,-3.3716689120000001,{"$f":"[1]!XLSTAT_PDFNormal(F155,0,1)","v":0},155,null,-1.5310621285999999,{"$f":"[1]!XLSTAT_PDFNormal(K155,0,1)","v":0.12356176159641909},155,null,11,7]
[156,2.5882950725000002,2.5882950725000002,{"$f":"[1]!XLSTAT_PDFNormal(B156,0,1)","v":1.4001732257135958E-2},156,-3.3716689120000001,-3.3716689120000001,{"$f":"[1]!XLSTAT_PDFNormal(F156,0,1)","v":1.3562738449795656E-3},156,null,-1.5150300644999999,{"$f":"[1]!XLSTAT_PDFNormal(K156,0,1)","v":0.12661597639587338},156,null,12,7]
[157,2.5964552164999999,2.5964552164999999,{"$f":"[1]!XLSTAT_PDFNormal(B157,0,1)","v":1.3708648350546051E-2},157,-3.363508768,-3.363508768,{"$f":"[1]!XLSTAT_PDFNormal(F157,0,1)","v":1.394061082560599E-3},157,null,-1.4989980003999999,{"$f":"[1]!XLSTAT_PDFNormal(K157,0,1)","v":0.12971234178255714},157,null,13,7]
[158,51,2.5964552164999999,{"$f":"[1]!XLSTAT_PDFNormal(B158,0,1)","v":0},158,51,-3.363508768,{"$f":"[1]!XLSTAT_PDFNormal(F158,0,1)","v":0},158,null,-1.4829659362999998,{"$f":"[1]!XLSTAT_PDFNormal(K158,0,1)","v":0.13285027758486159},158,null,14,7]
[159,51,2.6046153605,{"$f":"[1]!XLSTAT_PDFNormal(B159,0,1)","v":0},159,51,-3.3553486239999999,{"$f":"[1]!XLSTAT_PDFNormal(F159,0,1)","v":0},159,null,-1.4669338721999998,{"$f":"[1]!XLSTAT_PDFNormal(K159,0,1)","v":0.13602915708296096},159,null,15,7]
[160,2.6046153605,2.6046153605,{"$f":"[1]!XLSTAT_PDFNormal(B160,0,1)","v":1.3420805575213296E-2},160,-3.3553486239999999,-3.3553486239999999,{"$f":"[1]!XLSTAT_PDFNormal(F160,0,1)","v":1.4328057021595396E-3},160,null,-1.4509018080999998,{"$f":"[1]!XLSTAT_PDFNormal(K160,0,1)","v":0.13924830653481088},160,null,16,7]
[161,2.6127755045000001,2.6127755045000001,{"$f":"[1]!XLSTAT_PDFNormal(B161,0,1)","v":1.3138131812238853E-2},161,-3.3471884799999998,-3.3471884799999998,{"$f":"[1]!XLSTAT_PDFNormal(F161,0,1)","v":1.472529080559345E-3},161,null,-1.4348697440000002,{"$f":"[1]!XLSTAT_PDFNormal(K161,0,1)","v":0.14250700475188377},161,null,17,7]
[162,51,2.6127755045000001,{"$f":"[1]!XLSTAT_PDFNormal(B162,0,1)","v":0},162,51,-3.3471884799999998,{"$f":"[1]!XLSTAT_PDFNormal(F162,0,1)","v":0},162,null,-1.4188376799000002,{"$f":"[1]!XLSTAT_PDFNormal(K162,0,1)","v":0.14580448272649199},162,null,18,7]
[163,51,2.6209356485000002,{"$f":"[1]!XLSTAT_PDFNormal(B163,0,1)","v":0},163,51,-3.3390283360000002,{"$f":"[1]!XLSTAT_PDFNormal(F163,0,1)","v":0},163,null,-1.4028056158000002,{"$f":"[1]!XLSTAT_PDFNormal(K163,0,1)","v":0.14913992331250117},163,null,19,7]
[164,2.6209356485000002,2.6209356485000002,{"$f":"[1]!XLSTAT_PDFNormal(B164,0,1)","v":1.2860555437695719E-2},164,-3.3390283360000002,-3.3390283360000002,{"$f":"[1]!XLSTAT_PDFNormal(F164,0,1)","v":1.5132529897042546E-3},164,null,-1.3867735517000002,{"$f":"[1]!XLSTAT_PDFNormal(K164,0,1)","v":0.15251246096118137},164,null,20,7]
[165,2.6290957925000003,2.6290957925000003,{"$f":"[1]!XLSTAT_PDFNormal(B165,0,1)","v":1.2588005331078313E-2},165,-3.3308681920000001,-3.3308681920000001,{"$f":"[1]!XLSTAT_PDFNormal(F165,0,1)","v":1.5549996017763571E-3},165,null,-1.3707414876000001,{"$f":"[1]!XLSTAT_PDFNormal(K165,0,1)","v":0.15592118151388304},165,null,21,7]
[166,51,2.6290957925000003,{"$f":"[1]!XLSTAT_PDFNormal(B166,0,1)","v":0},166,51,-3.3308681920000001,{"$f":"[1]!XLSTAT_PDFNormal(F166,0,1)","v":0},166,null,-1.3547094235000001,{"$f":"[1]!XLSTAT_PDFNormal(K166,0,1)","v":0.15936512205316117},166,null,22,7]
[167,51,2.6372559364999999,{"$f":"[1]!XLSTAT_PDFNormal(B167,0,1)","v":0},167,51,-3.322708048,{"$f":"[1]!XLSTAT_PDFNormal(F167,0,1)","v":0},167,null,-1.3386773594000001,{"$f":"[1]!XLSTAT_PDFNormal(K167,0,1)","v":0.16284327081390129},167,null,23,7]
[168,2.6372559364999999,2.6372559364999999,{"$f":"[1]!XLSTAT_PDFNormal(B168,0,1)","v":1.2320410883408009E-2},168,-3.322708048,-3.322708048,{"$f":"[1]!XLSTAT_PDFNormal(F168,0,1)","v":1.5977914942776224E-3},168,null,-1.3226452953000001,{"$f":"[1]!XLSTAT_PDFNormal(K168,0,1)","v":0.16635456715592672},168,null,24,7]
[169,2.6454160805,2.6454160805,{"$f":"[1]!XLSTAT_PDFNormal(B169,0,1)","v":1.2057702004998543E-2},169,-3.3145479040000003,-3.3145479040000003,{"$f":"[1]!XLSTAT_PDFNormal(F169,0,1)","v":1.6416516551155211E-3},169,null,-1.3066132312000001,{"$f":"[1]!XLSTAT_PDFNormal(K169,0,1)","v":0.16989790159948731},169,null,1,8]
[170,51,2.6454160805,{"$f":"[1]!XLSTAT_PDFNormal(B170,0,1)","v":0},170,51,-3.3145479040000003,{"$f":"[1]!XLSTAT_PDFNormal(F170,0,1)","v":0},170,null,-1.2905811671,{"$f":"[1]!XLSTAT_PDFNormal(K170,0,1)","v":0.17347211592494705},170,null,2,8]
[171,51,2.6535762245000001,{"$f":"[1]!XLSTAT_PDFNormal(B171,0,1)","v":0},171,51,-3.3063877599999998,{"$f":"[1]!XLSTAT_PDFNormal(F171,0,1)","v":0},171,null,-1.274549103,{"$f":"[1]!XLSTAT_PDFNormal(K171,0,1)","v":0.17707600333789889},171,null,3,8]
[172,2.6535762245000001,2.6535762245000001,{"$f":"[1]!XLSTAT_PDFNormal(B172,0,1)","v":1.1799809132885766E-2},172,-3.3063877599999998,-3.3063877599999998,{"$f":"[1]!XLSTAT_PDFNormal(F172,0,1)","v":1.6866034876902704E-3},172,null,-1.2585170389,{"$f":"[1]!XLSTAT_PDFNormal(K172,0,1)","v":0.18070830870084326},172,null,4,8]
[173,2.6617363685000002,2.6617363685000002,{"$f":"[1]!XLSTAT_PDFNormal(B173,0,1)","v":1.1546663237925562E-2},173,-3.2982276160000001,-3.2982276160000001,{"$f":"[1]!XLSTAT_PDFNormal(F173,0,1)","v":1.7326708159816388E-3},173,null,-1.2424849748,{"$f":"[1]!XLSTAT_PDFNormal(K173,0,1)","v":0.1843677288324691},173,null,5,8]
[174,51,2.6617363685000002,{"$f":"[1]!XLSTAT_PDFNormal(B174,0,1)","v":0},174,51,-3.2982276160000001,{"$f":"[1]!XLSTAT_PDFNormal(F174,0,1)","v":0},174,null,-1.2264529107,{"$f":"[1]!XLSTAT_PDFNormal(K174,0,1)","v":0.18805291287547596},174,null,6,8]
[175,51,2.6698965125000003,{"$f":"[1]!XLSTAT_PDFNormal(B175,0,1)","v":0},175,51,-3.290067472,{"$f":"[1]!XLSTAT_PDFNormal(F175,0,1)","v":0},175,null,-1.2104208465999999,{"$f":"[1]!XLSTAT_PDFNormal(K175,0,1)","v":0.19176246273376957},175,null,7,8]
[176,2.6698965125000003,2.6698965125000003,{"$f":"[1]!XLSTAT_PDFNormal(B176,0,1)","v":1.1298195831564444E-2},176,-3.290067472,-3.290067472,{"$f":"[1]!XLSTAT_PDFNormal(F176,0,1)","v":1.7798778896333373E-3},176,null,-1.1943887824999999,{"$f":"[1]!XLSTAT_PDFNormal(K176,0,1)","v":0.19549493357975525},176,null,8,8]
[177,2.6780566564999999,2.6780566564999999,{"$f":"[1]!XLSTAT_PDFNormal(B177,0,1)","v":1.1054338972287098E-2},177,-3.281907328,-3.281907328,{"$f":"[1]!XLSTAT_PDFNormal(F177,0,1)","v":1.8282493890327582E-3},177,null,-1.1783567183999999,{"$f":"[1]!XLSTAT_PDFNormal(K177,0,1)","v":0.19924883443233954},177,null,9,8]
[178,51,2.6780566564999999,{"$f":"[1]!XLSTAT_PDFNormal(B178,0,1)","v":0},178,51,-3.281907328,{"$f":"[1]!XLSTAT_PDFNormal(F178,0,1)","v":0},178,null,-1.1623246542999999,{"$f":"[1]!XLSTAT_PDFNormal(K178,0,1)","v":0.20302262880613547},178,null,10,8]
[179,51,2.6862168005,{"$f":"[1]!XLSTAT_PDFNormal(B179,0,1)","v":0},179,51,-3.2737471840000003,{"$f":"[1]!XLSTAT_PDFNormal(F179,0,1)","v":0},179,null,-1.1462925901999999,{"$f":"[1]!XLSTAT_PDFNormal(K179,0,1)","v":0.2068147354322461},179,null,11,8]
[180,2.6862168005,2.6862168005,{"$f":"[1]!XLSTAT_PDFNormal(B180,0,1)","v":1.081502527174516E-2},180,-3.2737471840000003,-3.2737471840000003,{"$f":"[1]!XLSTAT_PDFNormal(F180,0,1)","v":1.8778104303839676E-3},180,null,-1.1302605260999998,{"$f":"[1]!XLSTAT_PDFNormal(K180,0,1)","v":0.21062352905087889},180,null,12,8]
[181,2.6943769445000001,2.6943769445000001,{"$f":"[1]!XLSTAT_PDFNormal(B181,0,1)","v":1.0580187900571886E-2},181,-3.2655870400000002,-3.2655870400000002,{"$f":"[1]!XLSTAT_PDFNormal(F181,0,1)","v":1.9285865707716677E-3},181,null,-1.1142284619999998,{"$f":"[1]!XLSTAT_PDFNormal(K181,0,1)","v":0.21444734127591786},181,null,13,8]
[182,51,2.6943769445000001,{"$f":"[1]!XLSTAT_PDFNormal(B182,0,1)","v":0},182,51,-3.2655870400000002,{"$f":"[1]!XLSTAT_PDFNormal(F182,0,1)","v":0},182,null,-1.0981963978999998,{"$f":"[1]!XLSTAT_PDFNormal(K182,0,1)","v":0.2182844615314514},182,null,14,8]
[183,51,2.7025370885000002,{"$f":"[1]!XLSTAT_PDFNormal(B183,0,1)","v":0},183,51,-3.2574268960000001,{"$f":"[1]!XLSTAT_PDFNormal(F183,0,1)","v":0},183,null,-1.0821643338000002,{"$f":"[1]!XLSTAT_PDFNormal(K183,0,1)","v":0.22213313806012461},183,null,15,8]
[184,2.7025370885000002,2.7025370885000002,{"$f":"[1]!XLSTAT_PDFNormal(B184,0,1)","v":1.0349760593886939E-2},184,-3.2574268960000001,-3.2574268960000001,{"$f":"[1]!XLSTAT_PDFNormal(F184,0,1)","v":1.9806038132138349E-3},184,null,-1.0661322697000002,{"$f":"[1]!XLSTAT_PDFNormal(K184,0,1)","v":0.22599157900305067},184,null,16,8]
[185,2.7106972325000003,2.7106972325000003,{"$f":"[1]!XLSTAT_PDFNormal(B185,0,1)","v":1.0123677656495982E-2},185,-3.249266752,-3.249266752,{"$f":"[1]!XLSTAT_PDFNormal(F185,0,1)","v":2.0338886117007055E-3},185,null,-1.0501002056000002,{"$f":"[1]!XLSTAT_PDFNormal(K185,0,1)","v":0.22985795355088096},185,null,17,8]
[186,51,2.7106972325000003,{"$f":"[1]!XLSTAT_PDFNormal(B186,0,1)","v":0},186,51,-3.249266752,{"$f":"[1]!XLSTAT_PDFNormal(F186,0,1)","v":0},186,null,-1.0340681415000001,{"$f":"[1]!XLSTAT_PDFNormal(K186,0,1)","v":0.23373039316550015},186,null,18,8]
[187,51,2.7188573764999999,{"$f":"[1]!XLSTAT_PDFNormal(B187,0,1)","v":0},187,51,-3.2411066079999999,{"$f":"[1]!XLSTAT_PDFNormal(F187,0,1)","v":0},187,null,-1.0180360774000001,{"$f":"[1]!XLSTAT_PDFNormal(K187,0,1)","v":0.237606992871671},187,null,19,8]
[188,2.7188573764999999,2.7188573764999999,{"$f":"[1]!XLSTAT_PDFNormal(B188,0,1)","v":9.9018739677896195E-3},188,-3.2411066079999999,-3.2411066079999999,{"$f":"[1]!XLSTAT_PDFNormal(F188,0,1)","v":2.0884678762176706E-3},188,null,-1.0020040133000001,{"$f":"[1]!XLSTAT_PDFNormal(K188,0,1)","v":0.24148581261781818},188,null,20,8]
[189,2.7270175205,2.7270175205,{"$f":"[1]!XLSTAT_PDFNormal(B189,0,1)","v":9.684284986346256E-3},189,-3.2329464640000003,-3.2329464640000003,{"$f":"[1]!XLSTAT_PDFNormal(F189,0,1)","v":2.144368977749641E-3},189,null,-0.98597194920000009,{"$f":"[1]!XLSTAT_PDFNormal(K189,0,1)","v":0.24536487870500007},189,null,21,8]
[190,51,2.7270175205,{"$f":"[1]!XLSTAT_PDFNormal(B190,0,1)","v":0},190,51,-3.2329464640000003,{"$f":"[1]!XLSTAT_PDFNormal(F190,0,1)","v":0},190,null,-0.96993988510000007,{"$f":"[1]!XLSTAT_PDFNormal(K190,0,1)","v":0.24924218528297748},190,null,22,8]
[191,51,2.7351776645000001,{"$f":"[1]!XLSTAT_PDFNormal(B191,0,1)","v":0},191,51,-3.2247863200000002,{"$f":"[1]!XLSTAT_PDFNormal(F191,0,1)","v":0},191,null,-0.95390782100000004,{"$f":"[1]!XLSTAT_PDFNormal(K191,0,1)","v":0.25311569591214983},191,null,23,8]
[192,2.7351776645000001,2.7351776645000001,{"$f":"[1]!XLSTAT_PDFNormal(B192,0,1)","v":9.4708467542436378E-3},192,-3.2247863200000002,-3.2247863200000002,{"$f":"[1]!XLSTAT_PDFNormal(F192,0,1)","v":2.2016197532643321E-3},192,null,-0.93787575690000002,{"$f":"[1]!XLSTAT_PDFNormal(K192,0,1)","v":0.25698334518998911},192,null,24,8]
[193,{"$f":"IF(-1^(INT(A193/2)+2)>0,1.9599639845+2*INT(A193/2-1/2)*0.004080072,51)","v":2.7433378084999998},{"$f":"1.9599639845+2*INT(A193/2-1/2)*0.004080072","v":2.7433378084999998},{"$f":"[1]!XLSTAT_PDFNormal(B193,0,1)","v":9.2614959010835878E-3},193,{"$f":"IF(-1^(INT(E193/2)+2)>0,-4+2*INT(E193/2-1/2)*0.004080072,51)","v":-3.2166261760000001},{"$f":"-4+2*INT(E193/2-1/2)*0.004080072","v":-3.2166261760000001},{"$f":"[1]!XLSTAT_PDFNormal(F193,0,1)","v":2.26024851067189E-3},193,null,{"$f":"-4+(I193-1)*0.0160320641","v":-0.9218436928},{"$f":"[1]!XLSTAT_PDFNormal(K193,0,1)","v":0.26084304044046303},193,null,{"$f":"M193-24*INT((-1/2+M193)/24)","v":1},{"$f":"1+INT((M193-1/2)/24)","v":9}]
[194,51,2.7433378084999998,{"$f":"[1]!XLSTAT_PDFNormal(B194,0,1)","v":0},194,51,-3.2166261760000001,{"$f":"[1]!XLSTAT_PDFNormal(F194,0,1)","v":0},194,null,-0.90581162869999998,{"$f":"[1]!XLSTAT_PDFNormal(K194,0,1)","v":0.26469266346480191},194,null,2,9]
[195,51,2.7514979525000003,{"$f":"[1]!XLSTAT_PDFNormal(B195,0,1)","v":0},195,51,-3.208466032,{"$f":"[1]!XLSTAT_PDFNormal(F195,0,1)","v":0},195,null,-0.88977956459999996,{"$f":"[1]!XLSTAT_PDFNormal(K195,0,1)","v":0.26853007235182647},195,null,3,9]
[196,2.7514979525000003,2.7514979525000003,{"$f":"[1]!XLSTAT_PDFNormal(B196,0,1)","v":9.0561696477347176E-3},196,-3.208466032,-3.208466032,{"$f":"[1]!XLSTAT_PDFNormal(F196,0,1)","v":2.3202840337582463E-3},196,null,-0.87374750049999994,{"$f":"[1]!XLSTAT_PDFNormal(K196,0,1)","v":0.27235310334591895},196,null,4,9]
[197,2.7596580964999999,2.7596580964999999,{"$f":"[1]!XLSTAT_PDFNormal(B197,0,1)","v":8.8548058097980397E-3},197,-3.2003058879999999,-3.2003058879999999,{"$f":"[1]!XLSTAT_PDFNormal(F197,0,1)","v":2.3817555870894536E-3},197,null,-0.85771543639999992,{"$f":"[1]!XLSTAT_PDFNormal(K197,0,1)","v":0.27615957277058706},197,null,5,9]
[198,51,2.7596580964999999,{"$f":"[1]!XLSTAT_PDFNormal(B198,0,1)","v":0},198,51,-3.2003058879999999,{"$f":"[1]!XLSTAT_PDFNormal(F198,0,1)","v":0},198,null,-0.8416833722999999,{"$f":"[1]!XLSTAT_PDFNormal(K198,0,1)","v":0.27994727900543992},198,null,6,9]
[199,51,2.7678182405,{"$f":"[1]!XLSTAT_PDFNormal(B199,0,1)","v":0},199,51,-3.1921457440000003,{"$f":"[1]!XLSTAT_PDFNormal(F199,0,1)","v":0},199,null,-0.82565130819999988,{"$f":"[1]!XLSTAT_PDFNormal(K199,0,1)","v":0.28371400451426615},199,null,7,9]
[200,2.7678182405,2.7678182405,{"$f":"[1]!XLSTAT_PDFNormal(B200,0,1)","v":8.6573428007997808E-3},200,-3.1921457440000003,-3.1921457440000003,{"$f":"[1]!XLSTAT_PDFNormal(F200,0,1)","v":2.4446929208842942E-3},200,null,-0.80961924409999986,{"$f":"[1]!XLSTAT_PDFNormal(K200,0,1)","v":0.2874575179217802},200,null,8,9]
[201,2.7759783845000001,2.7759783845000001,{"$f":"[1]!XLSTAT_PDFNormal(B201,0,1)","v":8.4637196351167454E-3},201,-3.1839856000000002,-3.1839856000000002,{"$f":"[1]!XLSTAT_PDFNormal(F201,0,1)","v":2.5091262758523232E-3},201,null,-0.79358717999999984,{"$f":"[1]!XLSTAT_PDFNormal(K201,0,1)","v":0.29117557613647993},201,null,9,9]
[202,51,2.7759783845000001,{"$f":"[1]!XLSTAT_PDFNormal(B202,0,1)","v":0},202,51,-3.1839856000000002,{"$f":"[1]!XLSTAT_PDFNormal(F202,0,1)","v":0},202,null,-0.77755511589999982,{"$f":"[1]!XLSTAT_PDFNormal(K202,0,1)","v":0.29486592651694216},202,null,10,9]
[203,51,2.7841385284999998,{"$f":"[1]!XLSTAT_PDFNormal(B203,0,1)","v":0},203,51,-3.1758254560000001,{"$f":"[1]!XLSTAT_PDFNormal(F203,0,1)","v":0},203,null,-0.7615230517999998,{"$f":"[1]!XLSTAT_PDFNormal(K203,0,1)","v":0.29852630907876604},203,null,11,9]
[204,2.7841385284999998,2.7841385284999998,{"$f":"[1]!XLSTAT_PDFNormal(B204,0,1)","v":8.2738759306385766E-3},204,-3.1758254560000001,-3.1758254560000001,{"$f":"[1]!XLSTAT_PDFNormal(F204,0,1)","v":2.5750863879944459E-3},204,null,-0.74549098770000022,{"$f":"[1]!XLSTAT_PDFNormal(K204,0,1)","v":0.30215445873926633},204,null,12,9]
[205,2.7922986725000003,2.7922986725000003,{"$f":"[1]!XLSTAT_PDFNormal(B205,0,1)","v":8.0877519111719025E-3},205,-3.167665312,-3.167665312,{"$f":"[1]!XLSTAT_PDFNormal(F205,0,1)","v":2.6426044933631496E-3},205,null,-0.7294589236000002,{"$f":"[1]!XLSTAT_PDFNormal(K205,0,1)","v":0.30574810759691257},205,null,13,9]
[206,51,2.7922986725000003,{"$f":"[1]!XLSTAT_PDFNormal(B206,0,1)","v":0},206,51,-3.167665312,{"$f":"[1]!XLSTAT_PDFNormal(F206,0,1)","v":0},206,null,-0.71342685950000018,{"$f":"[1]!XLSTAT_PDFNormal(K206,0,1)","v":0.30930498724240796},206,null,14,9]
[207,51,2.8004588164999999,{"$f":"[1]!XLSTAT_PDFNormal(B207,0,1)","v":0},207,51,-3.1595051679999999,{"$f":"[1]!XLSTAT_PDFNormal(F207,0,1)","v":0},207,null,-0.69739479540000016,{"$f":"[1]!XLSTAT_PDFNormal(K207,0,1)","v":0.31282283109820969},207,null,15,9]
[208,2.8004588164999999,2.8004588164999999,{"$f":"[1]!XLSTAT_PDFNormal(B208,0,1)","v":7.9052884085913031E-3},208,-3.1595051679999999,-3.1595051679999999,{"$f":"[1]!XLSTAT_PDFNormal(F208,0,1)","v":2.7117123327793694E-3},208,null,-0.68136273130000014,{"$f":"[1]!XLSTAT_PDFNormal(K208,0,1)","v":0.31629937678319903},208,null,16,9]
[209,2.8086189605,2.8086189605,{"$f":"[1]!XLSTAT_PDFNormal(B209,0,1)","v":7.7264268647416175E-3},209,-3.1513450240000003,-3.1513450240000003,{"$f":"[1]!XLSTAT_PDFNormal(F209,0,1)","v":2.7824421565029395E-3},209,null,-0.66533066720000011,{"$f":"[1]!XLSTAT_PDFNormal(K209,0,1)","v":0.31973236849912812},209,null,17,9]
[210,51,2.8086189605,{"$f":"[1]!XLSTAT_PDFNormal(B210,0,1)","v":0},210,51,-3.1513450240000003,{"$f":"[1]!XLSTAT_PDFNormal(F210,0,1)","v":0},210,null,-0.64929860310000009,{"$f":"[1]!XLSTAT_PDFNormal(K210,0,1)","v":0.32311955943538967},210,null,18,9]
[211,51,2.8167791045000001,{"$f":"[1]!XLSTAT_PDFNormal(B211,0,1)","v":0},211,51,-3.1431848800000002,{"$f":"[1]!XLSTAT_PDFNormal(F211,0,1)","v":0},211,null,-0.63326653900000007,{"$f":"[1]!XLSTAT_PDFNormal(K211,0,1)","v":0.3264587141885863},211,null,19,9]
[212,2.8167791045000001,2.8167791045000001,{"$f":"[1]!XLSTAT_PDFNormal(B212,0,1)","v":7.5511093330968056E-3},212,-3.1431848800000002,-3.1431848800000002,{"$f":"[1]!XLSTAT_PDFNormal(F212,0,1)","v":2.8548267288535305E-3},212,null,-0.61723447490000005,{"$f":"[1]!XLSTAT_PDFNormal(K212,0,1)","v":0.32974761119330864},212,null,20,9]
[213,2.8249392484999998,2.8249392484999998,{"$f":"[1]!XLSTAT_PDFNormal(B213,0,1)","v":7.3792784801799041E-3},213,-3.1350247360000001,-3.1350247360000001,{"$f":"[1]!XLSTAT_PDFNormal(F213,0,1)","v":2.9288993327788808E-3},213,null,-0.60120241080000003,{"$f":"[1]!XLSTAT_PDFNormal(K213,0,1)","v":0.33298404516047425},213,null,21,9]
[214,51,2.8249392484999998,{"$f":"[1]!XLSTAT_PDFNormal(B214,0,1)","v":0},214,51,-3.1350247360000001,{"$f":"[1]!XLSTAT_PDFNormal(F214,0,1)","v":0},214,null,-0.58517034670000001,{"$f":"[1]!XLSTAT_PDFNormal(K214,0,1)","v":0.33616582951952645},214,null,22,9]
[215,51,2.8330993924999999,{"$f":"[1]!XLSTAT_PDFNormal(B215,0,1)","v":0},215,51,-3.126864592,{"$f":"[1]!XLSTAT_PDFNormal(F215,0,1)","v":0},215,null,-0.56913828259999999,{"$f":"[1]!XLSTAT_PDFNormal(K215,0,1)","v":0.33929079886074776},215,null,23,9]
[216,2.8330993924999999,2.8330993924999999,{"$f":"[1]!XLSTAT_PDFNormal(B216,0,1)","v":7.2108775867490479E-3},216,-3.126864592,-3.126864592,{"$f":"[1]!XLSTAT_PDFNormal(F216,0,1)","v":3.0046937743671612E-3},216,null,-0.55310621849999997,{"$f":"[1]!XLSTAT_PDFNormal(K216,0,1)","v":0.34235681137390495},216,null,24,9]
[217,2.8412595365,2.8412595365,{"$f":"[1]!XLSTAT_PDFNormal(B217,0,1)","v":7.0458505487544501E-3},217,-3.1187044479999999,-3.1187044479999999,{"$f":"[1]!XLSTAT_PDFNormal(F217,0,1)","v":3.0822443873001308E-3},217,null,-0.53707415439999995,{"$f":"[1]!XLSTAT_PDFNormal(K217,0,1)","v":0.34536175127941443},217,null,1,10]
[218,51,2.8412595365,{"$f":"[1]!XLSTAT_PDFNormal(B218,0,1)","v":0},218,51,-3.1187044479999999,{"$f":"[1]!XLSTAT_PDFNormal(F218,0,1)","v":0},218,null,-0.52104209029999993,{"$f":"[1]!XLSTAT_PDFNormal(K218,0,1)","v":0.34830353124819019},218,null,2,10]
[219,51,2.8494196805000001,{"$f":"[1]!XLSTAT_PDFNormal(B219,0,1)","v":0},219,51,-3.1105443040000003,{"$f":"[1]!XLSTAT_PDFNormal(F219,0,1)","v":0},219,null,-0.50501002619999991,{"$f":"[1]!XLSTAT_PDFNormal(K219,0,1)","v":0.35118009480632767},219,null,3,10]
[220,2.8494196805000001,2.8494196805000001,{"$f":"[1]!XLSTAT_PDFNormal(B220,0,1)","v":6.8841418780710255E-3},220,-3.1105443040000003,-3.1105443040000003,{"$f":"[1]!XLSTAT_PDFNormal(F220,0,1)","v":3.1615860372437533E-3},220,null,-0.48897796209999989,{"$f":"[1]!XLSTAT_PDFNormal(K220,0,1)","v":0.35398941872076389},220,null,4,10]
[221,2.8575798245000001,2.8575798245000001,{"$f":"[1]!XLSTAT_PDFNormal(B221,0,1)","v":6.7256967030116339E-3},221,-3.1023841600000002,-3.1023841600000002,{"$f":"[1]!XLSTAT_PDFNormal(F221,0,1)","v":3.2427541261729493E-3},221,null,-0.47294589799999986,{"$f":"[1]!XLSTAT_PDFNormal(K221,0,1)","v":0.35672951536206021},221,null,5,10]
[222,51,2.8575798245000001,{"$f":"[1]!XLSTAT_PDFNormal(B222,0,1)","v":0},222,51,-3.1023841600000002,{"$f":"[1]!XLSTAT_PDFNormal(F222,0,1)","v":0},222,null,-0.45691383389999984,{"$f":"[1]!XLSTAT_PDFNormal(K222,0,1)","v":0.35939843504045987},222,null,6,10]
[223,51,2.8657399684999998,{"$f":"[1]!XLSTAT_PDFNormal(B223,0,1)","v":0},223,51,-3.0942240160000001,{"$f":"[1]!XLSTAT_PDFNormal(F223,0,1)","v":0},223,null,-0.44088176979999982,{"$f":"[1]!XLSTAT_PDFNormal(K223,0,1)","v":0.36199426831139114},223,null,7,10]
[224,2.8657399684999998,2.8657399684999998,{"$f":"[1]!XLSTAT_PDFNormal(B224,0,1)","v":6.5704607686256356E-3},224,-3.0942240160000001,-3.0942240160000001,{"$f":"[1]!XLSTAT_PDFNormal(F224,0,1)","v":3.3257845966269033E-3},224,null,-0.4248497056999998,{"$f":"[1]!XLSTAT_PDFNormal(K224,0,1)","v":0.36451514824661119},224,null,8,10]
[225,2.8739001124999999,2.8739001124999999,{"$f":"[1]!XLSTAT_PDFNormal(B225,0,1)","v":6.4183804367876855E-3},225,-3.086063872,-3.086063872,{"$f":"[1]!XLSTAT_PDFNormal(F225,0,1)","v":3.4107139358915549E-3},225,null,-0.40881764159999978,{"$f":"[1]!XLSTAT_PDFNormal(K225,0,1)","v":0.36695925266721885},225,null,9,10]
[226,51,2.8739001124999999,{"$f":"[1]!XLSTAT_PDFNormal(B226,0,1)","v":0},226,51,-3.086063872,{"$f":"[1]!XLSTAT_PDFNormal(F226,0,1)","v":0},226,null,-0.3927855775000002,{"$f":"[1]!XLSTAT_PDFNormal(K226,0,1)","v":0.36932480633480641},226,null,10,10]
[227,51,2.8820602565,{"$f":"[1]!XLSTAT_PDFNormal(B227,0,1)","v":0},227,51,-3.0779037279999999,{"$f":"[1]!XLSTAT_PDFNormal(F227,0,1)","v":0},227,null,-0.37675351340000018,{"$f":"[1]!XLSTAT_PDFNormal(K227,0,1)","v":0.37161008309706817},227,null,11,10]
[228,2.8820602565,2.8820602565,{"$f":"[1]!XLSTAT_PDFNormal(B228,0,1)","v":6.2694026860814853E-3},228,-3.0779037279999999,-3.0779037279999999,{"$f":"[1]!XLSTAT_PDFNormal(F228,0,1)","v":3.497579180105622E-3},228,null,-0.36072144930000016,{"$f":"[1]!XLSTAT_PDFNormal(K228,0,1)","v":0.37381340798424217},228,null,12,10]
[229,2.8902204005000001,2.8902204005000001,{"$f":"[1]!XLSTAT_PDFNormal(B229,0,1)","v":6.1234751114832816E-3},229,-3.0697435840000002,-3.0697435840000002,{"$f":"[1]!XLSTAT_PDFNormal(F229,0,1)","v":3.5864179182865719E-3},229,null,-0.34468938520000014,{"$f":"[1]!XLSTAT_PDFNormal(K229,0,1)","v":0.37593315925282544},229,null,13,10]
[230,51,2.8902204005000001,{"$f":"[1]!XLSTAT_PDFNormal(B230,0,1)","v":0},230,51,-3.0697435840000002,{"$f":"[1]!XLSTAT_PDFNormal(F230,0,1)","v":0},230,null,-0.32865732110000012,{"$f":"[1]!XLSTAT_PDFNormal(K230,0,1)","v":0.37796777037307511},230,null,14,10]
[231,51,2.8983805445000002,{"$f":"[1]!XLSTAT_PDFNormal(B231,0,1)","v":0},231,51,-3.0615834400000002,{"$f":"[1]!XLSTAT_PDFNormal(F231,0,1)","v":0},231,null,-0.3126252570000001,{"$f":"[1]!XLSTAT_PDFNormal(K231,0,1)","v":0.37991573195689077},231,null,15,10]
[232,2.8983805445000002,2.8983805445000002,{"$f":"[1]!XLSTAT_PDFNormal(B232,0,1)","v":5.9805459238498745E-3},232,-3.0615834400000002,-3.0615834400000002,{"$f":"[1]!XLSTAT_PDFNormal(F232,0,1)","v":3.6772682962728774E-3},232,null,-0.29659319290000008,{"$f":"[1]!XLSTAT_PDFNormal(K232,0,1)","v":0.38177559362275676},232,null,16,10]
[233,2.9065406884999998,2.9065406884999998,{"$f":"[1]!XLSTAT_PDFNormal(B233,0,1)","v":5.8405639492159142E-3},233,-3.0534232960000001,-3.0534232960000001,{"$f":"[1]!XLSTAT_PDFNormal(F233,0,1)","v":3.7701690205787595E-3},233,null,-0.28056112880000006,{"$f":"[1]!XLSTAT_PDFNormal(K233,0,1)","v":0.38354596579452355},233,null,17,10]
[234,51,2.9065406884999998,{"$f":"[1]!XLSTAT_PDFNormal(B234,0,1)","v":0},234,51,-3.0534232960000001,{"$f":"[1]!XLSTAT_PDFNormal(F234,0,1)","v":0},234,null,-0.26452906470000004,{"$f":"[1]!XLSTAT_PDFNormal(K234,0,1)","v":0.38522552143090433},234,null,18,10]
[235,51,2.9147008324999999,{"$f":"[1]!XLSTAT_PDFNormal(B235,0,1)","v":0},235,51,-3.045263152,{"$f":"[1]!XLSTAT_PDFNormal(F235,0,1)","v":0},235,null,-0.24849700060000002,{"$f":"[1]!XLSTAT_PDFNormal(K235,0,1)","v":0.3868129976826768},235,null,19,10]
[236,2.9147008324999999,2.9147008324999999,{"$f":"[1]!XLSTAT_PDFNormal(B236,0,1)","v":5.7034786279051069E-3},236,-3.045263152,-3.045263152,{"$f":"[1]!XLSTAT_PDFNormal(F236,0,1)","v":3.8651593621577608E-3},236,null,-0.2324649365,{"$f":"[1]!XLSTAT_PDFNormal(K236,0,1)","v":0.38830719747469244},236,null,20,10]
[237,2.9228609765,2.9228609765,{"$f":"[1]!XLSTAT_PDFNormal(B237,0,1)","v":5.5692400134601501E-3},237,-3.0371030079999999,-3.0371030079999999,{"$f":"[1]!XLSTAT_PDFNormal(F237,0,1)","v":3.9622791600711959E-3},237,null,-0.21643287239999998,{"$f":"[1]!XLSTAT_PDFNormal(K237,0,1)","v":0.38970699100992118},237,null,21,10]
[238,51,2.9228609765,{"$f":"[1]!XLSTAT_PDFNormal(B238,0,1)","v":0},238,51,-3.0371030079999999,{"$f":"[1]!XLSTAT_PDFNormal(F238,0,1)","v":0},238,null,-0.20040080829999996,{"$f":"[1]!XLSTAT_PDFNormal(K238,0,1)","v":0.39101131719288523},238,null,22,10]
[239,51,2.9310211205000001,{"$f":"[1]!XLSTAT_PDFNormal(B239,0,1)","v":0},239,51,-3.0289428640000002,{"$f":"[1]!XLSTAT_PDFNormal(F239,0,1)","v":0},239,null,-0.18436874419999993,{"$f":"[1]!XLSTAT_PDFNormal(K239,0,1)","v":0.39221918496997293},239,null,23,10]
[240,2.9310211205000001,2.9310211205000001,{"$f":"[1]!XLSTAT_PDFNormal(B240,0,1)","v":5.4377987713959634E-3},240,-3.0289428640000002,-3.0289428640000002,{"$f":"[1]!XLSTAT_PDFNormal(F240,0,1)","v":4.0615688250576522E-3},240,null,-0.16833668009999991,{"$f":"[1]!XLSTAT_PDFNormal(K240,0,1)","v":0.39332967458426221},240,null,24,10]
[241,2.9391812645000002,2.9391812645000002,{"$f":"[1]!XLSTAT_PDFNormal(B241,0,1)","v":5.3091061777808856E-3},241,-3.0207827200000001,-3.0207827200000001,{"$f":"[1]!XLSTAT_PDFNormal(F241,0,1)","v":4.1630693429996306E-3},241,null,-0.15230461599999989,{"$f":"[1]!XLSTAT_PDFNormal(K241,0,1)","v":0.39434193874263013},241,null,1,11]
[242,51,2.9391812645000002,{"$f":"[1]!XLSTAT_PDFNormal(B242,0,1)","v":0},242,51,-3.0207827200000001,{"$f":"[1]!XLSTAT_PDFNormal(F242,0,1)","v":0},242,null,-0.13627255189999987,{"$f":"[1]!XLSTAT_PDFNormal(K242,0,1)","v":0.39525520369307582},242,null,2,11]
[243,51,2.9473414084999998,{"$f":"[1]!XLSTAT_PDFNormal(B243,0,1)","v":0},243,51,-3.0126225760000001,{"$f":"[1]!XLSTAT_PDFNormal(F243,0,1)","v":0},243,null,-0.12024048779999985,{"$f":"[1]!XLSTAT_PDFNormal(K243,0,1)","v":0.39606877021033793},243,null,3,11]
[244,2.9473414084999998,2.9473414084999998,{"$f":"[1]!XLSTAT_PDFNormal(B244,0,1)","v":5.1831141176504657E-3},244,-3.0126225760000001,-3.0126225760000001,{"$f":"[1]!XLSTAT_PDFNormal(F244,0,1)","v":4.2668222782832341E-3},244,null,-0.10420842369999983,{"$f":"[1]!XLSTAT_PDFNormal(K244,0,1)","v":0.39678201448805089},244,null,4,11]
[245,2.9555015524999999,2.9555015524999999,{"$f":"[1]!XLSTAT_PDFNormal(B245,0,1)","v":5.0597750832583844E-3},245,-3.004462432,-3.004462432,{"$f":"[1]!XLSTAT_PDFNormal(F245,0,1)","v":4.3728697770469794E-3},245,null,-8.817635959999981E-2,{"$f":"[1]!XLSTAT_PDFNormal(K245,0,1)","v":0.39739438893584506},245,null,5,11]
[246,51,2.9555015524999999,{"$f":"[1]!XLSTAT_PDFNormal(B246,0,1)","v":0},246,51,-3.004462432,{"$f":"[1]!XLSTAT_PDFNormal(F246,0,1)","v":0},246,null,-7.2144295499999789E-2,{"$f":"[1]!XLSTAT_PDFNormal(K246,0,1)","v":0.39790542287996578},246,null,6,11]
[247,51,2.9636616965,{"$f":"[1]!XLSTAT_PDFNormal(B247,0,1)","v":0},247,51,-2.9963022879999999,{"$f":"[1]!XLSTAT_PDFNormal(F247,0,1)","v":0},247,null,-5.6112231400000212E-2,{"$f":"[1]!XLSTAT_PDFNormal(K247,0,1)","v":0.39831472316615624},247,null,7,11]
[248,2.9636616965,2.9636616965,{"$f":"[1]!XLSTAT_PDFNormal(B248,0,1)","v":4.9390421721691152E-3},248,-2.9963022879999999,-2.9963022879999999,{"$f":"[1]!XLSTAT_PDFNormal(F248,0,1)","v":4.4812545703156233E-3},248,null,-4.0080167300000191E-2,{"$f":"[1]!XLSTAT_PDFNormal(K248,0,1)","v":0.39862197466372323},248,null,8,11]
[249,2.9718218405000001,2.9718218405000001,{"$f":"[1]!XLSTAT_PDFNormal(B249,0,1)","v":4.820869085196763E-3},249,-2.9881421440000002,-2.9881421440000002,{"$f":"[1]!XLSTAT_PDFNormal(F249,0,1)","v":4.592019977014773E-3},249,null,-2.404810320000017E-2,{"$f":"[1]!XLSTAT_PDFNormal(K249,0,1)","v":0.39882694066988023},249,null,9,11]
[250,51,2.9718218405000001,{"$f":"[1]!XLSTAT_PDFNormal(B250,0,1)","v":0},250,51,-2.9881421440000002,{"$f":"[1]!XLSTAT_PDFNormal(F250,0,1)","v":0},250,null,-8.0160391000001496E-3,{"$f":"[1]!XLSTAT_PDFNormal(K250,0,1)","v":0.39892946321364359},250,null,10,11]
[251,51,2.9799819845000002,{"$f":"[1]!XLSTAT_PDFNormal(B251,0,1)","v":0},251,51,-2.9799820000000001,{"$f":"[1]!XLSTAT_PDFNormal(F251,0,1)","v":0},251,null,8.0160249999998712E-3,{"$f":"[1]!XLSTAT_PDFNormal(K251,0,1)","v":0.39892946325873302},251,null,11,11]
[252,2.9799819845000002,2.9799819845000002,{"$f":"[1]!XLSTAT_PDFNormal(B252,0,1)","v":4.7052101241946047E-3},252,-2.9799820000000001,-2.9799820000000001,{"$f":"[1]!XLSTAT_PDFNormal(F252,0,1)","v":4.7052099068622694E-3},252,null,2.4048089099999892E-2,{"$f":"[1]!XLSTAT_PDFNormal(K252,0,1)","v":0.39882694080511377},252,null,12,11]
[253,2.9881421284999998,2.9881421284999998,{"$f":"[1]!XLSTAT_PDFNormal(B253,0,1)","v":4.5920201896997139E-3},253,-2.971821856,-2.971821856,{"$f":"[1]!XLSTAT_PDFNormal(F253,0,1)","v":4.8208688631319304E-3},253,null,4.0080153199999913E-2,{"$f":"[1]!XLSTAT_PDFNormal(K253,0,1)","v":0.39862197488899653},253,null,13,11]
[254,51,2.9881421284999998,{"$f":"[1]!XLSTAT_PDFNormal(B254,0,1)","v":0},254,51,-2.971821856,{"$f":"[1]!XLSTAT_PDFNormal(F254,0,1)","v":0},254,null,5.6112217299999934E-2,{"$f":"[1]!XLSTAT_PDFNormal(K254,0,1)","v":0.39831472348129587},254,null,14,11]
[255,51,2.9963022724999999,{"$f":"[1]!XLSTAT_PDFNormal(B255,0,1)","v":0},255,51,-2.9636617120000004,{"$f":"[1]!XLSTAT_PDFNormal(F255,0,1)","v":0},255,null,7.2144281399999954E-2,{"$f":"[1]!XLSTAT_PDFNormal(K255,0,1)","v":0.39790542328472889},255,null,15,11]
[256,2.9963022724999999,2.9963022724999999,{"$f":"[1]!XLSTAT_PDFNormal(B256,0,1)","v":4.4812547784371243E-3},256,-2.9636617120000004,-2.9636617120000004,{"$f":"[1]!XLSTAT_PDFNormal(F256,0,1)","v":4.9390419452855381E-3},256,null,8.8176345499999975E-2,{"$f":"[1]!XLSTAT_PDFNormal(K256,0,1)","v":0.39739438942992017},256,null,16,11]
[257,{"$f":"IF(-1^(INT(A257/2)+2)>0,1.9599639845+2*INT(A257/2-1/2)*0.004080072,51)","v":3.0044624165},{"$f":"1.9599639845+2*INT(A257/2-1/2)*0.004080072","v":3.0044624165},{"$f":"[1]!XLSTAT_PDFNormal(B257,0,1)","v":4.3728699806878926E-3},257,{"$f":"IF(-1^(INT(E257/2)+2)>0,-4+2*INT(E257/2-1/2)*0.004080072,51)","v":-2.9555015679999999},{"$f":"-4+2*INT(E257/2-1/2)*0.004080072","v":-2.9555015679999999},{"$f":"[1]!XLSTAT_PDFNormal(F257,0,1)","v":5.0597748514687032E-3},257,null,{"$f":"-4+(I257-1)*0.0160320641","v":0.1042084096},{"$f":"[1]!XLSTAT_PDFNormal(K257,0,1)","v":0.39678201507105804},257,null,{"$f":"M257-24*INT((-1/2+M257)/24)","v":17},{"$f":"1+INT((M257-1/2)/24)","v":11}]
[258,51,3.0044624165,{"$f":"[1]!XLSTAT_PDFNormal(B258,0,1)","v":0},258,51,-2.9555015679999999,{"$f":"[1]!XLSTAT_PDFNormal(F258,0,1)","v":0},258,null,0.12024047370000002,{"$f":"[1]!XLSTAT_PDFNormal(K258,0,1)","v":0.39606877088182929},258,null,18,11]
[259,51,3.0126225605000001,{"$f":"[1]!XLSTAT_PDFNormal(B259,0,1)","v":0},259,51,-2.9473414240000002,{"$f":"[1]!XLSTAT_PDFNormal(F259,0,1)","v":0},259,null,0.13627253780000004,{"$f":"[1]!XLSTAT_PDFNormal(K259,0,1)","v":0.39525520445253609},259,null,19,11]
[260,3.0126225605000001,3.0126225605000001,{"$f":"[1]!XLSTAT_PDFNormal(B260,0,1)","v":4.2668224775252745E-3},260,-2.9473414240000002,-2.9473414240000002,{"$f":"[1]!XLSTAT_PDFNormal(F260,0,1)","v":5.18311388086616E-3},260,null,0.15230460190000006,{"$f":"[1]!XLSTAT_PDFNormal(K260,0,1)","v":0.3943419395894775},260,null,20,11]
[261,3.0207827045000002,3.0207827045000002,{"$f":"[1]!XLSTAT_PDFNormal(B261,0,1)","v":4.163069537923416E-3},261,-2.9391812800000001,-2.9391812800000001,{"$f":"[1]!XLSTAT_PDFNormal(F261,0,1)","v":5.3091059359122953E-3},261,null,0.16833666600000008,{"$f":"[1]!XLSTAT_PDFNormal(K261,0,1)","v":0.3933296755178487},261,null,21,11]
[262,51,3.0207827045000002,{"$f":"[1]!XLSTAT_PDFNormal(B262,0,1)","v":0},262,51,-2.9391812800000001,{"$f":"[1]!XLSTAT_PDFNormal(F262,0,1)","v":0},262,null,0.1843687301000001,{"$f":"[1]!XLSTAT_PDFNormal(K262,0,1)","v":0.39221918598958561},262,null,22,11]
[263,51,3.0289428484999998,{"$f":"[1]!XLSTAT_PDFNormal(B263,0,1)","v":0},263,51,-2.931021136,{"$f":"[1]!XLSTAT_PDFNormal(F263,0,1)","v":0},263,null,0.20040079420000012,{"$f":"[1]!XLSTAT_PDFNormal(K263,0,1)","v":0.39101131829774688},263,null,23,11]
[264,3.0289428484999998,3.0289428484999998,{"$f":"[1]!XLSTAT_PDFNormal(B264,0,1)","v":4.0615690157426903E-3},264,-2.931021136,-2.931021136,{"$f":"[1]!XLSTAT_PDFNormal(F264,0,1)","v":5.4377985243522732E-3},264,null,0.21643285830000014,{"$f":"[1]!XLSTAT_PDFNormal(K264,0,1)","v":0.3897069921991913},264,null,24,11]
[265,3.0371029924999999,3.0371029924999999,{"$f":"[1]!XLSTAT_PDFNormal(B265,0,1)","v":3.9622793465958744E-3},265,-2.9228609920000004,-2.9228609920000004,{"$f":"[1]!XLSTAT_PDFNormal(F265,0,1)","v":5.5692397611493789E-3},265,null,0.23246492240000016,{"$f":"[1]!XLSTAT_PDFNormal(K265,0,1)","v":0.3883071987474685},265,null,1,12]
[266,51,3.0371029924999999,{"$f":"[1]!XLSTAT_PDFNormal(B266,0,1)","v":0},266,51,-2.9228609920000004,{"$f":"[1]!XLSTAT_PDFNormal(F266,0,1)","v":0},266,null,0.24849698650000018,{"$f":"[1]!XLSTAT_PDFNormal(K266,0,1)","v":0.3868129990379951},266,null,2,12]
[267,51,3.0452631365,{"$f":"[1]!XLSTAT_PDFNormal(B267,0,1)","v":0},267,51,-2.9147008479999998,{"$f":"[1]!XLSTAT_PDFNormal(F267,0,1)","v":0},267,null,0.2645290506000002,{"$f":"[1]!XLSTAT_PDFNormal(K267,0,1)","v":0.38522552286774148},267,null,3,12]
[268,3.0452631365,3.0452631365,{"$f":"[1]!XLSTAT_PDFNormal(B268,0,1)","v":3.8651595445993885E-3},268,-2.9147008479999998,-2.9147008479999998,{"$f":"[1]!XLSTAT_PDFNormal(F268,0,1)","v":5.7034783702341347E-3},268,null,0.28056111470000022,{"$f":"[1]!XLSTAT_PDFNormal(K268,0,1)","v":0.38354596731179758},268,null,4,12]
[269,3.0534232805000001,3.0534232805000001,{"$f":"[1]!XLSTAT_PDFNormal(B269,0,1)","v":3.770169199013552E-3},269,-2.9065407040000002,-2.9065407040000002,{"$f":"[1]!XLSTAT_PDFNormal(F269,0,1)","v":5.8405636860904414E-3},269,null,0.29659317880000025,{"$f":"[1]!XLSTAT_PDFNormal(K269,0,1)","v":0.38177559521932847},269,null,5,12]
[270,51,3.0534232805000001,{"$f":"[1]!XLSTAT_PDFNormal(B270,0,1)","v":0},270,51,-2.9065407040000002,{"$f":"[1]!XLSTAT_PDFNormal(F270,0,1)","v":0},270,null,0.31262524290000027,{"$f":"[1]!XLSTAT_PDFNormal(K270,0,1)","v":0.37991573363156533},270,null,6,12]
[271,51,3.0615834245000002,{"$f":"[1]!XLSTAT_PDFNormal(B271,0,1)","v":0},271,51,-2.8983805600000001,{"$f":"[1]!XLSTAT_PDFNormal(F271,0,1)","v":0},271,null,0.32865730700000029,{"$f":"[1]!XLSTAT_PDFNormal(K271,0,1)","v":0.37796777212460347},271,null,7,12]
[272,3.0615834245000002,3.0615834245000002,{"$f":"[1]!XLSTAT_PDFNormal(B272,0,1)","v":3.6772684707759669E-3},272,-2.8983805600000001,-2.8983805600000001,{"$f":"[1]!XLSTAT_PDFNormal(F272,0,1)","v":5.9805456551744619E-3},272,null,0.34468937110000031,{"$f":"[1]!XLSTAT_PDFNormal(K272,0,1)","v":0.37593316107990576},272,null,8,12]
[273,3.0697435684999999,3.0697435684999999,{"$f":"[1]!XLSTAT_PDFNormal(B273,0,1)","v":3.5864180889320246E-3},273,-2.890220416,-2.890220416,{"$f":"[1]!XLSTAT_PDFNormal(F273,0,1)","v":6.1234748371612998E-3},273,null,0.36072143520000033,{"$f":"[1]!XLSTAT_PDFNormal(K273,0,1)","v":0.37381340988552159},273,null,9,12]
[274,51,3.0697435684999999,{"$f":"[1]!XLSTAT_PDFNormal(B274,0,1)","v":0},274,51,-2.890220416,{"$f":"[1]!XLSTAT_PDFNormal(F274,0,1)","v":0},274,null,0.37675349930000035,{"$f":"[1]!XLSTAT_PDFNormal(K274,0,1)","v":0.37161008507114429},274,null,10,12]
[275,51,3.0779037124999999,{"$f":"[1]!XLSTAT_PDFNormal(B275,0,1)","v":0},275,51,-2.8820602720000004,{"$f":"[1]!XLSTAT_PDFNormal(F275,0,1)","v":0},275,null,0.39278556340000037,{"$f":"[1]!XLSTAT_PDFNormal(K275,0,1)","v":0.3693248083802293},275,null,11,12]
[276,3.0779037124999999,3.0779037124999999,{"$f":"[1]!XLSTAT_PDFNormal(B276,0,1)","v":3.4975793469664107E-3},276,-2.8820602720000004,-2.8820602720000004,{"$f":"[1]!XLSTAT_PDFNormal(F276,0,1)","v":6.2694024060151394E-3},276,null,0.40881762750000039,{"$f":"[1]!XLSTAT_PDFNormal(K276,0,1)","v":0.36695925478249253},276,null,12,12]
[277,3.0860638565,3.0860638565,{"$f":"[1]!XLSTAT_PDFNormal(B277,0,1)","v":3.4107140990396125E-3},277,-2.8739001279999998,-2.8739001279999998,{"$f":"[1]!XLSTAT_PDFNormal(F277,0,1)","v":6.4183801508780353E-3},277,null,0.42484969160000041,{"$f":"[1]!XLSTAT_PDFNormal(K277,0,1)","v":0.36451515043019561},277,null,13,12]
[278,51,3.0860638565,{"$f":"[1]!XLSTAT_PDFNormal(B278,0,1)","v":0},278,51,-2.8739001279999998,{"$f":"[1]!XLSTAT_PDFNormal(F278,0,1)","v":0},278,null,0.44088175570000043,{"$f":"[1]!XLSTAT_PDFNormal(K278,0,1)","v":0.36199427056170408},278,null,14,12]
[279,51,3.0942240004999997,{"$f":"[1]!XLSTAT_PDFNormal(B279,0,1)","v":0},279,51,-2.8657399840000002,{"$f":"[1]!XLSTAT_PDFNormal(F279,0,1)","v":0},279,null,0.45691381979999957,{"$f":"[1]!XLSTAT_PDFNormal(K279,0,1)","v":0.3593984373558789},279,null,15,12]
[280,3.0942240004999997,3.0942240004999997,{"$f":"[1]!XLSTAT_PDFNormal(B280,0,1)","v":3.3257847561331123E-3},280,-2.8657399840000002,-2.8657399840000002,{"$f":"[1]!XLSTAT_PDFNormal(F280,0,1)","v":6.5704604767725374E-3},280,null,0.47294588389999959,{"$f":"[1]!XLSTAT_PDFNormal(K280,0,1)","v":0.35672951774092426},280,null,16,12]
[281,3.1023841445000002,3.1023841445000002,{"$f":"[1]!XLSTAT_PDFNormal(B281,0,1)","v":3.2427542821071246E-3},281,-2.8575798400000001,-2.8575798400000001,{"$f":"[1]!XLSTAT_PDFNormal(F281,0,1)","v":6.7256964051138068E-3},281,null,0.48897794799999961,{"$f":"[1]!XLSTAT_PDFNormal(K281,0,1)","v":0.35398942116137561},281,null,17,12]
[282,51,3.1023841445000002,{"$f":"[1]!XLSTAT_PDFNormal(B282,0,1)","v":0},282,51,-2.8575798400000001,{"$f":"[1]!XLSTAT_PDFNormal(F282,0,1)","v":0},282,null,0.50501001209999963,{"$f":"[1]!XLSTAT_PDFNormal(K282,0,1)","v":0.35118009730695521},282,null,18,12]
[283,51,3.1105442884999999,{"$f":"[1]!XLSTAT_PDFNormal(B283,0,1)","v":0},283,51,-2.849419696,{"$f":"[1]!XLSTAT_PDFNormal(F283,0,1)","v":0},283,null,0.52104207619999965,{"$f":"[1]!XLSTAT_PDFNormal(K283,0,1)","v":0.34830353380706947},283,null,19,12]
[284,3.1105442884999999,3.1105442884999999,{"$f":"[1]!XLSTAT_PDFNormal(B284,0,1)","v":3.161586189674691E-3},284,-2.849419696,-2.849419696,{"$f":"[1]!XLSTAT_PDFNormal(F284,0,1)","v":6.8841415740259863E-3},284,null,0.53707414029999967,{"$f":"[1]!XLSTAT_PDFNormal(K284,0,1)","v":0.3453617538947511},284,null,20,12]
[285,3.1187044325,3.1187044325,{"$f":"[1]!XLSTAT_PDFNormal(B285,0,1)","v":3.0822445362955783E-3},285,-2.8412595520000004,-2.8412595520000004,{"$f":"[1]!XLSTAT_PDFNormal(F285,0,1)","v":7.0458502384585526E-3},285,null,0.55310620439999969,{"$f":"[1]!XLSTAT_PDFNormal(K285,0,1)","v":0.34235681404387652},285,null,21,12]
[286,51,3.1187044325,{"$f":"[1]!XLSTAT_PDFNormal(B286,0,1)","v":0},286,51,-2.8412595520000004,{"$f":"[1]!XLSTAT_PDFNormal(F286,0,1)","v":0},286,null,0.56913826849999971,{"$f":"[1]!XLSTAT_PDFNormal(K286,0,1)","v":0.3392908015835055},286,null,22,12]
[287,51,3.1268645765,{"$f":"[1]!XLSTAT_PDFNormal(B287,0,1)","v":0},287,51,-2.8330994079999998,{"$f":"[1]!XLSTAT_PDFNormal(F287,0,1)","v":0},287,null,0.58517033259999973,{"$f":"[1]!XLSTAT_PDFNormal(K287,0,1)","v":0.3361658322931978},287,null,23,12]
[288,3.1268645765,3.1268645765,{"$f":"[1]!XLSTAT_PDFNormal(B288,0,1)","v":3.0046939199938599E-3},288,-2.8330994079999998,-2.8330994079999998,{"$f":"[1]!XLSTAT_PDFNormal(F288,0,1)","v":7.2108772700974905E-3},288,null,0.60120239669999975,{"$f":"[1]!XLSTAT_PDFNormal(K288,0,1)","v":0.33298404798316472},288,null,24,12]
[289,3.1350247204999997,3.1350247204999997,{"$f":"[1]!XLSTAT_PDFNormal(B289,0,1)","v":2.928899475102551E-3},289,-2.8249392640000002,-2.8249392640000002,{"$f":"[1]!XLSTAT_PDFNormal(F289,0,1)","v":7.3792781570666934E-3},289,null,0.61723446079999977,{"$f":"[1]!XLSTAT_PDFNormal(K289,0,1)","v":0.32974761406310416},289,null,1,13]
[290,51,3.1350247204999997,{"$f":"[1]!XLSTAT_PDFNormal(B290,0,1)","v":0},290,51,-2.8249392640000002,{"$f":"[1]!XLSTAT_PDFNormal(F290,0,1)","v":0},290,null,0.63326652489999979,{"$f":"[1]!XLSTAT_PDFNormal(K290,0,1)","v":0.32645871710355517},290,null,2,13]
[291,51,3.1431848645000002,{"$f":"[1]!XLSTAT_PDFNormal(B291,0,1)","v":0},291,51,-2.8167791200000001,{"$f":"[1]!XLSTAT_PDFNormal(F291,0,1)","v":0},291,null,0.64929858899999982,{"$f":"[1]!XLSTAT_PDFNormal(K291,0,1)","v":0.32311956239358491},291,null,3,13]
[292,3.1431848645000002,3.1431848645000002,{"$f":"[1]!XLSTAT_PDFNormal(B292,0,1)","v":2.8548268679388805E-3},292,-2.8167791200000001,-2.8167791200000001,{"$f":"[1]!XLSTAT_PDFNormal(F292,0,1)","v":7.5511090034148052E-3},292,null,0.66533065309999984,{"$f":"[1]!XLSTAT_PDFNormal(K292,0,1)","v":0.31973237149858941},292,null,4,13]
[293,3.1513450084999999,3.1513450084999999,{"$f":"[1]!XLSTAT_PDFNormal(B293,0,1)","v":2.7824422924136926E-3},293,-2.808618976,-2.808618976,{"$f":"[1]!XLSTAT_PDFNormal(F293,0,1)","v":7.7264265283824973E-3},293,null,0.68136271719999986,{"$f":"[1]!XLSTAT_PDFNormal(K293,0,1)","v":0.316299379821955},293,null,5,13]
[294,51,3.1513450084999999,{"$f":"[1]!XLSTAT_PDFNormal(B294,0,1)","v":0},294,51,-2.808618976,{"$f":"[1]!XLSTAT_PDFNormal(F294,0,1)","v":0},294,null,0.69739478129999988,{"$f":"[1]!XLSTAT_PDFNormal(K294,0,1)","v":0.31282283417427997},294,null,6,13]
[295,51,3.1595051525,{"$f":"[1]!XLSTAT_PDFNormal(B295,0,1)","v":0},295,51,-2.8004588320000003,{"$f":"[1]!XLSTAT_PDFNormal(F295,0,1)","v":0},295,null,0.7134268453999999,{"$f":"[1]!XLSTAT_PDFNormal(K295,0,1)","v":0.30930499035380549},295,null,7,13]
[296,3.1595051525,3.1595051525,{"$f":"[1]!XLSTAT_PDFNormal(B296,0,1)","v":2.7117124655782446E-3},296,-2.8004588320000003,-2.8004588320000003,{"$f":"[1]!XLSTAT_PDFNormal(F296,0,1)","v":7.9052880654455638E-3},296,null,0.72945890949999992,{"$f":"[1]!XLSTAT_PDFNormal(K296,0,1)","v":0.30574811074164532},296,null,8,13]
[297,3.1676652965000001,3.1676652965000001,{"$f":"[1]!XLSTAT_PDFNormal(B297,0,1)","v":2.6426046231118943E-3},297,-2.7922986879999998,-2.7922986879999998,{"$f":"[1]!XLSTAT_PDFNormal(F297,0,1)","v":8.0877515611289252E-3},297,null,0.74549097359999994,{"$f":"[1]!XLSTAT_PDFNormal(K297,0,1)","v":0.30215446191533968},297,null,9,13]
[298,51,3.1676652965000001,{"$f":"[1]!XLSTAT_PDFNormal(B298,0,1)","v":0},298,51,-2.7922986879999998,{"$f":"[1]!XLSTAT_PDFNormal(F298,0,1)","v":0},298,null,0.76152303769999996,{"$f":"[1]!XLSTAT_PDFNormal(K298,0,1)","v":0.2985263122841848},298,null,10,13]
[299,51,3.1758254404999997,{"$f":"[1]!XLSTAT_PDFNormal(B299,0,1)","v":0},299,51,-2.7841385440000002,{"$f":"[1]!XLSTAT_PDFNormal(F299,0,1)","v":0},299,null,0.77755510179999998,{"$f":"[1]!XLSTAT_PDFNormal(K299,0,1)","v":0.29486592974971265},299,null,11,13]
[300,3.1758254404999997,3.1758254404999997,{"$f":"[1]!XLSTAT_PDFNormal(B300,0,1)","v":2.5750865147538384E-3},300,-2.7841385440000002,-2.7841385440000002,{"$f":"[1]!XLSTAT_PDFNormal(F300,0,1)","v":8.2738755735865168E-3},300,null,0.7935871659,{"$f":"[1]!XLSTAT_PDFNormal(K300,0,1)","v":0.29117557939461203},300,null,12,13]
[301,3.1839855845000002,3.1839855845000002,{"$f":"[1]!XLSTAT_PDFNormal(B301,0,1)","v":2.5091263996821662E-3},301,-2.7759784000000001,-2.7759784000000001,{"$f":"[1]!XLSTAT_PDFNormal(F301,0,1)","v":8.4637192709426604E-3},301,null,0.80961923000000002,{"$f":"[1]!XLSTAT_PDFNormal(K301,0,1)","v":0.28745752120328921},301,null,13,13]
[302,51,3.1839855845000002,{"$f":"[1]!XLSTAT_PDFNormal(B302,0,1)","v":0},302,51,-2.7759784000000001,{"$f":"[1]!XLSTAT_PDFNormal(F302,0,1)","v":0},302,null,0.82565129410000004,{"$f":"[1]!XLSTAT_PDFNormal(K302,0,1)","v":0.28371400781717476},302,null,14,13]
[303,51,3.1921457284999999,{"$f":"[1]!XLSTAT_PDFNormal(B303,0,1)","v":0},303,51,-2.767818256,{"$f":"[1]!XLSTAT_PDFNormal(F303,0,1)","v":0},303,null,0.84168335820000006,{"$f":"[1]!XLSTAT_PDFNormal(K303,0,1)","v":0.27994728232778016},303,null,15,13]
[304,3.1921457284999999,3.1921457284999999,{"$f":"[1]!XLSTAT_PDFNormal(B304,0,1)","v":2.4446930418434488E-3},304,-2.767818256,-2.767818256,{"$f":"[1]!XLSTAT_PDFNormal(F304,0,1)","v":8.6573424293895449E-3},304,null,0.85771542230000009,{"$f":"[1]!XLSTAT_PDFNormal(K304,0,1)","v":0.27615957611040221},304,null,16,13]
[305,3.2003058725,3.2003058725,{"$f":"[1]!XLSTAT_PDFNormal(B305,0,1)","v":2.3817557052358252E-3},305,-2.7596581120000003,-2.7596581120000003,{"$f":"[1]!XLSTAT_PDFNormal(F305,0,1)","v":8.8548054310363718E-3},305,null,0.87374748640000011,{"$f":"[1]!XLSTAT_PDFNormal(K305,0,1)","v":0.2723531067012655},305,null,17,13]
[306,51,3.2003058725,{"$f":"[1]!XLSTAT_PDFNormal(B306,0,1)","v":0},306,51,-2.7596581120000003,{"$f":"[1]!XLSTAT_PDFNormal(F306,0,1)","v":0},306,null,0.88977955050000013,{"$f":"[1]!XLSTAT_PDFNormal(K306,0,1)","v":0.2685300757207757},306,null,18,13]
[307,51,3.2084660165000001,{"$f":"[1]!XLSTAT_PDFNormal(B307,0,1)","v":0},307,51,-2.7514979679999998,{"$f":"[1]!XLSTAT_PDFNormal(F307,0,1)","v":0},307,null,0.90581161460000015,{"$f":"[1]!XLSTAT_PDFNormal(K307,0,1)","v":0.26469266684544174},307,null,19,13]
[308,3.2084660165000001,3.2084660165000001,{"$f":"[1]!XLSTAT_PDFNormal(B308,0,1)","v":2.3202841491488115E-3},308,-2.7514979679999998,-2.7514979679999998,{"$f":"[1]!XLSTAT_PDFNormal(F308,0,1)","v":9.0561692615052387E-3},308,null,0.92184367870000017,{"$f":"[1]!XLSTAT_PDFNormal(K308,0,1)","v":0.26084304383089979},308,null,20,13]
[309,3.2166261604999997,3.2166261604999997,{"$f":"[1]!XLSTAT_PDFNormal(B309,0,1)","v":2.2602486233627016E-3},309,-2.7433378240000001,-2.7433378240000001,{"$f":"[1]!XLSTAT_PDFNormal(F309,0,1)","v":9.2614955072687008E-3},309,null,0.93787574280000019,{"$f":"[1]!XLSTAT_PDFNormal(K309,0,1)","v":0.2569833485883492},309,null,21,13]
[310,51,3.2166261604999997,{"$f":"[1]!XLSTAT_PDFNormal(B310,0,1)","v":0},310,51,-2.7433378240000001,{"$f":"[1]!XLSTAT_PDFNormal(F310,0,1)","v":0},310,null,0.95390780690000021,{"$f":"[1]!XLSTAT_PDFNormal(K310,0,1)","v":0.25311569931658129},310,null,22,13]
[311,51,3.2247863045000003,{"$f":"[1]!XLSTAT_PDFNormal(B311,0,1)","v":0},311,51,-2.7351776800000001,{"$f":"[1]!XLSTAT_PDFNormal(F311,0,1)","v":0},311,null,0.96993987100000023,{"$f":"[1]!XLSTAT_PDFNormal(K311,0,1)","v":0.24924218869165157},311,null,23,13]
[312,3.2247863045000003,3.2247863045000003,{"$f":"[1]!XLSTAT_PDFNormal(B312,0,1)","v":2.2016198633105096E-3},312,-2.7351776800000001,-2.7351776800000001,{"$f":"[1]!XLSTAT_PDFNormal(F312,0,1)","v":9.4708463527246982E-3},312,null,0.98597193510000025,{"$f":"[1]!XLSTAT_PDFNormal(K312,0,1)","v":0.24536488211611276},312,null,24,13]
[313,3.2329464484999999,3.2329464484999999,{"$f":"[1]!XLSTAT_PDFNormal(B313,0,1)","v":2.1443690852054127E-3},313,-2.727017536,-2.727017536,{"$f":"[1]!XLSTAT_PDFNormal(F313,0,1)","v":9.6842845770034377E-3},313,null,1.0020039992000003,{"$f":"[1]!XLSTAT_PDFNormal(K313,0,1)","v":0.24148581602959168},313,null,1,14]
[314,51,3.2329464484999999,{"$f":"[1]!XLSTAT_PDFNormal(B314,0,1)","v":0},314,51,-2.727017536,{"$f":"[1]!XLSTAT_PDFNormal(F314,0,1)","v":0},314,null,1.0180360633000003,{"$f":"[1]!XLSTAT_PDFNormal(K314,0,1)","v":0.23760699628235507},314,null,2,14]
[315,51,3.2411065925,{"$f":"[1]!XLSTAT_PDFNormal(B315,0,1)","v":0},315,51,-2.7188573920000003,{"$f":"[1]!XLSTAT_PDFNormal(F315,0,1)","v":0},315,null,1.0340681274000003,{"$f":"[1]!XLSTAT_PDFNormal(K315,0,1)","v":0.23373039657337358},315,null,3,14]
[316,3.2411065925,3.2411065925,{"$f":"[1]!XLSTAT_PDFNormal(B316,0,1)","v":2.088467981136352E-3},316,-2.7188573920000003,-2.7188573920000003,{"$f":"[1]!XLSTAT_PDFNormal(F316,0,1)","v":9.9018735505019793E-3},316,null,1.0501001915000003,{"$f":"[1]!XLSTAT_PDFNormal(K316,0,1)","v":0.22985795695425273},316,null,4,14]
[317,3.2492667365000001,3.2492667365000001,{"$f":"[1]!XLSTAT_PDFNormal(B317,0,1)","v":2.0338887141347298E-3},317,-2.7106972479999998,-2.7106972479999998,{"$f":"[1]!XLSTAT_PDFNormal(F317,0,1)","v":1.0123677231141515E-2},317,null,1.0661322556000004,{"$f":"[1]!XLSTAT_PDFNormal(K317,0,1)","v":0.22599158240026115},317,null,5,14]
[318,51,3.2492667365000001,{"$f":"[1]!XLSTAT_PDFNormal(B318,0,1)","v":0},318,51,-2.7106972479999998,{"$f":"[1]!XLSTAT_PDFNormal(F318,0,1)","v":0},318,null,1.0821643197000004,{"$f":"[1]!XLSTAT_PDFNormal(K318,0,1)","v":0.22213314144954688},318,null,6,14]
[319,51,3.2574268804999997,{"$f":"[1]!XLSTAT_PDFNormal(B319,0,1)","v":0},319,51,-2.7025371040000001,{"$f":"[1]!XLSTAT_PDFNormal(F319,0,1)","v":0},319,null,1.0981963838000004,{"$f":"[1]!XLSTAT_PDFNormal(K319,0,1)","v":0.21828446491149214},319,null,7,14]
[320,3.2574268804999997,3.2574268804999997,{"$f":"[1]!XLSTAT_PDFNormal(B320,0,1)","v":1.9806039132147578E-3},320,-2.7025371040000001,-2.7025371040000001,{"$f":"[1]!XLSTAT_PDFNormal(F320,0,1)","v":1.0349760160342466E-2},320,null,1.1142284479000004,{"$f":"[1]!XLSTAT_PDFNormal(K320,0,1)","v":0.21444734464501869},320,null,8,14]
[321,{"$f":"IF(-1^(INT(A321/2)+2)>0,1.9599639845+2*INT(A321/2-1/2)*0.004080072,51)","v":3.2655870245000003},{"$f":"1.9599639845+2*INT(A321/2-1/2)*0.004080072","v":3.2655870245000003},{"$f":"[1]!XLSTAT_PDFNormal(B321,0,1)","v":1.9285866683901628E-3},321,{"$f":"IF(-1^(INT(E321/2)+2)>0,-4+2*INT(E321/2-1/2)*0.004080072,51)","v":-2.69437696},{"$f":"-4+2*INT(E321/2-1/2)*0.004080072","v":-2.69437696},{"$f":"[1]!XLSTAT_PDFNormal(F321,0,1)","v":1.0580187458713175E-2},321,null,{"$f":"-4+(I321-1)*0.0160320641","v":1.1302605119999996},{"$f":"[1]!XLSTAT_PDFNormal(K321,0,1)","v":0.21062353240751738},321,null,{"$f":"M321-24*INT((-1/2+M321)/24)","v":9},{"$f":"1+INT((M321-1/2)/24)","v":14}]
[322,51,3.2655870245000003,{"$f":"[1]!XLSTAT_PDFNormal(B322,0,1)","v":0},322,51,-2.69437696,{"$f":"[1]!XLSTAT_PDFNormal(F322,0,1)","v":0},322,null,1.1462925760999996,{"$f":"[1]!XLSTAT_PDFNormal(K322,0,1)","v":0.20681473877493595},322,null,10,14]
[323,51,3.2737471684999999,{"$f":"[1]!XLSTAT_PDFNormal(B323,0,1)","v":0},323,51,-2.686216816,{"$f":"[1]!XLSTAT_PDFNormal(F323,0,1)","v":0},323,null,1.1623246401999996,{"$f":"[1]!XLSTAT_PDFNormal(K323,0,1)","v":0.20302263213342828},323,null,11,14]
[324,3.2737471684999999,3.2737471684999999,{"$f":"[1]!XLSTAT_PDFNormal(B324,0,1)","v":1.8778105256698598E-3},324,-2.686216816,-2.686216816,{"$f":"[1]!XLSTAT_PDFNormal(F324,0,1)","v":1.0815024821446877E-2},324,null,1.1783567042999996,{"$f":"[1]!XLSTAT_PDFNormal(K324,0,1)","v":0.19924883774282506},324,null,12,14]
[325,3.2819073125,3.2819073125,{"$f":"[1]!XLSTAT_PDFNormal(B325,0,1)","v":1.8282494820350092E-3},325,-2.6780566720000003,-2.6780566720000003,{"$f":"[1]!XLSTAT_PDFNormal(F325,0,1)","v":1.1054338513422834E-2},325,null,1.1943887683999996,{"$f":"[1]!XLSTAT_PDFNormal(K325,0,1)","v":0.1954949368720624},325,null,13,14]
[326,51,3.2819073125,{"$f":"[1]!XLSTAT_PDFNormal(B326,0,1)","v":0},326,51,-2.6780566720000003,{"$f":"[1]!XLSTAT_PDFNormal(F326,0,1)","v":0},326,null,1.2104208324999997,{"$f":"[1]!XLSTAT_PDFNormal(K326,0,1)","v":0.19176246600656696},326,null,14,14]
[327,51,3.2900674565000001,{"$f":"[1]!XLSTAT_PDFNormal(B327,0,1)","v":0},327,51,-2.6698965279999998,{"$f":"[1]!XLSTAT_PDFNormal(F327,0,1)","v":0},327,null,1.2264528965999997,{"$f":"[1]!XLSTAT_PDFNormal(K327,0,1)","v":0.18805291612747244},327,null,15,14]
[328,3.2900674565000001,3.2900674565000001,{"$f":"[1]!XLSTAT_PDFNormal(B328,0,1)","v":1.7798779804000736E-3},328,-2.6698965279999998,-2.6698965279999998,{"$f":"[1]!XLSTAT_PDFNormal(F328,0,1)","v":1.1298195364006754E-2},328,null,1.2424849606999997,{"$f":"[1]!XLSTAT_PDFNormal(K328,0,1)","v":0.18436773206241447},328,null,16,14]
[329,3.2982276004999997,3.2982276004999997,{"$f":"[1]!XLSTAT_PDFNormal(B329,0,1)","v":1.7326709045601557E-3},329,-2.6617363840000001,-2.6617363840000001,{"$f":"[1]!XLSTAT_PDFNormal(F329,0,1)","v":1.1546662761545886E-2},329,null,1.2585170247999997,{"$f":"[1]!XLSTAT_PDFNormal(K329,0,1)","v":0.18070831190752859},329,null,17,14]
[330,51,3.2982276004999997,{"$f":"[1]!XLSTAT_PDFNormal(B330,0,1)","v":0},330,51,-2.6617363840000001,{"$f":"[1]!XLSTAT_PDFNormal(F330,0,1)","v":0},330,null,1.2745490888999997,{"$f":"[1]!XLSTAT_PDFNormal(K330,0,1)","v":0.17707600652015704},330,null,18,14]
[331,51,3.3063877445000003,{"$f":"[1]!XLSTAT_PDFNormal(B331,0,1)","v":0},331,51,-2.65357624,{"$f":"[1]!XLSTAT_PDFNormal(F331,0,1)","v":0},331,null,1.2905811529999998,{"$f":"[1]!XLSTAT_PDFNormal(K331,0,1)","v":0.17347211908165294},331,null,19,14]
[332,3.3063877445000003,3.3063877445000003,{"$f":"[1]!XLSTAT_PDFNormal(B332,0,1)","v":1.6866035741270292E-3},332,-2.65357624,-2.65357624,{"$f":"[1]!XLSTAT_PDFNormal(F332,0,1)","v":1.1799808647554536E-2},332,null,1.3066132170999998,{"$f":"[1]!XLSTAT_PDFNormal(K332,0,1)","v":0.16989790472955832},332,null,20,14]
[333,3.3145478884999999,3.3145478884999999,{"$f":"[1]!XLSTAT_PDFNormal(B333,0,1)","v":1.6416517394561882E-3},333,-2.6454160959999999,-2.6454160959999999,{"$f":"[1]!XLSTAT_PDFNormal(F333,0,1)","v":1.2057701510585148E-2},333,null,1.3226452811999998,{"$f":"[1]!XLSTAT_PDFNormal(K333,0,1)","v":0.16635457025832281},333,null,21,14]
[334,51,3.3145478884999999,{"$f":"[1]!XLSTAT_PDFNormal(B334,0,1)","v":0},334,51,-2.6454160959999999,{"$f":"[1]!XLSTAT_PDFNormal(F334,0,1)","v":0},334,null,1.3386773452999998,{"$f":"[1]!XLSTAT_PDFNormal(K334,0,1)","v":0.16284327388762523},334,null,22,14]
[335,51,3.3227080325,{"$f":"[1]!XLSTAT_PDFNormal(B335,0,1)","v":0},335,51,-2.6372559520000003,{"$f":"[1]!XLSTAT_PDFNormal(F335,0,1)","v":0},335,null,1.3547094093999998,{"$f":"[1]!XLSTAT_PDFNormal(K335,0,1)","v":0.15936512509725864},335,null,23,14]
[336,3.3227080325,3.3227080325,{"$f":"[1]!XLSTAT_PDFNormal(B336,0,1)","v":1.5977915765670407E-3},336,-2.6372559520000003,-2.6372559520000003,{"$f":"[1]!XLSTAT_PDFNormal(F336,0,1)","v":1.2320410379780815E-2},336,null,1.3707414734999999,{"$f":"[1]!XLSTAT_PDFNormal(K336,0,1)","v":0.15592118452744272},336,null,24,14]
[337,3.3308681765000001,3.3308681765000001,{"$f":"[1]!XLSTAT_PDFNormal(B337,0,1)","v":1.5549996820585891E-3},337,-2.6290958080000002,-2.6290958080000002,{"$f":"[1]!XLSTAT_PDFNormal(F337,0,1)","v":1.2588004818104714E-2},337,null,1.3867735375999999,{"$f":"[1]!XLSTAT_PDFNormal(K337,0,1)","v":0.15251246394333495},337,null,1,15]
[338,51,3.3308681765000001,{"$f":"[1]!XLSTAT_PDFNormal(B338,0,1)","v":0},338,51,-2.6290958080000002,{"$f":"[1]!XLSTAT_PDFNormal(F338,0,1)","v":0},338,null,1.4028056016999999,{"$f":"[1]!XLSTAT_PDFNormal(K338,0,1)","v":0.14913992626242317},338,null,2,15]
[339,51,3.3390283204999998,{"$f":"[1]!XLSTAT_PDFNormal(B339,0,1)","v":0},339,51,-2.6209356640000001,{"$f":"[1]!XLSTAT_PDFNormal(F339,0,1)","v":0},339,null,1.4188376657999999,{"$f":"[1]!XLSTAT_PDFNormal(K339,0,1)","v":0.14580448564339987},339,null,3,15]
[340,3.3390283204999998,3.3390283204999998,{"$f":"[1]!XLSTAT_PDFNormal(B340,0,1)","v":1.5132530680225739E-3},340,-2.6209356640000001,-2.6209356640000001,{"$f":"[1]!XLSTAT_PDFNormal(F340,0,1)","v":1.2860554915242062E-2},340,null,1.4348697298999999,{"$f":"[1]!XLSTAT_PDFNormal(K340,0,1)","v":0.1425070076350376},340,null,4,15]
[341,3.3471884645000003,3.3471884645000003,{"$f":"[1]!XLSTAT_PDFNormal(B341,0,1)","v":1.4725291569562468E-3},341,-2.61277552,-2.61277552,{"$f":"[1]!XLSTAT_PDFNormal(F341,0,1)","v":1.3138131280170535E-2},341,null,1.450901794,{"$f":"[1]!XLSTAT_PDFNormal(K341,0,1)","v":0.13924830938351312},341,null,5,15]
[342,51,3.3471884645000003,{"$f":"[1]!XLSTAT_PDFNormal(B342,0,1)","v":0},342,51,-2.61277552,{"$f":"[1]!XLSTAT_PDFNormal(F342,0,1)","v":0},342,null,1.4669338581,{"$f":"[1]!XLSTAT_PDFNormal(K342,0,1)","v":0.1360291598965564},342,null,6,15]
[343,51,3.3553486084999999,{"$f":"[1]!XLSTAT_PDFNormal(B343,0,1)","v":0},343,51,-2.6046153759999999,{"$f":"[1]!XLSTAT_PDFNormal(F343,0,1)","v":0},343,null,1.4829659222,{"$f":"[1]!XLSTAT_PDFNormal(K343,0,1)","v":0.13285028036273691},343,null,7,15]
[344,3.3553486084999999,3.3553486084999999,{"$f":"[1]!XLSTAT_PDFNormal(B344,0,1)","v":1.4328057766767627E-3},344,-2.6046153759999999,-2.6046153759999999,{"$f":"[1]!XLSTAT_PDFNormal(F344,0,1)","v":1.3420805033394743E-2},344,null,1.4989979863,{"$f":"[1]!XLSTAT_PDFNormal(K344,0,1)","v":0.12971234452414054},344,null,8,15]
[345,3.3635087525,3.3635087525,{"$f":"[1]!XLSTAT_PDFNormal(B345,0,1)","v":1.3940611552391191E-3},345,-2.5964552320000003,-2.5964552320000003,{"$f":"[1]!XLSTAT_PDFNormal(F345,0,1)","v":1.3708647798840725E-2},345,null,1.5150300504000001,{"$f":"[1]!XLSTAT_PDFNormal(K345,0,1)","v":0.12661597910063421},345,null,9,15]
[346,51,3.3635087525,{"$f":"[1]!XLSTAT_PDFNormal(B346,0,1)","v":0},346,51,-2.5964552320000003,{"$f":"[1]!XLSTAT_PDFNormal(F346,0,1)","v":0},346,null,1.5310621145000001,{"$f":"[1]!XLSTAT_PDFNormal(K346,0,1)","v":0.1235617642638674},346,null,10,15]
[347,51,3.3716688965000001,{"$f":"[1]!XLSTAT_PDFNormal(B347,0,1)","v":0},347,51,-2.5882950880000002,{"$f":"[1]!XLSTAT_PDFNormal(F347,0,1)","v":0},347,null,1.5470941786000001,{"$f":"[1]!XLSTAT_PDFNormal(K347,0,1)","v":0.12055023415911269},347,null,11,15]
[348,3.3716688965000001,3.3716688965000001,{"$f":"[1]!XLSTAT_PDFNormal(B348,0,1)","v":1.3562739158596152E-3},348,-2.5882950880000002,-2.5882950880000002,{"$f":"[1]!XLSTAT_PDFNormal(F348,0,1)","v":1.4001731695406439E-2},348,null,1.5631262427000001,{"$f":"[1]!XLSTAT_PDFNormal(K348,0,1)","v":0.11758187747300967},348,null,12,15]
[349,3.3798290404999998,3.3798290404999998,{"$f":"[1]!XLSTAT_PDFNormal(B349,0,1)","v":1.3194230718466206E-3},349,-2.5801349440000001,-2.5801349440000001,{"$f":"[1]!XLSTAT_PDFNormal(F349,0,1)","v":1.4300129328164067E-2},349,null,1.5791583068000001,{"$f":"[1]!XLSTAT_PDFNormal(K349,0,1)","v":0.11465713804523947},349,null,13,15]
[350,51,3.3798290404999998,{"$f":"[1]!XLSTAT_PDFNormal(B350,0,1)","v":0},350,51,-2.5801349440000001,{"$f":"[1]!XLSTAT_PDFNormal(F350,0,1)","v":0},350,null,1.5951903709000002,{"$f":"[1]!XLSTAT_PDFNormal(K350,0,1)","v":0.11177641552212854},350,null,14,15]
[351,51,3.3879891845000003,{"$f":"[1]!XLSTAT_PDFNormal(B351,0,1)","v":0},351,51,-2.5719748,{"$f":"[1]!XLSTAT_PDFNormal(F351,0,1)","v":0},351,null,1.6112224350000002,{"$f":"[1]!XLSTAT_PDFNormal(K351,0,1)","v":0.10894006605015367},351,null,15,15]
[352,3.3879891845000003,3.3879891845000003,{"$f":"[1]!XLSTAT_PDFNormal(B352,0,1)","v":1.2834880215404738E-3},352,-2.5719748,-2.5719748,{"$f":"[1]!XLSTAT_PDFNormal(F352,0,1)","v":1.4603913779210475E-2},352,null,1.6272544991000002,{"$f":"[1]!XLSTAT_PDFNormal(K352,0,1)","v":0.10614840300730032},352,null,16,15]
[353,3.3961493285,3.3961493285,{"$f":"[1]!XLSTAT_PDFNormal(B353,0,1)","v":1.2484485432643047E-3},353,-2.5638146559999999,-2.5638146559999999,{"$f":"[1]!XLSTAT_PDFNormal(F353,0,1)","v":1.4913158598161846E-2},353,null,1.6432865632000002,{"$f":"[1]!XLSTAT_PDFNormal(K353,0,1)","v":0.10340169777020965},353,null,17,15]
[354,51,3.3961493285,{"$f":"[1]!XLSTAT_PDFNormal(B354,0,1)","v":0},354,51,-2.5638146559999999,{"$f":"[1]!XLSTAT_PDFNormal(F354,0,1)","v":0},354,null,1.6593186273000002,{"$f":"[1]!XLSTAT_PDFNormal(K354,0,1)","v":0.10070018051503912},354,null,18,15]
[355,51,3.4043094725,{"$f":"[1]!XLSTAT_PDFNormal(B355,0,1)","v":0},355,51,-2.5556545120000003,{"$f":"[1]!XLSTAT_PDFNormal(F355,0,1)","v":0},355,null,1.6753506914000003,{"$f":"[1]!XLSTAT_PDFNormal(K355,0,1)","v":9.8044041049953359E-2},355,null,19,15]
[356,3.4043094725,3.4043094725,{"$f":"[1]!XLSTAT_PDFNormal(B356,0,1)","v":1.2142847902873635E-3},356,-2.5556545120000003,-2.5556545120000003,{"$f":"[1]!XLSTAT_PDFNormal(F356,0,1)","v":1.5227937792288737E-2},356,null,1.6913827555000003,{"$f":"[1]!XLSTAT_PDFNormal(K356,0,1)","v":9.5433429677160536E-2},356,null,20,15]
[357,3.4124696165000001,3.4124696165000001,{"$f":"[1]!XLSTAT_PDFNormal(B357,0,1)","v":1.1809772858026324E-3},357,-2.5474943680000002,-2.5474943680000002,{"$f":"[1]!XLSTAT_PDFNormal(F357,0,1)","v":1.5548325816288001E-2},357,null,1.7074148196000003,{"$f":"[1]!XLSTAT_PDFNormal(K357,0,1)","v":9.2868458082410829E-2},357,null,21,15]
[358,51,3.4124696165000001,{"$f":"[1]!XLSTAT_PDFNormal(B358,0,1)","v":0},358,51,-2.5474943680000002,{"$f":"[1]!XLSTAT_PDFNormal(F358,0,1)","v":0},358,null,1.7234468837000003,{"$f":"[1]!XLSTAT_PDFNormal(K358,0,1)","v":9.0349200249879164E-2},358,null,22,15]
[359,51,3.4206297604999998,{"$f":"[1]!XLSTAT_PDFNormal(B359,0,1)","v":0},359,51,-2.5393342240000001,{"$f":"[1]!XLSTAT_PDFNormal(F359,0,1)","v":0},359,null,1.7394789478000003,{"$f":"[1]!XLSTAT_PDFNormal(K359,0,1)","v":8.7875693400365329E-2},359,null,23,15]
[360,3.4206297604999998,3.4206297604999998,{"$f":"[1]!XLSTAT_PDFNormal(B360,0,1)","v":1.1485069179202039E-3},360,-2.5393342240000001,-2.5393342240000001,{"$f":"[1]!XLSTAT_PDFNormal(F360,0,1)","v":1.5874397561687868E-2},360,null,1.7555110119000004,{"$f":"[1]!XLSTAT_PDFNormal(K360,0,1)","v":8.544793895075728E-2},360,null,24,15]
[361,3.4287899044999999,3.4287899044999999,{"$f":"[1]!XLSTAT_PDFNormal(B361,0,1)","v":1.1168549346780206E-3},361,-2.5311740800000004,-2.5311740800000004,{"$f":"[1]!XLSTAT_PDFNormal(F361,0,1)","v":1.6206228345882853E-2},361,null,1.7715430760000004,{"$f":"[1]!XLSTAT_PDFNormal(K361,0,1)","v":8.3065903492722415E-2},361,null,1,16]
[362,51,3.4287899044999999,{"$f":"[1]!XLSTAT_PDFNormal(B362,0,1)","v":0},362,51,-2.5311740800000004,{"$f":"[1]!XLSTAT_PDFNormal(F362,0,1)","v":0},362,null,1.7875751401000004,{"$f":"[1]!XLSTAT_PDFNormal(K362,0,1)","v":8.0729519788611731E-2},362,null,2,16]
[363,51,3.4369500485,{"$f":"[1]!XLSTAT_PDFNormal(B363,0,1)","v":0},363,51,-2.5230139359999999,{"$f":"[1]!XLSTAT_PDFNormal(F363,0,1)","v":0},363,null,1.8036072042000004,{"$f":"[1]!XLSTAT_PDFNormal(K363,0,1)","v":7.843868778258789E-2},363,null,3,16]
[364,3.4369500485,3.4369500485,{"$f":"[1]!XLSTAT_PDFNormal(B364,0,1)","v":1.0860029390714558E-3},364,-2.5230139359999999,-2.5230139359999999,{"$f":"[1]!XLSTAT_PDFNormal(F364,0,1)","v":1.6543893900795185E-2},364,null,1.8196392682999996,{"$f":"[1]!XLSTAT_PDFNormal(K364,0,1)","v":7.6193275625015461E-2},364,null,4,16]
[365,3.4451101925000001,3.4451101925000001,{"$f":"[1]!XLSTAT_PDFNormal(B365,0,1)","v":1.0559328841031675E-3},365,-2.5148537920000003,-2.5148537920000003,{"$f":"[1]!XLSTAT_PDFNormal(F365,0,1)","v":1.6887470361159066E-2},365,null,1.8356713323999996,{"$f":"[1]!XLSTAT_PDFNormal(K365,0,1)","v":7.39931207081828E-2},365,null,5,16]
[366,51,3.4451101925000001,{"$f":"[1]!XLSTAT_PDFNormal(B366,0,1)","v":0},366,51,-2.5148537920000003,{"$f":"[1]!XLSTAT_PDFNormal(F366,0,1)","v":0},366,null,1.8517033964999996,{"$f":"[1]!XLSTAT_PDFNormal(K366,0,1)","v":7.183803071146172E-2},366,null,6,16]
[367,51,3.4532703365000001,{"$f":"[1]!XLSTAT_PDFNormal(B367,0,1)","v":0},367,51,-2.5066936480000002,{"$f":"[1]!XLSTAT_PDFNormal(F367,0,1)","v":0},367,null,1.8677354605999996,{"$f":"[1]!XLSTAT_PDFNormal(K367,0,1)","v":6.9727784654044445E-2},367,null,7,16]
[368,3.4532703365000001,3.4532703365000001,{"$f":"[1]!XLSTAT_PDFNormal(B368,0,1)","v":1.0266270678546254E-3},368,-2.5066936480000002,-2.5066936480000002,{"$f":"[1]!XLSTAT_PDFNormal(F368,0,1)","v":1.7237034252425433E-2},368,null,1.8837675246999996,{"$f":"[1]!XLSTAT_PDFNormal(K368,0,1)","v":6.7662133953441006E-2},368,null,8,16]
[369,3.4614304804999998,3.4614304804999998,{"$f":"[1]!XLSTAT_PDFNormal(B369,0,1)","v":9.9806812858064305E-4},369,-2.4985335040000001,-2.4985335040000001,{"$f":"[1]!XLSTAT_PDFNormal(F369,0,1)","v":1.7592662478283224E-2},369,null,1.8997995887999997,{"$f":"[1]!XLSTAT_PDFNormal(K369,0,1)","v":6.5640803487960989E-2},369,null,9,16]
[370,51,3.4614304804999998,{"$f":"[1]!XLSTAT_PDFNormal(B370,0,1)","v":0},370,51,-2.4985335040000001,{"$f":"[1]!XLSTAT_PDFNormal(F370,0,1)","v":0},370,null,1.9158316528999997,{"$f":"[1]!XLSTAT_PDFNormal(K370,0,1)","v":6.3663492661448509E-2},370,null,10,16]
[371,51,3.4695906244999999,{"$f":"[1]!XLSTAT_PDFNormal(B371,0,1)","v":0},371,51,-2.4903733600000004,{"$f":"[1]!XLSTAT_PDFNormal(F371,0,1)","v":0},371,null,1.9318637169999997,{"$f":"[1]!XLSTAT_PDFNormal(K371,0,1)","v":6.1729876468586707E-2},371,null,11,16]
[372,3.4695906244999999,3.4695906244999999,{"$f":"[1]!XLSTAT_PDFNormal(B372,0,1)","v":9.7023903982822288E-4},372,-2.4903733600000004,-2.4903733600000004,{"$f":"[1]!XLSTAT_PDFNormal(F372,0,1)","v":1.7954432307794966E-2},372,null,1.9478957810999997,{"$f":"[1]!XLSTAT_PDFNormal(K372,0,1)","v":5.9839606559137018E-2},372,null,12,16]
[373,3.4777507685,3.4777507685,{"$f":"[1]!XLSTAT_PDFNormal(B373,0,1)","v":9.4312310558096728E-4},373,-2.4822132159999999,-2.4822132159999999,{"$f":"[1]!XLSTAT_PDFNormal(F373,0,1)","v":1.8322421362143678E-2},373,null,1.9639278451999997,{"$f":"[1]!XLSTAT_PDFNormal(K373,0,1)","v":5.7992312299529253E-2},373,null,13,16]
[374,51,3.4777507685,{"$f":"[1]!XLSTAT_PDFNormal(B374,0,1)","v":0},374,51,-2.4822132159999999,{"$f":"[1]!XLSTAT_PDFNormal(F374,0,1)","v":0},374,null,1.9799599092999998,{"$f":"[1]!XLSTAT_PDFNormal(K374,0,1)","v":5.6187601830271418E-2},374,null,14,16]
[375,51,3.4859109125000001,{"$f":"[1]!XLSTAT_PDFNormal(B375,0,1)","v":0},375,51,-2.4740530720000002,{"$f":"[1]!XLSTAT_PDFNormal(F375,0,1)","v":0},375,null,1.9959919733999998,{"$f":"[1]!XLSTAT_PDFNormal(K375,0,1)","v":5.4425063117701844E-2},375,null,15,16]
[376,3.4859109125000001,3.4859109125000001,{"$f":"[1]!XLSTAT_PDFNormal(B376,0,1)","v":9.1670395543022706E-4},376,-2.4740530720000002,-2.4740530720000002,{"$f":"[1]!XLSTAT_PDFNormal(F376,0,1)","v":1.8696707600987985E-2},376,null,2.0120240374999998,{"$f":"[1]!XLSTAT_PDFNormal(K376,0,1)","v":5.2704264998662112E-2},376,null,16,16]
[377,3.4940710565000002,3.4940710565000002,{"$f":"[1]!XLSTAT_PDFNormal(B377,0,1)","v":8.9096553977417866E-4},377,-2.4658929280000002,-2.4658929280000002,{"$f":"[1]!XLSTAT_PDFNormal(F377,0,1)","v":1.9077369308423891E-2},377,null,2.0280561015999998,{"$f":"[1]!XLSTAT_PDFNormal(K377,0,1)","v":5.1024758216725571E-2},377,null,17,16]
[378,51,3.4940710565000002,{"$f":"[1]!XLSTAT_PDFNormal(B378,0,1)","v":0},378,51,-2.4658929280000002,{"$f":"[1]!XLSTAT_PDFNormal(F378,0,1)","v":0},378,null,2.0440881656999998,{"$f":"[1]!XLSTAT_PDFNormal(K378,0,1)","v":4.9386076448673891E-2},378,null,18,16]
[379,51,3.5022312004999998,{"$f":"[1]!XLSTAT_PDFNormal(B379,0,1)","v":0},379,51,-2.4577327840000001,{"$f":"[1]!XLSTAT_PDFNormal(F379,0,1)","v":0},379,null,2.0601202297999999,{"$f":"[1]!XLSTAT_PDFNormal(K379,0,1)","v":4.7787737319972559E-2},379,null,19,16]
[380,3.5022312004999998,3.5022312004999998,{"$f":"[1]!XLSTAT_PDFNormal(B380,0,1)","v":8.6589212504592419E-4},380,-2.4577327840000001,-2.4577327840000001,{"$f":"[1]!XLSTAT_PDFNormal(F380,0,1)","v":1.9464485078549552E-2},380,null,2.0761522938999999,{"$f":"[1]!XLSTAT_PDFNormal(K380,0,1)","v":4.6229243408055232E-2},380,null,20,16]
[381,3.5103913444999999,3.5103913444999999,{"$f":"[1]!XLSTAT_PDFNormal(B381,0,1)","v":8.4146828897167607E-4},381,-2.4495726400000004,-2.4495726400000004,{"$f":"[1]!XLSTAT_PDFNormal(F381,0,1)","v":1.9858133800631905E-2},381,null,2.0921843579999999,{"$f":"[1]!XLSTAT_PDFNormal(K381,0,1)","v":4.4710083232286764E-2},381,null,21,16]
[382,51,3.5103913444999999,{"$f":"[1]!XLSTAT_PDFNormal(B382,0,1)","v":0},382,51,-2.4495726400000004,{"$f":"[1]!XLSTAT_PDFNormal(F382,0,1)","v":0},382,null,2.1082164220999999,{"$f":"[1]!XLSTAT_PDFNormal(K382,0,1)","v":4.3229732229534475E-2},382,null,22,16]
[383,51,3.5185514885,{"$f":"[1]!XLSTAT_PDFNormal(B383,0,1)","v":0},383,51,-2.4414124959999999,{"$f":"[1]!XLSTAT_PDFNormal(F383,0,1)","v":0},383,null,2.1242484862,{"$f":"[1]!XLSTAT_PDFNormal(K383,0,1)","v":4.1787653714337458E-2},383,null,23,16]
[384,3.5185514885,3.5185514885,{"$f":"[1]!XLSTAT_PDFNormal(B384,0,1)","v":8.176789158600645E-4},384,-2.4414124959999999,-2.4414124959999999,{"$f":"[1]!XLSTAT_PDFNormal(F384,0,1)","v":2.0258394643872343E-2},384,null,2.1402805503,{"$f":"[1]!XLSTAT_PDFNormal(K384,0,1)","v":4.0383299822724344E-2},384,null,24,16]
[385,{"$f":"IF(-1^(INT(A385/2)+2)>0,1.9599639845+2*INT(A385/2-1/2)*0.004080072,51)","v":3.5267116324999996},{"$f":"1.9599639845+2*INT(A385/2-1/2)*0.004080072","v":3.5267116324999996},{"$f":"[1]!XLSTAT_PDFNormal(B385,0,1)","v":7.9450919192353598E-4},385,{"$f":"IF(-1^(INT(E385/2)+2)>0,-4+2*INT(E385/2-1/2)*0.004080072,51)","v":-2.4332523520000002},{"$f":"-4+2*INT(E385/2-1/2)*0.004080072","v":-2.4332523520000002},{"$f":"[1]!XLSTAT_PDFNormal(F385,0,1)","v":2.0665347041769477E-2},385,null,{"$f":"-4+(I385-1)*0.0160320641","v":2.1563126144},{"$f":"[1]!XLSTAT_PDFNormal(K385,0,1)","v":3.9016112438789587E-2},385,null,{"$f":"M385-24*INT((-1/2+M385)/24)","v":1},{"$f":"1+INT((M385-1/2)/24)","v":17}]
[386,51,3.5267116324999996,{"$f":"[1]!XLSTAT_PDFNormal(B386,0,1)","v":0},386,51,-2.4332523520000002,{"$f":"[1]!XLSTAT_PDFNormal(F386,0,1)","v":0},386,null,2.1723446785,{"$f":"[1]!XLSTAT_PDFNormal(K386,0,1)","v":3.7685524103199336E-2},386,null,2,17]
[387,51,3.5348717765000002,{"$f":"[1]!XLSTAT_PDFNormal(B387,0,1)","v":0},387,51,-2.4250922080000001,{"$f":"[1]!XLSTAT_PDFNormal(F387,0,1)","v":0},387,null,2.1883767426,{"$f":"[1]!XLSTAT_PDFNormal(K387,0,1)","v":3.6390958902856423E-2},387,null,3,17]
[388,3.5348717765000002,3.5348717765000002,{"$f":"[1]!XLSTAT_PDFNormal(B388,0,1)","v":7.7194460063277355E-4},388,-2.4250922080000001,-2.4250922080000001,{"$f":"[1]!XLSTAT_PDFNormal(F388,0,1)","v":2.1079070676077782E-2},388,null,2.2044088067000001,{"$f":"[1]!XLSTAT_PDFNormal(K388,0,1)","v":3.5131833341014648E-2},388,null,4,17]
[389,3.5430319204999998,3.5430319204999998,{"$f":"[1]!XLSTAT_PDFNormal(B389,0,1)","v":7.499709181050671E-4},389,-2.416932064,-2.416932064,{"$f":"[1]!XLSTAT_PDFNormal(F389,0,1)","v":2.1499645460359484E-2},389,null,2.2204408708000001,{"$f":"[1]!XLSTAT_PDFNormal(K389,0,1)","v":3.3907557187189942E-2},389,null,5,17]
[390,51,3.5430319204999998,{"$f":"[1]!XLSTAT_PDFNormal(B390,0,1)","v":0},390,51,-2.416932064,{"$f":"[1]!XLSTAT_PDFNormal(F390,0,1)","v":0},390,null,2.2364729349000001,{"$f":"[1]!XLSTAT_PDFNormal(K390,0,1)","v":3.2717534306275067E-2},390,null,6,17]
[391,51,3.5511920644999999,{"$f":"[1]!XLSTAT_PDFNormal(B391,0,1)","v":0},391,51,-2.4087719200000004,{"$f":"[1]!XLSTAT_PDFNormal(F391,0,1)","v":0},391,null,2.2525049990000001,{"$f":"[1]!XLSTAT_PDFNormal(K391,0,1)","v":3.1561163466321138E-2},391,null,7,17]
[392,3.5511920644999999,3.5511920644999999,{"$f":"[1]!XLSTAT_PDFNormal(B392,0,1)","v":7.2857420852743529E-4},392,-2.4087719200000004,-2.4087719200000004,{"$f":"[1]!XLSTAT_PDFNormal(F392,0,1)","v":2.1927151523128945E-2},392,null,2.2685370631000001,{"$f":"[1]!XLSTAT_PDFNormal(K392,0,1)","v":3.0437839124505647E-2},392,null,8,17]
[393,3.5593522085,3.5593522085,{"$f":"[1]!XLSTAT_PDFNormal(B393,0,1)","v":7.0774081961536895E-4},393,-2.4006117759999999,-2.4006117759999999,{"$f":"[1]!XLSTAT_PDFNormal(F393,0,1)","v":2.2361669190587928E-2},393,null,2.2845691272000002,{"$f":"[1]!XLSTAT_PDFNormal(K393,0,1)","v":2.9346952190862186E-2},393,null,9,17]
[394,51,3.5593522085,{"$f":"[1]!XLSTAT_PDFNormal(B394,0,1)","v":0},394,51,-2.4006117759999999,{"$f":"[1]!XLSTAT_PDFNormal(F394,0,1)","v":0},394,null,2.3006011913000002,{"$f":"[1]!XLSTAT_PDFNormal(K394,0,1)","v":2.8287890769401271E-2},394,null,10,17]
[395,51,3.5675123524999997,{"$f":"[1]!XLSTAT_PDFNormal(B395,0,1)","v":0},395,51,-2.3924516320000002,{"$f":"[1]!XLSTAT_PDFNormal(F395,0,1)","v":0},395,null,2.3166332554000002,{"$f":"[1]!XLSTAT_PDFNormal(K395,0,1)","v":2.7260040876304601E-2},395,null,11,17]
[396,3.5675123524999997,3.5675123524999997,{"$f":"[1]!XLSTAT_PDFNormal(B396,0,1)","v":6.8745737810793519E-4},396,-2.3924516320000002,-2.3924516320000002,{"$f":"[1]!XLSTAT_PDFNormal(F396,0,1)","v":2.2803278968950205E-2},396,null,2.3326653195000002,{"$f":"[1]!XLSTAT_PDFNormal(K396,0,1)","v":2.6262787134927065E-2},396,null,12,17]
[397,3.5756724965000002,3.5756724965000002,{"$f":"[1]!XLSTAT_PDFNormal(B397,0,1)","v":6.6771078529998548E-4},397,-2.3842914880000001,-2.3842914880000001,{"$f":"[1]!XLSTAT_PDFNormal(F397,0,1)","v":2.3252061526355318E-2},397,null,2.3486973836000002,{"$f":"[1]!XLSTAT_PDFNormal(K397,0,1)","v":2.5295513447391348E-2},397,null,13,17]
[398,51,3.5756724965000002,{"$f":"[1]!XLSTAT_PDFNormal(B398,0,1)","v":0},398,51,-2.3842914880000001,{"$f":"[1]!XLSTAT_PDFNormal(F398,0,1)","v":0},398,null,2.3647294477000003,{"$f":"[1]!XLSTAT_PDFNormal(K398,0,1)","v":2.435760364260894E-2},398,null,14,17]
[399,51,3.5838326404999998,{"$f":"[1]!XLSTAT_PDFNormal(B399,0,1)","v":0},399,51,-2.376131344,{"$f":"[1]!XLSTAT_PDFNormal(F399,0,1)","v":0},399,null,2.3807615118000003,{"$f":"[1]!XLSTAT_PDFNormal(K399,0,1)","v":2.3448442100609236E-2},399,null,15,17]
[400,3.5838326404999998,3.5838326404999998,{"$f":"[1]!XLSTAT_PDFNormal(B400,0,1)","v":6.4848821261218395E-4},400,-2.376131344,-2.376131344,{"$f":"[1]!XLSTAT_PDFNormal(F400,0,1)","v":2.3708097674369578E-2},400,null,2.3967935759000003,{"$f":"[1]!XLSTAT_PDFNormal(K400,0,1)","v":2.2567414353104425E-2},400,null,16,17]
[401,3.5919927844999999,3.5919927844999999,{"$f":"[1]!XLSTAT_PDFNormal(B401,0,1)","v":6.2977709719948065E-4},401,-2.3679712000000004,-2.3679712000000004,{"$f":"[1]!XLSTAT_PDFNormal(F401,0,1)","v":2.4171468349074444E-2},401,null,2.4128256400000003,{"$f":"[1]!XLSTAT_PDFNormal(K401,0,1)","v":2.1713907660262634E-2},401,null,17,17]
[402,51,3.5919927844999999,{"$f":"[1]!XLSTAT_PDFNormal(B402,0,1)","v":0},402,51,-2.3679712000000004,{"$f":"[1]!XLSTAT_PDFNormal(F402,0,1)","v":0},402,null,2.4288577041000003,{"$f":"[1]!XLSTAT_PDFNormal(K402,0,1)","v":2.0887311563704571E-2},402,null,18,17]
[403,51,3.6001529285,{"$f":"[1]!XLSTAT_PDFNormal(B403,0,1)","v":0},403,51,-2.3598110559999999,{"$f":"[1]!XLSTAT_PDFNormal(F403,0,1)","v":0},403,null,2.4448897682000004,{"$f":"[1]!XLSTAT_PDFNormal(K403,0,1)","v":2.0087018415780641E-2},403,null,19,17]
[404,3.6001529285,3.6001529285,{"$f":"[1]!XLSTAT_PDFNormal(B404,0,1)","v":6.1156513759869828E-4},404,-2.3598110559999999,-2.3598110559999999,{"$f":"[1]!XLSTAT_PDFNormal(F404,0,1)","v":2.4642254591741637E-2},404,null,2.4609218323000004,{"$f":"[1]!XLSTAT_PDFNormal(K404,0,1)","v":1.9312423885224885E-2},404,null,20,17]
[405,3.6083130724999997,3.6083130724999997,{"$f":"[1]!XLSTAT_PDFNormal(B405,0,1)","v":5.9384028941578322E-4},405,-2.3516509120000002,-2.3516509120000002,{"$f":"[1]!XLSTAT_PDFNormal(F405,0,1)","v":2.5120537529093979E-2},405,null,2.4769538964000004,{"$f":"[1]!XLSTAT_PDFNormal(K405,0,1)","v":1.856292743932033E-2},405,null,21,17]
[406,51,3.6083130724999997,{"$f":"[1]!XLSTAT_PDFNormal(B406,0,1)","v":0},406,51,-2.3516509120000002,{"$f":"[1]!XLSTAT_PDFNormal(F406,0,1)","v":0},406,null,2.4929859605000004,{"$f":"[1]!XLSTAT_PDFNormal(K406,0,1)","v":1.7837932802746499E-2},406,null,22,17]
[407,51,3.6164732165000002,{"$f":"[1]!XLSTAT_PDFNormal(B407,0,1)","v":0},407,51,-2.3434907680000001,{"$f":"[1]!XLSTAT_PDFNormal(F407,0,1)","v":0},407,null,2.5090180245999996,{"$f":"[1]!XLSTAT_PDFNormal(K407,0,1)","v":1.7136848393314533E-2},407,null,23,17]
[408,3.6164732165000002,3.6164732165000002,{"$f":"[1]!XLSTAT_PDFNormal(B408,0,1)","v":5.7659076105329176E-4},408,-2.3434907680000001,-2.3434907680000001,{"$f":"[1]!XLSTAT_PDFNormal(F408,0,1)","v":2.5606398353153249E-2},408,null,2.5250500886999996,{"$f":"[1]!XLSTAT_PDFNormal(K408,0,1)","v":1.6459087734827925E-2},408,null,24,17]
[409,3.6246333604999998,3.6246333604999998,{"$f":"[1]!XLSTAT_PDFNormal(B409,0,1)","v":5.59805009478636E-4},409,-2.335330624,-2.335330624,{"$f":"[1]!XLSTAT_PDFNormal(F409,0,1)","v":2.6099918300673392E-2},409,null,2.5410821527999996,{"$f":"[1]!XLSTAT_PDFNormal(K409,0,1)","v":1.5804069847338585E-2},409,null,1,18]
[410,51,3.6246333604999998,{"$f":"[1]!XLSTAT_PDFNormal(B410,0,1)","v":0},410,51,-2.335330624,{"$f":"[1]!XLSTAT_PDFNormal(F410,0,1)","v":0},410,null,2.5571142168999996,{"$f":"[1]!XLSTAT_PDFNormal(K410,0,1)","v":1.5171219615096154E-2},410,null,2,18]
[411,51,3.6327935044999999,{"$f":"[1]!XLSTAT_PDFNormal(B411,0,1)","v":0},411,51,-2.3271704800000004,{"$f":"[1]!XLSTAT_PDFNormal(F411,0,1)","v":0},411,null,2.5731462809999996,{"$f":"[1]!XLSTAT_PDFNormal(K411,0,1)","v":1.4559968132517153E-2},411,null,3,18]
[412,3.6327935044999999,3.6327935044999999,{"$f":"[1]!XLSTAT_PDFNormal(B412,0,1)","v":5.4347173603354999E-4},412,-2.3271704800000004,-2.3271704800000004,{"$f":"[1]!XLSTAT_PDFNormal(F412,0,1)","v":2.6601178632160848E-2},412,null,2.5891783450999997,{"$f":"[1]!XLSTAT_PDFNormal(K412,0,1)","v":1.3969753028525761E-2},412,null,4,18]
[413,3.6409536485,3.6409536485,{"$f":"[1]!XLSTAT_PDFNormal(B413,0,1)","v":5.2757988228525833E-4},413,-2.3190103359999998,-2.3190103359999998,{"$f":"[1]!XLSTAT_PDFNormal(F413,0,1)","v":2.7110260610481673E-2},413,null,2.6052104091999997,{"$f":"[1]!XLSTAT_PDFNormal(K413,0,1)","v":1.3400018769642171E-2},413,null,5,18]
[414,51,3.6409536485,{"$f":"[1]!XLSTAT_PDFNormal(B414,0,1)","v":0},414,51,-2.3190103359999998,{"$f":"[1]!XLSTAT_PDFNormal(F414,0,1)","v":0},414,null,2.6212424732999997,{"$f":"[1]!XLSTAT_PDFNormal(K414,0,1)","v":1.2850216942216931E-2},414,null,6,18]
[415,51,3.6491137924999997,{"$f":"[1]!XLSTAT_PDFNormal(B415,0,1)","v":0},415,51,-2.3108501920000002,{"$f":"[1]!XLSTAT_PDFNormal(F415,0,1)","v":0},415,null,2.6372745373999997,{"$f":"[1]!XLSTAT_PDFNormal(K415,0,1)","v":1.2319806514230286E-2},415,null,7,18]
[416,3.6491137924999997,3.6491137924999997,{"$f":"[1]!XLSTAT_PDFNormal(B416,0,1)","v":5.1211862591974452E-4},416,-2.3108501920000002,-2.3108501920000002,{"$f":"[1]!XLSTAT_PDFNormal(F416,0,1)","v":2.7627245479055994E-2},416,null,2.6533066014999998,{"$f":"[1]!XLSTAT_PDFNormal(K416,0,1)","v":1.1808254077094377E-2},416,null,8,18]
[417,3.6572739365000002,3.6572739365000002,{"$f":"[1]!XLSTAT_PDFNormal(B417,0,1)","v":4.9707737667751379E-4},417,-2.3026900480000001,-2.3026900480000001,{"$f":"[1]!XLSTAT_PDFNormal(F417,0,1)","v":2.8152214439641585E-2},417,null,2.6693386655999998,{"$f":"[1]!XLSTAT_PDFNormal(K417,0,1)","v":1.1315034067913746E-2},417,null,9,18]
[418,51,3.6572739365000002,{"$f":"[1]!XLSTAT_PDFNormal(B418,0,1)","v":0},418,51,-2.3026900480000001,{"$f":"[1]!XLSTAT_PDFNormal(F418,0,1)","v":0},418,null,2.6853707296999998,{"$f":"[1]!XLSTAT_PDFNormal(K418,0,1)","v":1.0839628972674948E-2},418,null,10,18]
[419,51,3.6654340804999999,{"$f":"[1]!XLSTAT_PDFNormal(B419,0,1)","v":0},419,51,-2.294529904,{"$f":"[1]!XLSTAT_PDFNormal(F419,0,1)","v":0},419,null,2.7014027937999998,{"$f":"[1]!XLSTAT_PDFNormal(K419,0,1)","v":1.0381529510850463E-2},419,null,11,18]
[420,3.6654340804999999,3.6654340804999999,{"$f":"[1]!XLSTAT_PDFNormal(B420,0,1)","v":4.8244577233221952E-4},420,-2.294529904,-2.294529904,{"$f":"[1]!XLSTAT_PDFNormal(F420,0,1)","v":2.8685248629706381E-2},420,null,2.7174348578999998,{"$f":"[1]!XLSTAT_PDFNormal(K420,0,1)","v":9.9402348019144073E-3},420,null,12,18]
[421,3.6735942244999999,3.6735942244999999,{"$f":"[1]!XLSTAT_PDFNormal(B421,0,1)","v":4.6821367471245077E-4},421,-2.2863697600000004,-2.2863697600000004,{"$f":"[1]!XLSTAT_PDFNormal(F421,0,1)","v":2.9226429099392309E-2},421,null,2.7334669219999999,{"$f":"[1]!XLSTAT_PDFNormal(K421,0,1)","v":9.5152525142786614E-3},421,null,13,18]
[422,51,3.6735942244999999,{"$f":"[1]!XLSTAT_PDFNormal(B422,0,1)","v":0},422,51,-2.2863697600000004,{"$f":"[1]!XLSTAT_PDFNormal(F422,0,1)","v":0},422,null,2.7494989860999999,{"$f":"[1]!XLSTAT_PDFNormal(K422,0,1)","v":9.1060989971675551E-3},422,null,14,18]
[423,51,3.6817543685,{"$f":"[1]!XLSTAT_PDFNormal(B423,0,1)","v":0},423,51,-2.2782096159999998,{"$f":"[1]!XLSTAT_PDFNormal(F423,0,1)","v":0},423,null,2.7655310501999999,{"$f":"[1]!XLSTAT_PDFNormal(K423,0,1)","v":8.7122993959572667E-3},423,null,15,18]
[424,3.6817543685,3.6817543685,{"$f":"[1]!XLSTAT_PDFNormal(B424,0,1)","v":4.5437116576701537E-4},424,-2.2782096159999998,-2.2782096159999998,{"$f":"[1]!XLSTAT_PDFNormal(F424,0,1)","v":2.9775836788071528E-2},424,null,2.7815631142999999,{"$f":"[1]!XLSTAT_PDFNormal(K424,0,1)","v":8.3333877515128166E-3},424,null,16,18]
[425,3.6899145124999997,3.6899145124999997,{"$f":"[1]!XLSTAT_PDFNormal(B425,0,1)","v":4.4090854367396051E-4},425,-2.2700494720000002,-2.2700494720000002,{"$f":"[1]!XLSTAT_PDFNormal(F425,0,1)","v":3.0333552500496293E-2},425,null,2.7975951783999999,{"$f":"[1]!XLSTAT_PDFNormal(K425,0,1)","v":7.9689070840607938E-3},425,null,17,18]
[426,51,3.6899145124999997,{"$f":"[1]!XLSTAT_PDFNormal(B426,0,1)","v":0},426,51,-2.2700494720000002,{"$f":"[1]!XLSTAT_PDFNormal(F426,0,1)","v":0},426,null,2.8136272425,{"$f":"[1]!XLSTAT_PDFNormal(K426,0,1)","v":7.6184094621401062E-3},426,null,18,18]
[427,51,3.6980746565000002,{"$f":"[1]!XLSTAT_PDFNormal(B427,0,1)","v":0},427,51,-2.2618893280000001,{"$f":"[1]!XLSTAT_PDFNormal(F427,0,1)","v":0},427,null,2.8296593066,{"$f":"[1]!XLSTAT_PDFNormal(K427,0,1)","v":7.2814560571754991E-3},427,null,19,18]
[428,3.6980746565000002,3.6980746565000002,{"$f":"[1]!XLSTAT_PDFNormal(B428,0,1)","v":4.2781631899357881E-4},428,-2.2618893280000001,-2.2618893280000001,{"$f":"[1]!XLSTAT_PDFNormal(F428,0,1)","v":3.0899656882545833E-2},428,null,2.8456913707,{"$f":"[1]!XLSTAT_PDFNormal(K428,0,1)","v":6.9576171842205253E-3},428,null,20,18]
[429,3.7062348004999999,3.7062348004999999,{"$f":"[1]!XLSTAT_PDFNormal(B429,0,1)","v":4.150852108656253E-4},429,-2.253729184,-2.253729184,{"$f":"[1]!XLSTAT_PDFNormal(F429,0,1)","v":3.147423039657065E-2},429,null,2.8617234348,{"$f":"[1]!XLSTAT_PDFNormal(K429,0,1)","v":6.6464723294165457E-3},429,null,21,18]
[430,51,3.7062348004999999,{"$f":"[1]!XLSTAT_PDFNormal(B430,0,1)","v":0},430,51,-2.253729184,{"$f":"[1]!XLSTAT_PDFNormal(F430,0,1)","v":0},430,null,2.8777554989,{"$f":"[1]!XLSTAT_PDFNormal(K430,0,1)","v":6.3476101647140385E-3},430,null,22,18]
[431,51,3.7143949445,{"$f":"[1]!XLSTAT_PDFNormal(B431,0,1)","v":0},431,51,-2.2455690400000003,{"$f":"[1]!XLSTAT_PDFNormal(F431,0,1)","v":0},431,null,2.8937875630000001,{"$f":"[1]!XLSTAT_PDFNormal(K431,0,1)","v":6.0606285504003236E-3},431,null,23,18]
[432,3.7143949445,3.7143949445,{"$f":"[1]!XLSTAT_PDFNormal(B432,0,1)","v":4.0270614325090741E-4},432,-2.2455690400000003,-2.2455690400000003,{"$f":"[1]!XLSTAT_PDFNormal(F432,0,1)","v":3.2057353296337965E-2},432,null,2.9098196271000001,{"$f":"[1]!XLSTAT_PDFNormal(K432,0,1)","v":5.7851345259751418E-3},432,null,24,18]
[433,3.7225550885000001,3.7225550885000001,{"$f":"[1]!XLSTAT_PDFNormal(B433,0,1)","v":3.9067024121743922E-4},433,-2.2374088959999998,-2.2374088959999998,{"$f":"[1]!XLSTAT_PDFNormal(F433,0,1)","v":3.2649105601580644E-2},433,null,2.9258516912000001,{"$f":"[1]!XLSTAT_PDFNormal(K433,0,1)","v":5.520744289911797E-3},433,null,1,19]
[434,51,3.7225550885000001,{"$f":"[1]!XLSTAT_PDFNormal(B434,0,1)","v":0},434,51,-2.2374088959999998,{"$f":"[1]!XLSTAT_PDFNormal(F434,0,1)","v":0},434,null,2.9418837553000001,{"$f":"[1]!XLSTAT_PDFNormal(K434,0,1)","v":5.2670831688366769E-3},434,null,2,19]
[435,51,3.7307152324999997,{"$f":"[1]!XLSTAT_PDFNormal(B435,0,1)","v":0},435,51,-2.2292487520000002,{"$f":"[1]!XLSTAT_PDFNormal(F435,0,1)","v":0},435,null,2.9579158194000001,{"$f":"[1]!XLSTAT_PDFNormal(K435,0,1)","v":5.0237855766545984E-3},435,null,3,19]
[436,3.7307152324999997,3.7307152324999997,{"$f":"[1]!XLSTAT_PDFNormal(B436,0,1)","v":3.78968827271271E-4},436,-2.2292487520000002,-2.2292487520000002,{"$f":"[1]!XLSTAT_PDFNormal(F436,0,1)","v":3.3249567072151813E-2},436,null,2.9739478835000002,{"$f":"[1]!XLSTAT_PDFNormal(K436,0,1)","v":4.7904949641409391E-3},436,null,4,19]
[437,3.7388753765000002,3.7388753765000002,{"$f":"[1]!XLSTAT_PDFNormal(B437,0,1)","v":3.675934177321144E-4},437,-2.2210886080000001,-2.2210886080000001,{"$f":"[1]!XLSTAT_PDFNormal(F437,0,1)","v":3.3858817181789645E-2},437,null,2.9899799476000002,{"$f":"[1]!XLSTAT_PDFNormal(K437,0,1)","v":4.5668637595144747E-3},437,null,5,19]
[438,51,3.7388753765000002,{"$f":"[1]!XLSTAT_PDFNormal(B438,0,1)","v":0},438,51,-2.2210886080000001,{"$f":"[1]!XLSTAT_PDFNormal(F438,0,1)","v":0},438,null,3.0060120117000002,{"$f":"[1]!XLSTAT_PDFNormal(K438,0,1)","v":4.3525533004969263E-3},438,null,6,19]
[439,51,3.7470355204999999,{"$f":"[1]!XLSTAT_PDFNormal(B439,0,1)","v":0},439,51,-2.212928464,{"$f":"[1]!XLSTAT_PDFNormal(F439,0,1)","v":0},439,null,3.0220440758000002,{"$f":"[1]!XLSTAT_PDFNormal(K439,0,1)","v":4.1472337583568497E-3},439,null,7,19]
[440,3.7470355204999999,3.7470355204999999,{"$f":"[1]!XLSTAT_PDFNormal(B440,0,1)","v":3.5653571915386276E-4},440,-2.212928464,-2.212928464,{"$f":"[1]!XLSTAT_PDFNormal(F440,0,1)","v":3.4476935091494174E-2},440,null,3.0380761399000002,{"$f":"[1]!XLSTAT_PDFNormal(K440,0,1)","v":3.950584054426322E-3},440,null,8,19]
[441,3.7551956645,3.7551956645,{"$f":"[1]!XLSTAT_PDFNormal(B441,0,1)","v":3.4578762479004036E-4},441,-2.2047683200000003,-2.2047683200000003,{"$f":"[1]!XLSTAT_PDFNormal(F441,0,1)","v":3.510399962252081E-2},441,null,3.0541082040000003,{"$f":"[1]!XLSTAT_PDFNormal(K441,0,1)","v":3.7622917695692951E-3},441,null,9,19]
[442,51,3.7551956645,{"$f":"[1]!XLSTAT_PDFNormal(B442,0,1)","v":0},442,51,-2.2047683200000003,{"$f":"[1]!XLSTAT_PDFNormal(F442,0,1)","v":0},442,null,3.0701402681000003,{"$f":"[1]!XLSTAT_PDFNormal(K442,0,1)","v":3.5820530470703185E-3},442,null,10,19]
[443,51,3.7633558085000001,{"$f":"[1]!XLSTAT_PDFNormal(B443,0,1)","v":0},443,51,-2.1966081760000002,{"$f":"[1]!XLSTAT_PDFNormal(F443,0,1)","v":0},443,null,3.0861723322000003,{"$f":"[1]!XLSTAT_PDFNormal(K443,0,1)","v":3.4095724894017011E-3},443,null,11,19]
[444,3.7633558085000001,3.7633558085000001,{"$f":"[1]!XLSTAT_PDFNormal(B444,0,1)","v":3.3534121110425822E-4},444,-2.1966081760000002,-2.1966081760000002,{"$f":"[1]!XLSTAT_PDFNormal(F444,0,1)","v":3.574008922899418E-2},444,null,3.1022043963000003,{"$f":"[1]!XLSTAT_PDFNormal(K444,0,1)","v":3.2445630493161963E-3},444,null,12,19]
[445,3.7715159524999997,3.7715159524999997,{"$f":"[1]!XLSTAT_PDFNormal(B445,0,1)","v":3.2518873432567071E-4},445,-2.1884480320000002,-2.1884480320000002,{"$f":"[1]!XLSTAT_PDFNormal(F445,0,1)","v":3.6385281970145865E-2},445,null,3.1182364604000004,{"$f":"[1]!XLSTAT_PDFNormal(K445,0,1)","v":3.0867459157008746E-3},445,null,13,19]
[446,51,3.7715159524999997,{"$f":"[1]!XLSTAT_PDFNormal(B446,0,1)","v":0},446,51,-2.1884480320000002,{"$f":"[1]!XLSTAT_PDFNormal(F446,0,1)","v":0},446,null,3.1342685245000004,{"$f":"[1]!XLSTAT_PDFNormal(K446,0,1)","v":2.935850394616084E-3},446,null,14,19]
[447,51,3.7796760965000002,{"$f":"[1]!XLSTAT_PDFNormal(B447,0,1)","v":0},447,51,-2.1802878880000001,{"$f":"[1]!XLSTAT_PDFNormal(F447,0,1)","v":0},447,null,3.1503005886000004,{"$f":"[1]!XLSTAT_PDFNormal(K447,0,1)","v":2.791613785931481E-3},447,null,15,19]
[448,3.7796760965000002,3.7796760965000002,{"$f":"[1]!XLSTAT_PDFNormal(B448,0,1)","v":3.1532262704943629E-4},448,-2.1802878880000001,-2.1802878880000001,{"$f":"[1]!XLSTAT_PDFNormal(F448,0,1)","v":3.703965548218123E-2},448,null,3.1663326527000004,{"$f":"[1]!XLSTAT_PDFNormal(K448,0,1)","v":2.6537812559587499E-3},448,null,16,19]
[449,{"$f":"IF(-1^(INT(A449/2)+2)>0,1.9599639845+2*INT(A449/2-1/2)*0.004080072,51)","v":3.7878362404999999},{"$f":"1.9599639845+2*INT(A449/2-1/2)*0.004080072","v":3.7878362404999999},{"$f":"[1]!XLSTAT_PDFNormal(B449,0,1)","v":3.0573549488217616E-4},449,{"$f":"IF(-1^(INT(E449/2)+2)>0,-4+2*INT(E449/2-1/2)*0.004080072,51)","v":-2.172127744},{"$f":"-4+2*INT(E449/2-1/2)*0.004080072","v":-2.172127744},{"$f":"[1]!XLSTAT_PDFNormal(F449,0,1)","v":3.7703286949779355E-2},449,null,{"$f":"-4+(I449-1)*0.0160320641","v":3.1823647168000004},{"$f":"[1]!XLSTAT_PDFNormal(K449,0,1)","v":2.5221057064682192E-3},449,null,{"$f":"M449-24*INT((-1/2+M449)/24)","v":17},{"$f":"1+INT((M449-1/2)/24)","v":19}]
[450,51,3.7878362404999999,{"$f":"[1]!XLSTAT_PDFNormal(B450,0,1)","v":0},450,51,-2.172127744,{"$f":"[1]!XLSTAT_PDFNormal(F450,0,1)","v":0},450,null,3.1983967808999996,{"$f":"[1]!XLSTAT_PDFNormal(K450,0,1)","v":2.3963476404639862E-3},450,null,18,19]
[451,51,3.7959963845,{"$f":"[1]!XLSTAT_PDFNormal(B451,0,1)","v":0},451,51,-2.1639676000000003,{"$f":"[1]!XLSTAT_PDFNormal(F451,0,1)","v":0},451,null,3.2144288449999996,{"$f":"[1]!XLSTAT_PDFNormal(K451,0,1)","v":2.2762750250793018E-3},451,null,19,19]
[452,3.7959963845,3.7959963845,{"$f":"[1]!XLSTAT_PDFNormal(B452,0,1)","v":2.9642011313235964E-4},452,-2.1639676000000003,-2.1639676000000003,{"$f":"[1]!XLSTAT_PDFNormal(F452,0,1)","v":3.837625307723113E-2},452,null,3.2304609090999996,{"$f":"[1]!XLSTAT_PDFNormal(K452,0,1)","v":2.1616631519412633E-3},452,null,20,19]
[453,3.8041565285000001,3.8041565285000001,{"$f":"[1]!XLSTAT_PDFNormal(B453,0,1)","v":2.8736942354558434E-4},453,-2.1558074560000002,-2.1558074560000002,{"$f":"[1]!XLSTAT_PDFNormal(F453,0,1)","v":3.9058630059220785E-2},453,null,3.2464929731999996,{"$f":"[1]!XLSTAT_PDFNormal(K453,0,1)","v":2.0522944953407442E-3},453,null,21,19]
[454,51,3.8041565285000001,{"$f":"[1]!XLSTAT_PDFNormal(B454,0,1)","v":0},454,51,-2.1558074560000002,{"$f":"[1]!XLSTAT_PDFNormal(F454,0,1)","v":0},454,null,3.2625250372999997,{"$f":"[1]!XLSTAT_PDFNormal(K454,0,1)","v":1.947958568530754E-3},454,null,22,19]
[455,51,3.8123166724999997,{"$f":"[1]!XLSTAT_PDFNormal(B455,0,1)","v":0},455,51,-2.1476473120000001,{"$f":"[1]!XLSTAT_PDFNormal(F455,0,1)","v":0},455,null,3.2785571013999997,{"$f":"[1]!XLSTAT_PDFNormal(K455,0,1)","v":1.8484517784633175E-3},455,null,23,19]
[456,3.8123166724999997,3.8123166724999997,{"$f":"[1]!XLSTAT_PDFNormal(B456,0,1)","v":2.7857653108465222E-4},456,-2.1476473120000001,-2.1476473120000001,{"$f":"[1]!XLSTAT_PDFNormal(F456,0,1)","v":3.9750493551255775E-2},456,null,3.2945891654999997,{"$f":"[1]!XLSTAT_PDFNormal(K456,0,1)","v":1.753577279262138E-3},456,null,24,19]
[457,3.8204768165000003,3.8204768165000003,{"$f":"[1]!XLSTAT_PDFNormal(B457,0,1)","v":2.7003470075434664E-4},457,-2.1394871680000001,-2.1394871680000001,{"$f":"[1]!XLSTAT_PDFNormal(F457,0,1)","v":4.0451918639751318E-2},457,null,3.3106212295999997,{"$f":"[1]!XLSTAT_PDFNormal(K457,0,1)","v":1.6631448247154108E-3},457,null,1,20]
[458,51,3.8204768165000003,{"$f":"[1]!XLSTAT_PDFNormal(B458,0,1)","v":0},458,51,-2.1394871680000001,{"$f":"[1]!XLSTAT_PDFNormal(F458,0,1)","v":0},458,null,3.3266532936999997,{"$f":"[1]!XLSTAT_PDFNormal(K458,0,1)","v":1.5769706200603941E-3},458,null,2,20]
[459,51,3.8286369604999999,{"$f":"[1]!XLSTAT_PDFNormal(B459,0,1)","v":0},459,51,-2.131327024,{"$f":"[1]!XLSTAT_PDFNormal(F459,0,1)","v":0},459,null,3.3426853577999998,{"$f":"[1]!XLSTAT_PDFNormal(K459,0,1)","v":1.4948771733186827E-3},459,null,3,20]
[460,3.8286369604999999,3.8286369604999999,{"$f":"[1]!XLSTAT_PDFNormal(B460,0,1)","v":2.6173735447080449E-4},460,-2.131327024,-2.131327024,{"$f":"[1]!XLSTAT_PDFNormal(F460,0,1)","v":4.1162979811774941E-2},460,null,3.3587174218999998,{"$f":"[1]!XLSTAT_PDFNormal(K460,0,1)","v":1.4166931464285788E-3},460,null,4,20]
[461,3.8367971045,3.8367971045,{"$f":"[1]!XLSTAT_PDFNormal(B461,0,1)","v":2.5367806797533187E-4},461,-2.1231668800000003,-2.1231668800000003,{"$f":"[1]!XLSTAT_PDFNormal(F461,0,1)","v":4.1883750924457626E-2},461,null,3.3747494859999998,{"$f":"[1]!XLSTAT_PDFNormal(K461,0,1)","v":1.342253206408604E-3},461,null,5,20]
[462,51,3.8367971045,{"$f":"[1]!XLSTAT_PDFNormal(B462,0,1)","v":0},462,51,-2.1231668800000003,{"$f":"[1]!XLSTAT_PDFNormal(F462,0,1)","v":0},462,null,3.3907815500999998,{"$f":"[1]!XLSTAT_PDFNormal(K462,0,1)","v":1.2713978767739621E-3},462,null,6,20]
[463,51,3.8449572485000001,{"$f":"[1]!XLSTAT_PDFNormal(B463,0,1)","v":0},463,51,-2.1150067360000002,{"$f":"[1]!XLSTAT_PDFNormal(F463,0,1)","v":0},463,null,3.4068136141999998,{"$f":"[1]!XLSTAT_PDFNormal(K463,0,1)","v":1.2039733894157645E-3},463,null,7,20]
[464,3.8449572485000001,3.8449572485000001,{"$f":"[1]!XLSTAT_PDFNormal(B464,0,1)","v":2.4585056779253547E-4},464,-2.1150067360000002,-2.1150067360000002,{"$f":"[1]!XLSTAT_PDFNormal(F464,0,1)","v":4.2614305174077625E-2},464,null,3.4228456782999999,{"$f":"[1]!XLSTAT_PDFNormal(K464,0,1)","v":1.1398315371410051E-3},464,null,8,20]
[465,3.8531173924999997,3.8531173924999997,{"$f":"[1]!XLSTAT_PDFNormal(B465,0,1)","v":2.3824872823258783E-4},465,-2.1068465920000001,-2.1068465920000001,{"$f":"[1]!XLSTAT_PDFNormal(F465,0,1)","v":4.3354715064823905E-2},465,null,3.4388777423999999,{"$f":"[1]!XLSTAT_PDFNormal(K465,0,1)","v":1.0788295270597102E-3},465,null,9,20]
[466,51,3.8531173924999997,{"$f":"[1]!XLSTAT_PDFNormal(B466,0,1)","v":0},466,51,-2.1068465920000001,{"$f":"[1]!XLSTAT_PDFNormal(F466,0,1)","v":0},466,null,3.4549098064999999,{"$f":"[1]!XLSTAT_PDFNormal(K466,0,1)","v":1.0208298349943267E-3},466,null,10,20]
[467,51,3.8612775365000003,{"$f":"[1]!XLSTAT_PDFNormal(B467,0,1)","v":0},467,51,-2.098686448,{"$f":"[1]!XLSTAT_PDFNormal(F467,0,1)","v":0},467,null,3.4709418705999999,{"$f":"[1]!XLSTAT_PDFNormal(K467,0,1)","v":9.6570006107532774E-4},467,null,11,20]
[468,3.8612775365000003,3.8612775365000003,{"$f":"[1]!XLSTAT_PDFNormal(B468,0,1)","v":2.3086656843745372E-4},468,-2.098686448,-2.098686448,{"$f":"[1]!XLSTAT_PDFNormal(F468,0,1)","v":4.410505237724606E-2},468,null,3.4869739346999999,{"$f":"[1]!XLSTAT_PDFNormal(K468,0,1)","v":9.133127866761719E-4},468,null,12,20]
[469,3.8694376804999999,3.8694376804999999,{"$f":"[1]!XLSTAT_PDFNormal(B469,0,1)","v":2.2369824947088848E-4},469,-2.0905263039999999,-2.0905263039999999,{"$f":"[1]!XLSTAT_PDFNormal(F469,0,1)","v":4.4865388136398246E-2},469,null,3.5030059988,{"$f":"[1]!XLSTAT_PDFNormal(K469,0,1)","v":8.635454328302203E-4},469,null,13,20]
[470,51,3.8694376804999999,{"$f":"[1]!XLSTAT_PDFNormal(B470,0,1)","v":0},470,51,-2.0905263039999999,{"$f":"[1]!XLSTAT_PDFNormal(F470,0,1)","v":0},470,null,3.5190380629,{"$f":"[1]!XLSTAT_PDFNormal(K470,0,1)","v":8.1628012026190803E-4},470,null,14,20]
[471,51,3.8775978245,{"$f":"[1]!XLSTAT_PDFNormal(B471,0,1)","v":0},471,51,-2.0823661600000003,{"$f":"[1]!XLSTAT_PDFNormal(F471,0,1)","v":0},471,null,3.535070127,{"$f":"[1]!XLSTAT_PDFNormal(K471,0,1)","v":7.7140353115450941E-4},471,null,15,20]
[472,3.8775978245,3.8775978245,{"$f":"[1]!XLSTAT_PDFNormal(B472,0,1)","v":2.1673807145198234E-4},472,-2.0823661600000003,-2.0823661600000003,{"$f":"[1]!XLSTAT_PDFNormal(F472,0,1)","v":4.563579257968392E-2},472,null,3.5511021911,{"$f":"[1]!XLSTAT_PDFNormal(K472,0,1)","v":7.2880677276713135E-4},472,null,16,20]
[473,3.8857579685000001,3.8857579685000001,{"$f":"[1]!XLSTAT_PDFNormal(B473,0,1)","v":2.0998047073205015E-4},473,-2.0742060160000002,-2.0742060160000002,{"$f":"[1]!XLSTAT_PDFNormal(F473,0,1)","v":4.6416335124410429E-2},473,null,3.5671342552,{"$f":"[1]!XLSTAT_PDFNormal(K473,0,1)","v":6.8838524300418927E-4},473,null,17,20]
[474,51,3.8857579685000001,{"$f":"[1]!XLSTAT_PDFNormal(B474,0,1)","v":0},474,51,-2.0742060160000002,{"$f":"[1]!XLSTAT_PDFNormal(F474,0,1)","v":0},474,null,3.5831663193000001,{"$f":"[1]!XLSTAT_PDFNormal(K474,0,1)","v":6.5003849803155699E-4},474,null,18,20]
[475,51,3.8939181124999998,{"$f":"[1]!XLSTAT_PDFNormal(B475,0,1)","v":0},475,51,-2.0660458720000001,{"$f":"[1]!XLSTAT_PDFNormal(F475,0,1)","v":0},475,null,3.5991983834000001,{"$f":"[1]!XLSTAT_PDFNormal(K475,0,1)","v":6.136701220247761E-4},475,null,19,20]
[476,3.8939181124999998,3.8939181124999998,{"$f":"[1]!XLSTAT_PDFNormal(B476,0,1)","v":2.0342001711461444E-4},476,-2.0660458720000001,-2.0660458720000001,{"$f":"[1]!XLSTAT_PDFNormal(F476,0,1)","v":4.7207084335059844E-2},476,null,3.6152304475000001,{"$f":"[1]!XLSTAT_PDFNormal(K476,0,1)","v":5.791875991263077E-4},476,null,20,20]
[477,3.9020782564999998,3.9020782564999998,{"$f":"[1]!XLSTAT_PDFNormal(B477,0,1)","v":1.9705141111824156E-4},477,-2.0578857280000005,-2.0578857280000005,{"$f":"[1]!XLSTAT_PDFNormal(F477,0,1)","v":4.8008107890285853E-2},477,null,3.6312625116000001,{"$f":"[1]!XLSTAT_PDFNormal(K477,0,1)","v":5.4650218768062433E-4},477,null,21,20]
[478,51,3.9020782564999998,{"$f":"[1]!XLSTAT_PDFNormal(B478,0,1)","v":0},478,51,-2.0578857280000005,{"$f":"[1]!XLSTAT_PDFNormal(F478,0,1)","v":0},478,null,3.6472945757000002,{"$f":"[1]!XLSTAT_PDFNormal(K478,0,1)","v":5.1552879680815203E-4},478,null,22,20]
[479,51,3.9102384004999999,{"$f":"[1]!XLSTAT_PDFNormal(B479,0,1)","v":0},479,51,-2.0497255839999999,{"$f":"[1]!XLSTAT_PDFNormal(F479,0,1)","v":0},479,null,3.6633266398000002,{"$f":"[1]!XLSTAT_PDFNormal(K479,0,1)","v":4.8618586537154274E-4},479,null,23,20]
[480,3.9102384004999999,3.9102384004999999,{"$f":"[1]!XLSTAT_PDFNormal(B480,0,1)","v":1.9086948128197166E-4},480,-2.0497255839999999,-2.0497255839999999,{"$f":"[1]!XLSTAT_PDFNormal(F480,0,1)","v":4.8819472549644825E-2},480,null,3.6793587039000002,{"$f":"[1]!XLSTAT_PDFNormal(K480,0,1)","v":4.5839524338057053E-4},480,null,24,20]
[481,3.9183985445,3.9183985445,{"$f":"[1]!XLSTAT_PDFNormal(B481,0,1)","v":1.8486918151306743E-4},481,-2.0415654400000003,-2.0415654400000003,{"$f":"[1]!XLSTAT_PDFNormal(F481,0,1)","v":4.9641244120069025E-2},481,null,3.6953907680000002,{"$f":"[1]!XLSTAT_PDFNormal(K481,0,1)","v":4.3208207587508061E-4},481,null,1,21]
[482,51,3.9183985445,{"$f":"[1]!XLSTAT_PDFNormal(B482,0,1)","v":0},482,51,-2.0415654400000003,{"$f":"[1]!XLSTAT_PDFNormal(F482,0,1)","v":0},482,null,3.7114228321000002,{"$f":"[1]!XLSTAT_PDFNormal(K482,0,1)","v":4.0717468931882782E-4},482,null,2,21]
[483,51,3.9265586885000001,{"$f":"[1]!XLSTAT_PDFNormal(B483,0,1)","v":0},483,51,-2.0334052960000002,{"$f":"[1]!XLSTAT_PDFNormal(F483,0,1)","v":0},483,null,3.7274548962000003,{"$f":"[1]!XLSTAT_PDFNormal(K483,0,1)","v":3.8360448053080184E-4},483,null,3,21]
[484,3.9265586885000001,3.9265586885000001,{"$f":"[1]!XLSTAT_PDFNormal(B484,0,1)","v":1.7904558847680279E-4},484,-2.0334052960000002,-2.0334052960000002,{"$f":"[1]!XLSTAT_PDFNormal(F484,0,1)","v":5.0473487422093136E-2},484,null,3.7434869603000003,{"$f":"[1]!XLSTAT_PDFNormal(K484,0,1)","v":3.6130580817467234E-4},484,null,4,21]
[485,3.9347188324999998,3.9347188324999998,{"$f":"[1]!XLSTAT_PDFNormal(B485,0,1)","v":1.7339389902799895E-4},485,-2.0252451520000001,-2.0252451520000001,{"$f":"[1]!XLSTAT_PDFNormal(F485,0,1)","v":5.1316266255841125E-2},485,null,3.7595190244000003,{"$f":"[1]!XLSTAT_PDFNormal(K485,0,1)","v":3.402158868213362E-4},485,null,5,21]
[486,51,3.9347188324999998,{"$f":"[1]!XLSTAT_PDFNormal(B486,0,1)","v":0},486,51,-2.0252451520000001,{"$f":"[1]!XLSTAT_PDFNormal(F486,0,1)","v":0},486,null,3.7755510885000003,{"$f":"[1]!XLSTAT_PDFNormal(K486,0,1)","v":3.2027468359418576E-4},486,null,6,21]
[487,51,3.9428789764999999,{"$f":"[1]!XLSTAT_PDFNormal(B487,0,1)","v":0},487,51,-2.0170850080000005,{"$f":"[1]!XLSTAT_PDFNormal(F487,0,1)","v":0},487,null,3.7915831526000003,{"$f":"[1]!XLSTAT_PDFNormal(K487,0,1)","v":3.0142481740165765E-4},487,null,7,21]
[488,3.9428789764999999,3.9428789764999999,{"$f":"[1]!XLSTAT_PDFNormal(B488,0,1)","v":1.6790942768400203E-4},488,-2.0170850080000005,-2.0170850080000005,{"$f":"[1]!XLSTAT_PDFNormal(F488,0,1)","v":5.2169643366785035E-2},488,null,3.8076152167000004,{"$f":"[1]!XLSTAT_PDFNormal(K488,0,1)","v":2.8361146075683369E-4},488,null,8,21]
[489,3.9510391204999999,3.9510391204999999,{"$f":"[1]!XLSTAT_PDFNormal(B489,0,1)","v":1.6258760413879618E-4},489,-2.0089248639999999,-2.0089248639999999,{"$f":"[1]!XLSTAT_PDFNormal(F489,0,1)","v":5.3033680411284728E-2},489,null,3.8236472808000004,{"$f":"[1]!XLSTAT_PDFNormal(K489,0,1)","v":2.6678224417936208E-4},489,null,9,21]
[490,51,3.9510391204999999,{"$f":"[1]!XLSTAT_PDFNormal(B490,0,1)","v":0},490,51,-2.0089248639999999,{"$f":"[1]!XLSTAT_PDFNormal(F490,0,1)","v":0},490,null,3.8396793449000004,{"$f":"[1]!XLSTAT_PDFNormal(K490,0,1)","v":2.5088716317074681E-4},490,null,10,21]
[491,51,3.9591992645,{"$f":"[1]!XLSTAT_PDFNormal(B491,0,1)","v":0},491,51,-2.0007647200000003,{"$f":"[1]!XLSTAT_PDFNormal(F491,0,1)","v":0},491,null,3.8557114090000004,{"$f":"[1]!XLSTAT_PDFNormal(K491,0,1)","v":2.358784877500776E-4},491,null,11,21]
[492,3.9591992645,3.9591992645,{"$f":"[1]!XLSTAT_PDFNormal(B492,0,1)","v":1.5742397081792555E-4},492,-2.0007647200000003,-2.0007647200000003,{"$f":"[1]!XLSTAT_PDFNormal(F492,0,1)","v":5.3908437921918712E-2},492,null,3.8717434730999996,{"$f":"[1]!XLSTAT_PDFNormal(K492,0,1)","v":2.2171067453358295E-4},492,null,12,21]
[493,3.9673594085000001,3.9673594085000001,{"$f":"[1]!XLSTAT_PDFNormal(B493,0,1)","v":1.5241418047389824E-4},493,-1.9926045760000002,-1.9926045760000002,{"$f":"[1]!XLSTAT_PDFNormal(F493,0,1)","v":5.4793975272617625E-2},493,null,3.8877755371999996,{"$f":"[1]!XLSTAT_PDFNormal(K493,0,1)","v":2.0834028133792702E-4},493,null,13,21]
[494,51,3.9673594085000001,{"$f":"[1]!XLSTAT_PDFNormal(B494,0,1)","v":0},494,51,-1.9926045760000002,{"$f":"[1]!XLSTAT_PDFNormal(F494,0,1)","v":0},494,null,3.9038076012999996,{"$f":"[1]!XLSTAT_PDFNormal(K494,0,1)","v":1.9572588428398439E-4},494,null,14,21]
[495,51,3.9755195524999998,{"$f":"[1]!XLSTAT_PDFNormal(B495,0,1)","v":0},495,51,-1.9844444320000001,{"$f":"[1]!XLSTAT_PDFNormal(F495,0,1)","v":0},495,null,3.9198396653999996,{"$f":"[1]!XLSTAT_PDFNormal(K495,0,1)","v":1.8382799737483532E-4},495,null,15,21]
[496,3.9755195524999998,3.9755195524999998,{"$f":"[1]!XLSTAT_PDFNormal(B496,0,1)","v":1.4755399382173503E-4},496,-1.9844444320000001,-1.9844444320000001,{"$f":"[1]!XLSTAT_PDFNormal(F496,0,1)","v":5.5690350643609401E-2},496,null,3.9358717294999996,{"$f":"[1]!XLSTAT_PDFNormal(K496,0,1)","v":1.7260899451901346E-4},496,null,16,21]
[497,3.9836796965000003,3.9836796965000003,{"$f":"[1]!XLSTAT_PDFNormal(B497,0,1)","v":1.4283927721431457E-4},497,-1.976284288,-1.976284288,{"$f":"[1]!XLSTAT_PDFNormal(F497,0,1)","v":5.659762098618875E-2},497,null,3.9519037935999997,{"$f":"[1]!XLSTAT_PDFNormal(K497,0,1)","v":1.6203303396750981E-4},497,null,17,21]
[498,51,3.9836796965000003,{"$f":"[1]!XLSTAT_PDFNormal(B498,0,1)","v":0},498,51,-1.976284288,{"$f":"[1]!XLSTAT_PDFNormal(F498,0,1)","v":0},498,null,3.9679358576999997,{"$f":"[1]!XLSTAT_PDFNormal(K498,0,1)","v":1.5206598513074453E-4},498,null,18,21]
[499,51,3.9918398405,{"$f":"[1]!XLSTAT_PDFNormal(B499,0,1)","v":0},499,51,-1.9681241440000004,{"$f":"[1]!XLSTAT_PDFNormal(F499,0,1)","v":0},499,null,3.9839679217999997,{"$f":"[1]!XLSTAT_PDFNormal(K499,0,1)","v":1.4267535773962377E-4},499,null,19,21]
[500,3.9918398405,3.9918398405,{"$f":"[1]!XLSTAT_PDFNormal(B500,0,1)","v":1.3826600035716897E-4},500,-1.9681241440000004,-1.9681241440000004,{"$f":"[1]!XLSTAT_PDFNormal(F500,0,1)","v":5.7515841987321389E-2},500,null,3.9999999858999997,{"$f":"[1]!XLSTAT_PDFNormal(K500,0,1)","v":1.3383023331291045E-4},500,null,20,21]
[null,null,null,null,null,null,null,null,null,null,null,null,501,null,21,21]
[null,null,null,null,null,null,null,null,null,null,null,null,502,null,22,21]
[null,null,null,null,null,null,null,null,null,null,null,null,503,null,23,21]
[null,null,null,null,null,null,null,null,null,null,null,null,504,null,24,21]
[null,null,null,null,null,null,null,null,null,null,null,null,505,null,1,22]
[null,null,null,null,null,null,null,null,null,null,null,null,506,null,2,22]
[null,null,null,null,null,null,null,null,null,null,null,null,507,null,3,22]
[null,null,null,null,null,null,null,null,null,null,null,null,508,null,4,22]
[null,null,null,null,null,null,null,null,null,null,null,null,509,null,5,22]
[null,null,null,null,null,null,null,null,null,null,null,null,510,null,6,22]
[null,null,null,null,null,null,null,null,null,null,null,null,511,null,7,22]
[null,null,null,null,null,null,null,null,null,null,null,null,512,null,8,22]
[null,null,null,null,null,null,null,null,null,null,null,null,513,null,{"$f":"M513-24*INT((-1/2+M513)/24)","v":9},{"$f":"1+INT((M513-1/2)/24)","v":22}]
[null,null,null,null,null,null,null,null,null,null,null,null,514,null,10,22]
[null,null,null,null,null,null,null,null,null,null,null,null,515,null,11,22]
[null,null,null,null,null,null,null,null,null,null,null,null,516,null,12,22]
[null,null,null,null,null,null,null,null,null,null,null,null,517,null,13,22]
[null,null,null,null,null,null,null,null,null,null,null,null,518,null,14,22]
[null,null,null,null,null,null,null,null,null,null,null,null,519,null,15,22]
[null,null,null,null,null,null,null,null,null,null,null,null,520,null,16,22]
[null,null,null,null,null,null,null,null,null,null,null,null,521,null,17,22]
[null,null,null,null,null,null,null,null,null,null,null,null,522,null,18,22]
[null,null,null,null,null,null,null,null,null,null,null,null,523,null,19,22]
[null,null,null,null,null,null,null,null,null,null,null,null,524,null,20,22]
[null,null,null,null,null,null,null,null,null,null,null,null,525,null,21,22]
[null,null,null,null,null,null,null,null,null,null,null,null,526,null,22,22]
[null,null,null,null,null,null,null,null,null,null,null,null,527,null,23,22]
[null,null,null,null,null,null,null,null,null,null,null,null,528,null,24,22]
[null,null,null,null,null,null,null,null,null,null,null,null,529,null,1,23]
[null,null,null,null,null,null,null,null,null,null,null,null,530,null,2,23]
[null,null,null,null,null,null,null,null,null,null,null,null,531,null,3,23]
[null,null,null,null,null,null,null,null,null,null,null,null,532,null,4,23]
[null,null,null,null,null,null,null,null,null,null,null,null,533,null,5,23]
[null,null,null,null,null,null,null,null,null,null,null,null,534,null,6,23]
[null,null,null,null,null,null,null,null,null,null,null,null,535,null,7,23]
[null,null,null,null,null,null,null,null,null,null,null,null,536,null,8,23]
[null,null,null,null,null,null,null,null,null,null,null,null,537,null,9,23]
[null,null,null,null,null,null,null,null,null,null,null,null,538,null,10,23]
[null,null,null,null,null,null,null,null,null,null,null,null,539,null,11,23]
[null,null,null,null,null,null,null,null,null,null,null,null,540,null,12,23]
[null,null,null,null,null,null,null,null,null,null,null,null,541,null,13,23]
[null,null,null,null,null,null,null,null,null,null,null,null,542,null,14,23]
[null,null,null,null,null,null,null,null,null,null,null,null,543,null,15,23]
[null,null,null,null,null,null,null,null,null,null,null,null,544,null,16,23]
[null,null,null,null,null,null,null,null,null,null,null,null,545,null,17,23]
[null,null,null,null,null,null,null,null,null,null,null,null,546,null,18,23]
[null,null,null,null,null,null,null,null,null,null,null,null,547,null,19,23]
[null,null,null,null,null,null,null,null,null,null,null,null,548,null,20,23]
[null,null,null,null,null,null,null,null,null,null,null,null,549,null,21,23]
[null,null,null,null,null,null,null,null,null,null,null,null,550,null,22,23]
[null,null,null,null,null,null,null,null,null,null,null,null,551,null,23,23]
[null,null,null,null,null,null,null,null,null,null,null,null,552,null,24,23]
[null,null,null,null,null,null,null,null,null,null,null,null,553,null,1,24]
[null,null,null,null,null,null,null,null,null,null,null,null,554,null,2,24]
[null,null,null,null,null,null,null,null,null,null,null,null,555,null,3,24]
[null,null,null,null,null,null,null,null,null,null,null,null,556,null,4,24]
[null,null,null,null,null,null,null,null,null,null,null,null,557,null,5,24]
[null,null,null,null,null,null,null,null,null,null,null,null,558,null,6,24]
[null,null,null,null,null,null,null,null,null,null,null,null,559,null,7,24]
[null,null,null,null,null,null,null,null,null,null,null,null,560,null,8,24]
[null,null,null,null,null,null,null,null,null,null,null,null,561,null,9,24]
[null,null,null,null,null,null,null,null,null,null,null,null,562,null,10,24]
[null,null,null,null,null,null,null,null,null,null,null,null,563,null,11,24]
[null,null,null,null,null,null,null,null,null,null,null,null,564,null,12,24]
[null,null,null,null,null,null,null,null,null,null,null,null,565,null,13,24]
[null,null,null,null,null,null,null,null,null,null,null,null,566,null,14,24]
[null,null,null,null,null,null,null,null,null,null,null,null,567,null,15,24]
[null,null,null,null,null,null,null,null,null,null,null,null,568,null,16,24]
[null,null,null,null,null,null,null,null,null,null,null,null,569,null,17,24]
[null,null,null,null,null,null,null,null,null,null,null,null,570,null,18,24]
[null,null,null,null,null,null,null,null,null,null,null,null,571,null,19,24]
[null,null,null,null,null,null,null,null,null,null,null,null,572,null,20,24]
[null,null,null,null,null,null,null,null,null,null,null,null,573,null,21,24]
[null,null,null,null,null,null,null,null,null,null,null,null,574,null,22,24]
[null,null,null,null,null,null,null,null,null,null,null,null,575,null,23,24]
[null,null,null,null,null,null,null,null,null,null,null,null,576,null,24,24]